BEGIN:VCALENDAR
VERSION:2.0
PRODID:-//St. Petersburg Museum of History | St. Petersburg, Florida - ECPv6.15.17.1//NONSGML v1.0//EN
CALSCALE:GREGORIAN
METHOD:PUBLISH
X-WR-CALNAME:St. Petersburg Museum of History | St. Petersburg, Florida
X-ORIGINAL-URL:https://spmoh.com
X-WR-CALDESC:Events for St. Petersburg Museum of History | St. Petersburg, Florida
REFRESH-INTERVAL;VALUE=DURATION:PT1H
X-Robots-Tag:noindex
X-PUBLISHED-TTL:PT1H
BEGIN:VTIMEZONE
TZID:America/New_York
BEGIN:DAYLIGHT
TZOFFSETFROM:-0500
TZOFFSETTO:-0400
TZNAME:EDT
DTSTART:20220313T070000
END:DAYLIGHT
BEGIN:STANDARD
TZOFFSETFROM:-0400
TZOFFSETTO:-0500
TZNAME:EST
DTSTART:20221106T060000
END:STANDARD
BEGIN:DAYLIGHT
TZOFFSETFROM:-0500
TZOFFSETTO:-0400
TZNAME:EDT
DTSTART:20230312T070000
END:DAYLIGHT
BEGIN:STANDARD
TZOFFSETFROM:-0400
TZOFFSETTO:-0500
TZNAME:EST
DTSTART:20231105T060000
END:STANDARD
BEGIN:DAYLIGHT
TZOFFSETFROM:-0500
TZOFFSETTO:-0400
TZNAME:EDT
DTSTART:20240310T070000
END:DAYLIGHT
BEGIN:STANDARD
TZOFFSETFROM:-0400
TZOFFSETTO:-0500
TZNAME:EST
DTSTART:20241103T060000
END:STANDARD
END:VTIMEZONE
BEGIN:VEVENT
DTSTART;TZID=America/New_York:20231014T190000
DTEND;TZID=America/New_York:20231014T220000
DTSTAMP:20260423T092424
CREATED:20230908T204335Z
LAST-MODIFIED:20231003T200903Z
UID:12863-1697310000-1697320800@spmoh.com
SUMMARY:Cocktails on the Courts!
DESCRIPTION:Celebrate Vintage Florida at Cocktails on the Courts! \nSaturday\, Oct. 14\, 2023 \n7pm – 10pm \nA vintage Florida party featuring live music\, dancing under the stars\, unlimited Florida cuisine & cocktails and of course\, shuffleboard! All proceeds benefit the Museum of History and its mission of preserving the history of St. Pete! \nTickets are available for $100\, or two tickets for $175. \n\n\n\nRegister Now\n \n\n 
URL:https://spmoh.com/event/cocktails-on-the-courts/
LOCATION:St Petersburg Shuffleboard Club\, 559 Mirror Lake Dr N\, St. Petersburg\, 33701
CATEGORIES:Special Event
ATTACH;FMTTYPE=image/jpeg:https://spmoh.com/wp-content/uploads/2023/09/COTC-2023-Digital-Cover.jpg
ORGANIZER;CN="Museum Services":MAILTO:info@spmoh.org
END:VEVENT
END:VCALENDAR