BEGIN:VCALENDAR
VERSION:2.0
PRODID:-//St. Petersburg Museum of History | St. Petersburg, Florida - ECPv6.15.17.1//NONSGML v1.0//EN
CALSCALE:GREGORIAN
METHOD:PUBLISH
X-WR-CALNAME:St. Petersburg Museum of History | St. Petersburg, Florida
X-ORIGINAL-URL:https://spmoh.com
X-WR-CALDESC:Events for St. Petersburg Museum of History | St. Petersburg, Florida
REFRESH-INTERVAL;VALUE=DURATION:PT1H
X-Robots-Tag:noindex
X-PUBLISHED-TTL:PT1H
BEGIN:VTIMEZONE
TZID:America/New_York
BEGIN:DAYLIGHT
TZOFFSETFROM:-0500
TZOFFSETTO:-0400
TZNAME:EDT
DTSTART:20210314T070000
END:DAYLIGHT
BEGIN:STANDARD
TZOFFSETFROM:-0400
TZOFFSETTO:-0500
TZNAME:EST
DTSTART:20211107T060000
END:STANDARD
BEGIN:DAYLIGHT
TZOFFSETFROM:-0500
TZOFFSETTO:-0400
TZNAME:EDT
DTSTART:20220313T070000
END:DAYLIGHT
BEGIN:STANDARD
TZOFFSETFROM:-0400
TZOFFSETTO:-0500
TZNAME:EST
DTSTART:20221106T060000
END:STANDARD
BEGIN:DAYLIGHT
TZOFFSETFROM:-0500
TZOFFSETTO:-0400
TZNAME:EDT
DTSTART:20230312T070000
END:DAYLIGHT
BEGIN:STANDARD
TZOFFSETFROM:-0400
TZOFFSETTO:-0500
TZNAME:EST
DTSTART:20231105T060000
END:STANDARD
END:VTIMEZONE
BEGIN:VEVENT
DTSTART;TZID=America/New_York:20220924T190000
DTEND;TZID=America/New_York:20220924T220000
DTSTAMP:20260425T132516
CREATED:20220608T195240Z
LAST-MODIFIED:20220924T173826Z
UID:11852-1664046000-1664056800@spmoh.com
SUMMARY:Cocktails on the Courts 2022
DESCRIPTION:Online ticket sales have closed. Please purchase your tickets at the door\nJoin the Museum of History’s Vintage Florida Celebration at the St. Petersburg Shuffleboard Club September 24th!\nEnjoy a 50s-themed night under the stars with shuffleboard\, unlimited Florida cuisine & cocktails and live entertainment\, all supporting the Museum of History\nPre-sale tickets are available for $100\, or two tickets for $175.\n\nRegister Now!\n\nAdmission includes: \n● Shuffleboard\n● Performances from The Black Honkeys\n● Unlimited Florida Cuisine & Cocktails\n● 1950s Fashion Show\n● Live Florida Art Demonstration\n● Appearances from Elvis Presley and Marilyn Monroe \nSPMOH Members receive 10% off using the promo code provided exclusively to Members! Members receive exclusive discounts to Cocktails on the Courts and more. Please call our guest relations desk at 727.894.1052 ext. 200 to learn more about membership benefits. \nSign up for the Silent Auction now!\nWe look forward to seeing you at the Courts September 24th! \nCostumes are encouraged but not required. \nBecome a Court Sponsor!\nSponsor Benefits include:\n● Admission for six (6) to Cocktails on the Courts\n● Private court in the Stadium court area\n● Reserved table\n● VIP bar service\n● Logo/ name recognition on private court signage\n● Logo/ name recognition on event program\n\n2022 COTC Court Sponsor form\nContact macey@spmoh.org to sign up as a Court Sponsor today!
URL:https://spmoh.com/event/cocktailsonthecourts2022/
LOCATION:St Petersburg Shuffleboard Club\, 559 Mirror Lake Dr N\, St. Petersburg\, 33701
CATEGORIES:Special Event
ATTACH;FMTTYPE=image/png:https://spmoh.com/wp-content/uploads/2022/07/COTC-2022-POSTCARDS.png
ORGANIZER;CN="Museum Services":MAILTO:info@spmoh.org
END:VEVENT
END:VCALENDAR