BEGIN:VCALENDAR
VERSION:2.0
PRODID:-//St. Petersburg Museum of History | St. Petersburg, Florida - ECPv6.15.17.1//NONSGML v1.0//EN
CALSCALE:GREGORIAN
METHOD:PUBLISH
X-WR-CALNAME:St. Petersburg Museum of History | St. Petersburg, Florida
X-ORIGINAL-URL:https://spmoh.com
X-WR-CALDESC:Events for St. Petersburg Museum of History | St. Petersburg, Florida
REFRESH-INTERVAL;VALUE=DURATION:PT1H
X-Robots-Tag:noindex
X-PUBLISHED-TTL:PT1H
BEGIN:VTIMEZONE
TZID:America/New_York
BEGIN:DAYLIGHT
TZOFFSETFROM:-0500
TZOFFSETTO:-0400
TZNAME:EDT
DTSTART:20230312T070000
END:DAYLIGHT
BEGIN:STANDARD
TZOFFSETFROM:-0400
TZOFFSETTO:-0500
TZNAME:EST
DTSTART:20231105T060000
END:STANDARD
BEGIN:DAYLIGHT
TZOFFSETFROM:-0500
TZOFFSETTO:-0400
TZNAME:EDT
DTSTART:20240310T070000
END:DAYLIGHT
BEGIN:STANDARD
TZOFFSETFROM:-0400
TZOFFSETTO:-0500
TZNAME:EST
DTSTART:20241103T060000
END:STANDARD
BEGIN:DAYLIGHT
TZOFFSETFROM:-0500
TZOFFSETTO:-0400
TZNAME:EDT
DTSTART:20250309T070000
END:DAYLIGHT
BEGIN:STANDARD
TZOFFSETFROM:-0400
TZOFFSETTO:-0500
TZNAME:EST
DTSTART:20251102T060000
END:STANDARD
END:VTIMEZONE
BEGIN:VEVENT
DTSTART;TZID=America/New_York:20240604T180000
DTEND;TZID=America/New_York:20240604T200000
DTSTAMP:20260423T125748
CREATED:20240527T200250Z
LAST-MODIFIED:20240527T200250Z
UID:13637-1717524000-1717531200@spmoh.com
SUMMARY:Florida Girls - A Book Signing with L.L. Kirchner
DESCRIPTION:Florida Girls weaves a complex tale of women doing what they can to survive and thrive in a society controlled by men. \nL.L. Kirchner is an award-winning screenwriter and author. Her work has appeared in the Washington Post\, Salon\, and The Rumpus among other outlets. \nFlorida Girls is her debut novel and is centered around 18-year-old Thelma Miles\, who joins a troupe of touring Florida swimsuit models near the close of World War II. These women come together from different backgrounds in a world of crime and glamour in Florida! \nCopies of Florida Girls will be available for purchase! \nRegister Now
URL:https://spmoh.com/event/florida-girls-a-book-signing-with-l-l-kirchner/
LOCATION:St. Petersburg Museum of History\, 335 2nd Ave NE\, St. Petersburg\, FL\, 33701\, United States
CATEGORIES:Special Event
ATTACH;FMTTYPE=image/jpeg:https://spmoh.com/wp-content/uploads/2024/05/DSC0239.jpg
ORGANIZER;CN="Museum Services":MAILTO:info@spmoh.org
END:VEVENT
END:VCALENDAR