BEGIN:VCALENDAR
VERSION:2.0
PRODID:-//St. Petersburg Museum of History | St. Petersburg, Florida - ECPv6.15.17.1//NONSGML v1.0//EN
CALSCALE:GREGORIAN
METHOD:PUBLISH
X-WR-CALNAME:St. Petersburg Museum of History | St. Petersburg, Florida
X-ORIGINAL-URL:https://spmoh.com
X-WR-CALDESC:Events for St. Petersburg Museum of History | St. Petersburg, Florida
REFRESH-INTERVAL;VALUE=DURATION:PT1H
X-Robots-Tag:noindex
X-PUBLISHED-TTL:PT1H
BEGIN:VTIMEZONE
TZID:America/New_York
BEGIN:DAYLIGHT
TZOFFSETFROM:-0500
TZOFFSETTO:-0400
TZNAME:EDT
DTSTART:20210314T070000
END:DAYLIGHT
BEGIN:STANDARD
TZOFFSETFROM:-0400
TZOFFSETTO:-0500
TZNAME:EST
DTSTART:20211107T060000
END:STANDARD
BEGIN:DAYLIGHT
TZOFFSETFROM:-0500
TZOFFSETTO:-0400
TZNAME:EDT
DTSTART:20220313T070000
END:DAYLIGHT
BEGIN:STANDARD
TZOFFSETFROM:-0400
TZOFFSETTO:-0500
TZNAME:EST
DTSTART:20221106T060000
END:STANDARD
BEGIN:DAYLIGHT
TZOFFSETFROM:-0500
TZOFFSETTO:-0400
TZNAME:EDT
DTSTART:20230312T070000
END:DAYLIGHT
BEGIN:STANDARD
TZOFFSETFROM:-0400
TZOFFSETTO:-0500
TZNAME:EST
DTSTART:20231105T060000
END:STANDARD
END:VTIMEZONE
BEGIN:VEVENT
DTSTART;TZID=America/New_York:20221030T183000
DTEND;TZID=America/New_York:20221030T203000
DTSTAMP:20260423T155832
CREATED:20221022T205116Z
LAST-MODIFIED:20221022T205116Z
UID:12164-1667154600-1667161800@spmoh.com
SUMMARY:Ghostly Trolley Tour: October 30
DESCRIPTION:Join us Sunday\, October 30 for a Ghostly Trolley Tour featuring special guest Tour Guide Dr. Brandy Stark!\n\nBrandy Stark resides in St. Petersburg Florida. She is an artist and historian with a flair for mythology and the supernatural. After earning her third graduate degree (Religious Studies\, Humanities\, Liberal Studies) and her PhD (Education)\, she bought the house next door to her mother. The two have a shared yard utilized by their shared pack of pugs. When not working on art or writing\, Dr. Stark does paranormal investigation and studies urban legends.\n \nReserve now—there are only 28 seats available! Parties are limited to 2 guests.  \n\nSIGN UP TODAY!\nOR CONTACT GUEST RELATIONS AT 727-894-1052 EXT. 200!\n\n\nMembers receive a special discount – Become a member today!\n\nPlease arrive 15 minutes before departure. There will be no refunds or exchanges for those missing the tour after the trolley departs.\n\n\nMembers: $35 | Not-yet-members: $45
URL:https://spmoh.com/event/ghostly-trolley-tour-october-30/
LOCATION:St. Petersburg Museum of History\, 335 2nd Ave NE\, St. Petersburg\, FL\, 33701\, United States
CATEGORIES:Trolley Tours
ATTACH;FMTTYPE=image/png:https://spmoh.com/wp-content/uploads/2022/10/Ghostly-Trolley-Tour-IG-Post.png
ORGANIZER;CN="Museum Services":MAILTO:info@spmoh.org
END:VEVENT
END:VCALENDAR