BEGIN:VCALENDAR
VERSION:2.0
PRODID:-//St. Petersburg Museum of History | St. Petersburg, Florida - ECPv6.15.17.1//NONSGML v1.0//EN
CALSCALE:GREGORIAN
METHOD:PUBLISH
X-WR-CALNAME:St. Petersburg Museum of History | St. Petersburg, Florida
X-ORIGINAL-URL:https://spmoh.com
X-WR-CALDESC:Events for St. Petersburg Museum of History | St. Petersburg, Florida
REFRESH-INTERVAL;VALUE=DURATION:PT1H
X-Robots-Tag:noindex
X-PUBLISHED-TTL:PT1H
BEGIN:VTIMEZONE
TZID:America/New_York
BEGIN:DAYLIGHT
TZOFFSETFROM:-0500
TZOFFSETTO:-0400
TZNAME:EDT
DTSTART:20230312T070000
END:DAYLIGHT
BEGIN:STANDARD
TZOFFSETFROM:-0400
TZOFFSETTO:-0500
TZNAME:EST
DTSTART:20231105T060000
END:STANDARD
BEGIN:DAYLIGHT
TZOFFSETFROM:-0500
TZOFFSETTO:-0400
TZNAME:EDT
DTSTART:20240310T070000
END:DAYLIGHT
BEGIN:STANDARD
TZOFFSETFROM:-0400
TZOFFSETTO:-0500
TZNAME:EST
DTSTART:20241103T060000
END:STANDARD
BEGIN:DAYLIGHT
TZOFFSETFROM:-0500
TZOFFSETTO:-0400
TZNAME:EDT
DTSTART:20250309T070000
END:DAYLIGHT
BEGIN:STANDARD
TZOFFSETFROM:-0400
TZOFFSETTO:-0500
TZNAME:EST
DTSTART:20251102T060000
END:STANDARD
END:VTIMEZONE
BEGIN:VEVENT
DTSTART;TZID=America/New_York:20240613T180000
DTEND;TZID=America/New_York:20240613T200000
DTSTAMP:20260423T094509
CREATED:20240604T162022Z
LAST-MODIFIED:20240604T162022Z
UID:13218-1718301600-1718308800@spmoh.com
SUMMARY:Happy Hour with the Historian-Britain's Loyal Colonies Lost: The Revolution in Florida
DESCRIPTION:The St. Petersburg Museum of History and Southern Roots Realty invites you on Thursday\, June 13th to Happy Hour with the Historian featuring Dr. David Head and Britain’s Loyal Colonies Lost: The Revolution in Florida \nAs 13 of Britain’s colonies declared independence in 1776\, the empire’s Florida colonies\, East Florida and West Florida\, remained loyal to King George. Eyed by American and Spanish forces alike\, the Floridas were soon engulfed in war. This speaker shares the often-overlooked story of Florida in the War of Independence. \nDavid Head has published four books\, including Privateers of the Americas: Spanish American Privateering from the U.S. in the Early Republic\, The Golden Age of Piracy\, and A Crisis of Peace: George Washington\, the Newburgh Conspiracy\, and the Fate of the American Revolution. \nPresented by Southern Roots Realty\, Happy Hour with the Historian is frequently sold out\, so please purchase tickets in advance. Admission without advanced purchase cannot be guaranteed.  \n\n\n\n\nMembers: $5 | Not-yet-members: $10\n\nCash bar provided.\nDoors open at 6PM. Program begins at 6:30PM.\nSeating is limited\, reserve your seats today! \nRegister Now\n \nNOTE: Seat assignments are not pre-assigned. Please arrive at 6PM if you require a special seating arrangement. \nPresented by:
URL:https://spmoh.com/event/happy-hour-with-the-historian-britains-loyal-colonies-lost-the-revolution-in-florida-2/
LOCATION:St. Petersburg Museum of History\, 335 2nd Ave NE\, St. Petersburg\, FL\, 33701\, United States
CATEGORIES:Happy Hour with the Historian
ATTACH;FMTTYPE=image/jpeg:https://spmoh.com/wp-content/uploads/2024/06/amrev62.jpg
ORGANIZER;CN="Museum Services":MAILTO:info@spmoh.org
END:VEVENT
END:VCALENDAR