BEGIN:VCALENDAR
VERSION:2.0
PRODID:-//St. Petersburg Museum of History | St. Petersburg, Florida - ECPv6.15.17.1//NONSGML v1.0//EN
CALSCALE:GREGORIAN
METHOD:PUBLISH
X-WR-CALNAME:St. Petersburg Museum of History | St. Petersburg, Florida
X-ORIGINAL-URL:https://spmoh.com
X-WR-CALDESC:Events for St. Petersburg Museum of History | St. Petersburg, Florida
REFRESH-INTERVAL;VALUE=DURATION:PT1H
X-Robots-Tag:noindex
X-PUBLISHED-TTL:PT1H
BEGIN:VTIMEZONE
TZID:America/New_York
BEGIN:DAYLIGHT
TZOFFSETFROM:-0500
TZOFFSETTO:-0400
TZNAME:EDT
DTSTART:20230312T070000
END:DAYLIGHT
BEGIN:STANDARD
TZOFFSETFROM:-0400
TZOFFSETTO:-0500
TZNAME:EST
DTSTART:20231105T060000
END:STANDARD
BEGIN:DAYLIGHT
TZOFFSETFROM:-0500
TZOFFSETTO:-0400
TZNAME:EDT
DTSTART:20240310T070000
END:DAYLIGHT
BEGIN:STANDARD
TZOFFSETFROM:-0400
TZOFFSETTO:-0500
TZNAME:EST
DTSTART:20241103T060000
END:STANDARD
BEGIN:DAYLIGHT
TZOFFSETFROM:-0500
TZOFFSETTO:-0400
TZNAME:EDT
DTSTART:20250309T070000
END:DAYLIGHT
BEGIN:STANDARD
TZOFFSETFROM:-0400
TZOFFSETTO:-0500
TZNAME:EST
DTSTART:20251102T060000
END:STANDARD
END:VTIMEZONE
BEGIN:VEVENT
DTSTART;TZID=America/New_York:20240716T183000
DTEND;TZID=America/New_York:20240716T203000
DTSTAMP:20260423T094356
CREATED:20240626T180356Z
LAST-MODIFIED:20240626T180356Z
UID:13216-1721154600-1721161800@spmoh.com
SUMMARY:Happy Hour with the Historian- Hurricanes: 100 Years of Close Calls with News Channel 8's Jeff Berardelli
DESCRIPTION:It’s been over 100 years since St. Petersburg has suffered a direct hit from a hurricane. Is it an old Native curse? Or just pure luck? Join us on TUESDAY\, JULY 16 at a special time\, as News Channel 8’s Jeff Berardelli explains why! This edition of Happy Hour has moved from its traditional day of Thursday to Tuesday and will start later. Doors are at 6:30pm\, with the program at 7pm. \nWith over two decades of experience forecasting Florida’s severe weather\, Berardelli is WFLA News Channel 8’s Chief Meteorologist and Climate Specialist and leader of the Max Defender 8 Weather Team. \nPresented by Southern Roots Realty\, Happy Hour with the Historian is frequently sold out\, so please purchase tickets in advance. Admission without advanced purchase cannot be guaranteed.  \n\n\n\nMembers: $5 | Not-yet-members: $10\nCash bar provided.\nDoors open at 6:30PM. Program begins at 7:00PM.\nSeating is limited\, reserve your seats today! \nRegister Now\n \nNOTE: Seat assignments are not pre-assigned. Please arrive at 6PM if you require a special seating arrangement. \nPresented by:
URL:https://spmoh.com/event/happy-hour-with-the-historian-britains-loyal-colonies-lost-the-revolution-in-florida/
LOCATION:St. Petersburg Museum of History\, 335 2nd Ave NE\, St. Petersburg\, FL\, 33701\, United States
CATEGORIES:Happy Hour with the Historian
ATTACH;FMTTYPE=image/png:https://spmoh.com/wp-content/uploads/2024/01/Screenshot-145.png
ORGANIZER;CN="Museum Services":MAILTO:info@spmoh.org
END:VEVENT
END:VCALENDAR