BEGIN:VCALENDAR
VERSION:2.0
PRODID:-//St. Petersburg Museum of History | St. Petersburg, Florida - ECPv6.15.17.1//NONSGML v1.0//EN
CALSCALE:GREGORIAN
METHOD:PUBLISH
X-WR-CALNAME:St. Petersburg Museum of History | St. Petersburg, Florida
X-ORIGINAL-URL:https://spmoh.com
X-WR-CALDESC:Events for St. Petersburg Museum of History | St. Petersburg, Florida
REFRESH-INTERVAL;VALUE=DURATION:PT1H
X-Robots-Tag:noindex
X-PUBLISHED-TTL:PT1H
BEGIN:VTIMEZONE
TZID:America/New_York
BEGIN:DAYLIGHT
TZOFFSETFROM:-0500
TZOFFSETTO:-0400
TZNAME:EDT
DTSTART:20210314T070000
END:DAYLIGHT
BEGIN:STANDARD
TZOFFSETFROM:-0400
TZOFFSETTO:-0500
TZNAME:EST
DTSTART:20211107T060000
END:STANDARD
BEGIN:DAYLIGHT
TZOFFSETFROM:-0500
TZOFFSETTO:-0400
TZNAME:EDT
DTSTART:20220313T070000
END:DAYLIGHT
BEGIN:STANDARD
TZOFFSETFROM:-0400
TZOFFSETTO:-0500
TZNAME:EST
DTSTART:20221106T060000
END:STANDARD
BEGIN:DAYLIGHT
TZOFFSETFROM:-0500
TZOFFSETTO:-0400
TZNAME:EDT
DTSTART:20230312T070000
END:DAYLIGHT
BEGIN:STANDARD
TZOFFSETFROM:-0400
TZOFFSETTO:-0500
TZNAME:EST
DTSTART:20231105T060000
END:STANDARD
END:VTIMEZONE
BEGIN:VEVENT
DTSTART;TZID=America/New_York:20221013T183000
DTEND;TZID=America/New_York:20221013T200000
DTSTAMP:20260423T130032
CREATED:20220506T173833Z
LAST-MODIFIED:20221007T185545Z
UID:11721-1665685800-1665691200@spmoh.com
SUMMARY:Happy Hour with the Historian: Dr. Brandy Stark | Supernatural St. Petersburg and Paranormal Pinellas
DESCRIPTION:Join us on Thursday\, October 13th as the Museum of History and UPC Insurance welcome Dr. Brandy Stark and her presentation\, “Supernatural St. Petersburg and Paranormal Pinellas.” \nBrandy Stark resides in St. Petersburg Florida. She is an artist and historian with a flair for mythology and the supernatural. After earning her third graduate degree (Religious Studies\, Humanities\, Liberal Studies) and her PhD (Education)\, she bought the house next door to her mother. The two have a shared yard utilized by their shared pack of pugs. When not working on art or writing\, Dr. Stark does paranormal investigation and studies urban legends.\n \nREGISTER/TICKETS HERE!\nPresented by UPC Insurance\, Happy Hour with the Historian is frequently sold out\, so reservations are required. Admission without a reservation cannot be guaranteed. Reservations close the day of the event. \nMembers: FREE | Not-yet-members: $10 \nCash bar provided. \nDoors open at 6pm. Program begins at 6:30pm. \nSeating is limited\, reserve your seats today!
URL:https://spmoh.com/event/happy-hour-with-the-historian-dr-brandy-stark-supernatural-st-petersburg-and-paranormal-pinellas/
LOCATION:St. Petersburg Museum of History\, 335 2nd Ave NE\, St. Petersburg\, FL\, 33701\, United States
CATEGORIES:Happy Hour with the Historian
ORGANIZER;CN="Museum Services":MAILTO:info@spmoh.org
END:VEVENT
END:VCALENDAR