BEGIN:VCALENDAR
VERSION:2.0
PRODID:-//St. Petersburg Museum of History | St. Petersburg, Florida - ECPv6.15.17.1//NONSGML v1.0//EN
CALSCALE:GREGORIAN
METHOD:PUBLISH
X-WR-CALNAME:St. Petersburg Museum of History | St. Petersburg, Florida
X-ORIGINAL-URL:https://spmoh.com
X-WR-CALDESC:Events for St. Petersburg Museum of History | St. Petersburg, Florida
REFRESH-INTERVAL;VALUE=DURATION:PT1H
X-Robots-Tag:noindex
X-PUBLISHED-TTL:PT1H
BEGIN:VTIMEZONE
TZID:America/New_York
BEGIN:DAYLIGHT
TZOFFSETFROM:-0500
TZOFFSETTO:-0400
TZNAME:EDT
DTSTART:20210314T070000
END:DAYLIGHT
BEGIN:STANDARD
TZOFFSETFROM:-0400
TZOFFSETTO:-0500
TZNAME:EST
DTSTART:20211107T060000
END:STANDARD
BEGIN:DAYLIGHT
TZOFFSETFROM:-0500
TZOFFSETTO:-0400
TZNAME:EDT
DTSTART:20220313T070000
END:DAYLIGHT
BEGIN:STANDARD
TZOFFSETFROM:-0400
TZOFFSETTO:-0500
TZNAME:EST
DTSTART:20221106T060000
END:STANDARD
BEGIN:DAYLIGHT
TZOFFSETFROM:-0500
TZOFFSETTO:-0400
TZNAME:EDT
DTSTART:20230312T070000
END:DAYLIGHT
BEGIN:STANDARD
TZOFFSETFROM:-0400
TZOFFSETTO:-0500
TZNAME:EST
DTSTART:20231105T060000
END:STANDARD
END:VTIMEZONE
BEGIN:VEVENT
DTSTART;TZID=America/New_York:20220512T183000
DTEND;TZID=America/New_York:20220512T200000
DTSTAMP:20260423T143331
CREATED:20220506T084033Z
LAST-MODIFIED:20220507T231341Z
UID:11696-1652380200-1652385600@spmoh.com
SUMMARY:Happy Hour with the Historian: Dr. Gary Mormino\, Dreams in the New Century: Instant Cities\, Shattered Hopes\, and Florida’s Turning Point
DESCRIPTION:Join the St. Petersburg Museum of History on Thursday\, May 12 as the museum\, UPC Insurance and Florida Humanities welcomes Dr. Gary Mormino and his presentation\, “Dreams in the New Century: Instant Cities\, Shattered Hopes and Florida’s Turning Point\,” with a special book signing. \nGary Mormino is an author of a wide range of academic and popular books. Immigrants on the Hill (University of Illinois press\, 1986) won the Howard Marraro Prize as the outstanding book in Italian history. The Immigrant World of Ybor City (University of Illinois Press\, 1987) received the Theodore Saloutos Prize for the outstanding book in ethnic-immigration history. In addition\, two of his articles have received prizes for the best writing in Florida history. He has written for the St. Petersburg Times\, Orlando Sentinel\, and Miami Herald. \nAlmost two decades ago\, Mormino began to research a social history of modern Florida. Land of Sunshine\, State of Dreams: A Social History of Modern Florida was published in the spring of 2005 by the University Press of Florida. Readers have called it a seminal study in state history. In 2006\, the Florida Historical Society awarded the book the Charlton Tebeau Prize. Dr. Mormino received his Ph.D. from the University of North Carolina and has taught at USF since 1977. In 2003\,  Florida Humanities named him its first Humanist of the Year.
URL:https://spmoh.com/event/happy-hour-with-the-historian-dr-gary-mormino-dreams-in-the-new-century-instant-cities-shattered-hopes-and-floridas-turning-point/
LOCATION:St. Petersburg Museum of History\, 335 2nd Ave NE\, St. Petersburg\, FL\, 33701\, United States
CATEGORIES:Happy Hour with the Historian
ATTACH;FMTTYPE=image/jpeg:https://spmoh.com/wp-content/uploads/2022/05/Gary-Mormino.jpg
ORGANIZER;CN="Museum Services":MAILTO:info@spmoh.org
END:VEVENT
END:VCALENDAR