BEGIN:VCALENDAR
VERSION:2.0
PRODID:-//St. Petersburg Museum of History | St. Petersburg, Florida - ECPv6.15.17.1//NONSGML v1.0//EN
CALSCALE:GREGORIAN
METHOD:PUBLISH
X-WR-CALNAME:St. Petersburg Museum of History | St. Petersburg, Florida
X-ORIGINAL-URL:https://spmoh.com
X-WR-CALDESC:Events for St. Petersburg Museum of History | St. Petersburg, Florida
REFRESH-INTERVAL;VALUE=DURATION:PT1H
X-Robots-Tag:noindex
X-PUBLISHED-TTL:PT1H
BEGIN:VTIMEZONE
TZID:America/New_York
BEGIN:DAYLIGHT
TZOFFSETFROM:-0500
TZOFFSETTO:-0400
TZNAME:EDT
DTSTART:20210314T070000
END:DAYLIGHT
BEGIN:STANDARD
TZOFFSETFROM:-0400
TZOFFSETTO:-0500
TZNAME:EST
DTSTART:20211107T060000
END:STANDARD
BEGIN:DAYLIGHT
TZOFFSETFROM:-0500
TZOFFSETTO:-0400
TZNAME:EDT
DTSTART:20220313T070000
END:DAYLIGHT
BEGIN:STANDARD
TZOFFSETFROM:-0400
TZOFFSETTO:-0500
TZNAME:EST
DTSTART:20221106T060000
END:STANDARD
BEGIN:DAYLIGHT
TZOFFSETFROM:-0500
TZOFFSETTO:-0400
TZNAME:EDT
DTSTART:20230312T070000
END:DAYLIGHT
BEGIN:STANDARD
TZOFFSETFROM:-0400
TZOFFSETTO:-0500
TZNAME:EST
DTSTART:20231105T060000
END:STANDARD
END:VTIMEZONE
BEGIN:VEVENT
DTSTART;TZID=America/New_York:20220908T183000
DTEND;TZID=America/New_York:20220908T200000
DTSTAMP:20260423T130053
CREATED:20220506T173644Z
LAST-MODIFIED:20220825T164910Z
UID:11719-1662661800-1662667200@spmoh.com
SUMMARY:Happy Hour with the Historian: Rachel Sanderson | La Florida: The Interactive Digital Archives of the Americas
DESCRIPTION:Join us on Thursday\, September 8th as the Museum of History and UPC Insurance welcome Dr. Rachel Sanderson and her presentation\, “La Florida: The Interactive Digital Archives of the Americas.”\nSign up here!\nRachel L. Sanderson serves as the Associate Director of La Florida: The Interactive Digital Archive of the Americas\, a position she has held since the project’s inception in 2016. She earned a BFA from the University of Tampa and a BA in History from the University of South Florida\, St. Petersburg. In 2017\, Sanderson graduated with an MLA in Florida Studies from the USFSP. Her thesis project focused on the lives of two noble women in sixteenth-century Florida\, one a young Spanish woman and one a female Indian chief. Sanderson has presented her research at several national conferences. After working in the field for five years\, Sanderson was admitted into the Ph.D. program in History at the University of South Florida. In her first year in the doctoral program\, Sanderson was one of just eight graduate students selected to participate in the prestigious Spanish Colonial Borderlands workshop\, sponsored by The Huntington Library in San Marino\, California. In 2022\, Sanderson received the Leland Hawes Essay prize for the best paper in Florida studies. \nTeaching La Florida with the Interactive Digital Archive of the Americas will highlight the ways in which rigorous academic research in collaboration with cutting-edge technology can bring the history of daily life in colonial Florida to a global audience. \nThe presentation will focus on an initiative titled\, Lost Voices from America’s Oldest Parish Archive\, 1594-1821\, a project designed to make St. Augustine’s diocesan archives accessible to a global audience. Together\, these ecclesiastical records provide unparalleled insight into the daily lives of colonial St. Augustine’s multi-ethnic inhabitants\, and the relationships between the settlement’s African\, European\, and Native American residents. The collaborative two-year project is designed to engage a global audience\, specialists and non-specialists alike. La Florida’s user-friendly platform makes these records freely accessible for teachers\, students\, scholars\, genealogists\, and the general public. \nPresented by UPC Insurance\, Happy Hour with the Historian is frequently sold out\, so reservations are required. Admission without a reservation cannot be guaranteed. Reservations close the day of the event.   \nMembers: FREE | Not-yet-members: $10 \nCash bar provided. \nDoors open at 6pm. Program begins at 6:30pm. \nSeating is limited\, reserve your seats today!
URL:https://spmoh.com/event/happy-hour-with-the-historian-dr-rachel-sanderson-la-florida-the-interactive-digital-archives-of-the-americas/
LOCATION:St. Petersburg Museum of History\, 335 2nd Ave NE\, St. Petersburg\, FL\, 33701\, United States
CATEGORIES:Happy Hour with the Historian
ATTACH;FMTTYPE=image/png:https://spmoh.com/wp-content/uploads/2022/05/happy-hour-with-the-historian-ig-square-0908-1.png
ORGANIZER;CN="Museum Services":MAILTO:info@spmoh.org
END:VEVENT
END:VCALENDAR