BEGIN:VCALENDAR
VERSION:2.0
PRODID:-//St. Petersburg Museum of History | St. Petersburg, Florida - ECPv6.15.17.1//NONSGML v1.0//EN
CALSCALE:GREGORIAN
METHOD:PUBLISH
X-WR-CALNAME:St. Petersburg Museum of History | St. Petersburg, Florida
X-ORIGINAL-URL:https://spmoh.com
X-WR-CALDESC:Events for St. Petersburg Museum of History | St. Petersburg, Florida
REFRESH-INTERVAL;VALUE=DURATION:PT1H
X-Robots-Tag:noindex
X-PUBLISHED-TTL:PT1H
BEGIN:VTIMEZONE
TZID:America/New_York
BEGIN:DAYLIGHT
TZOFFSETFROM:-0500
TZOFFSETTO:-0400
TZNAME:EDT
DTSTART:20220313T070000
END:DAYLIGHT
BEGIN:STANDARD
TZOFFSETFROM:-0400
TZOFFSETTO:-0500
TZNAME:EST
DTSTART:20221106T060000
END:STANDARD
BEGIN:DAYLIGHT
TZOFFSETFROM:-0500
TZOFFSETTO:-0400
TZNAME:EDT
DTSTART:20230312T070000
END:DAYLIGHT
BEGIN:STANDARD
TZOFFSETFROM:-0400
TZOFFSETTO:-0500
TZNAME:EST
DTSTART:20231105T060000
END:STANDARD
BEGIN:DAYLIGHT
TZOFFSETFROM:-0500
TZOFFSETTO:-0400
TZNAME:EDT
DTSTART:20240310T070000
END:DAYLIGHT
BEGIN:STANDARD
TZOFFSETFROM:-0400
TZOFFSETTO:-0500
TZNAME:EST
DTSTART:20241103T060000
END:STANDARD
END:VTIMEZONE
BEGIN:VEVENT
DTSTART;TZID=America/New_York:20230511T183000
DTEND;TZID=America/New_York:20230511T200000
DTSTAMP:20260423T172737
CREATED:20230426T221450Z
LAST-MODIFIED:20230428T155557Z
UID:12390-1683829800-1683835200@spmoh.com
SUMMARY:Happy Hour with the Historian - Skyway: The True Story of Tampa Bay's Signature Bridge and the Man Who Brought it Down
DESCRIPTION:On a dark\, stormy morning on May 9\, 1980\, the Sunshine Skyway Bridge – an engineering marvel – was struck by a ship. The southbound span collapsed into Tampa Bay and moments later cars and a Greyhound bus drove off the broken bridge\, falling into the water below. Thirty-five people lost their lives. \nThe St. Petersburg Museum of History and Southern Roots Realty invite you to Happy Hour with the Historian featuring author and historian Bill DeYoung and his story of the Skyway and the man who brought it down. \nAfter a 35-year career with Florida newspapers\, DeYoung is now a senior writer and editor for the St. Pete Catalyst. DeYoung has also authored “Skyway: The True Story of Tampa Bay’s Signature Bridge and the Man Who Brought it Down” (University Press of Florida\, 2013)\, “Phil Gernhard Record Man” (University Press of Florida\, 2018)\, “I Need to Know: The Lost Music Interviews” (St. Petersburg Press\, 2019) and “Vintage St. Pete: The Golden Age of Tourism.” \nDetails:\nMembers: $5 | Not-yet-members: $10\nCash bar provided.\nDoors open at 6pm. Program begins at 6:30pm.\nSeating is limited\, reserve your seats today! \nRegister Now\n\nNOTE: Seat assignments are not pre-assigned. Please arrive at 6PM if you require a special seating arrangement. \nPresented by:
URL:https://spmoh.com/event/happy-hour-with-the-historian-featuring-author-and-historian-bill-deyoung/
LOCATION:St. Petersburg Museum of History\, 335 2nd Ave NE\, St. Petersburg\, FL\, 33701\, United States
ATTACH;FMTTYPE=image/jpeg:https://spmoh.com/wp-content/uploads/2023/04/HHH-Blue.jpg
ORGANIZER;CN="Museum Services":MAILTO:info@spmoh.org
END:VEVENT
END:VCALENDAR