BEGIN:VCALENDAR
VERSION:2.0
PRODID:-//St. Petersburg Museum of History | St. Petersburg, Florida - ECPv6.15.17.1//NONSGML v1.0//EN
CALSCALE:GREGORIAN
METHOD:PUBLISH
X-WR-CALNAME:St. Petersburg Museum of History | St. Petersburg, Florida
X-ORIGINAL-URL:https://spmoh.com
X-WR-CALDESC:Events for St. Petersburg Museum of History | St. Petersburg, Florida
REFRESH-INTERVAL;VALUE=DURATION:PT1H
X-Robots-Tag:noindex
X-PUBLISHED-TTL:PT1H
BEGIN:VTIMEZONE
TZID:America/New_York
BEGIN:DAYLIGHT
TZOFFSETFROM:-0500
TZOFFSETTO:-0400
TZNAME:EDT
DTSTART:20220313T070000
END:DAYLIGHT
BEGIN:STANDARD
TZOFFSETFROM:-0400
TZOFFSETTO:-0500
TZNAME:EST
DTSTART:20221106T060000
END:STANDARD
BEGIN:DAYLIGHT
TZOFFSETFROM:-0500
TZOFFSETTO:-0400
TZNAME:EDT
DTSTART:20230312T070000
END:DAYLIGHT
BEGIN:STANDARD
TZOFFSETFROM:-0400
TZOFFSETTO:-0500
TZNAME:EST
DTSTART:20231105T060000
END:STANDARD
BEGIN:DAYLIGHT
TZOFFSETFROM:-0500
TZOFFSETTO:-0400
TZNAME:EDT
DTSTART:20240310T070000
END:DAYLIGHT
BEGIN:STANDARD
TZOFFSETFROM:-0400
TZOFFSETTO:-0500
TZNAME:EST
DTSTART:20241103T060000
END:STANDARD
END:VTIMEZONE
BEGIN:VEVENT
DTSTART;TZID=America/New_York:20230810T180000
DTEND;TZID=America/New_York:20230810T200000
DTSTAMP:20260423T111437
CREATED:20230726T142353Z
LAST-MODIFIED:20230726T161507Z
UID:12733-1691690400-1691697600@spmoh.com
SUMMARY:Happy Hour with the Historian: Featuring Paul Wilborn's Florida Hustle- A Wild Road Trip of 1980's Florida
DESCRIPTION:The St. Petersburg Museum of History and Southern Roots Realty invites you to join us on August 10 for Happy Hour with the Historian! \n  \nCelebrated author and historian Paul Wilborn will discuss his new novel\, Florida Hustle\, a colorful and often hilarious snapshot of Florida in the 1980s. Named one of the 100 Best Indie Books of 2022 by Kirkus Reviews\, Florida Hustle is set in 1982 when America was led by a celebrity president\, and the Sunshine State was morphing from a low-rent vacationland into a mega-state famous for theme parks and Seminole Indian casinos. This tale is pure Florida and is expertly told by award-winning journalist\, author\, pianist\, and singer Paul Wilborn. Wilborn’s Cigar City: Tales From a 1980s Creative Ghetto won the Gold Medal for Fiction in the 2019 Florida Books Award. Wilborn is the executive director of the Palladium Theater at St. Petersburg College. \n  \nPresented by Southern Roots Realty\, Happy Hour with the Historian is frequently sold out\, so reserve your seats today! \n\n\n\n\n\n\n\n\nMembers: $5 | Not-yet-members: $10\nCash bar provided.\nDoors open at 6pm. Program begins at 6:30pm.\nSeating is limited\, reserve your seats today! \nRegister Now\n\nNOTE: Seat assignments are not pre-assigned. Please arrive at 6PM if you require a special seating arrangement. \nPresented by:
URL:https://spmoh.com/event/happy-hour-with-the-historian-featuring-paul-wilborns-florida-hustle-a-wild-road-trip-of-1980s-florida/
LOCATION:St. Petersburg Museum of History\, 335 2nd Ave NE\, St. Petersburg\, FL\, 33701\, United States
CATEGORIES:Happy Hour with the Historian
ATTACH;FMTTYPE=image/png:https://spmoh.com/wp-content/uploads/2023/07/Headers-2023-02-20T122725.385.png
ORGANIZER;CN="Museum Services":MAILTO:info@spmoh.org
END:VEVENT
END:VCALENDAR