BEGIN:VCALENDAR
VERSION:2.0
PRODID:-//St. Petersburg Museum of History | St. Petersburg, Florida - ECPv6.15.17.1//NONSGML v1.0//EN
CALSCALE:GREGORIAN
METHOD:PUBLISH
X-WR-CALNAME:St. Petersburg Museum of History | St. Petersburg, Florida
X-ORIGINAL-URL:https://spmoh.com
X-WR-CALDESC:Events for St. Petersburg Museum of History | St. Petersburg, Florida
REFRESH-INTERVAL;VALUE=DURATION:PT1H
X-Robots-Tag:noindex
X-PUBLISHED-TTL:PT1H
BEGIN:VTIMEZONE
TZID:America/New_York
BEGIN:DAYLIGHT
TZOFFSETFROM:-0500
TZOFFSETTO:-0400
TZNAME:EDT
DTSTART:20240310T070000
END:DAYLIGHT
BEGIN:STANDARD
TZOFFSETFROM:-0400
TZOFFSETTO:-0500
TZNAME:EST
DTSTART:20241103T060000
END:STANDARD
BEGIN:DAYLIGHT
TZOFFSETFROM:-0500
TZOFFSETTO:-0400
TZNAME:EDT
DTSTART:20250309T070000
END:DAYLIGHT
BEGIN:STANDARD
TZOFFSETFROM:-0400
TZOFFSETTO:-0500
TZNAME:EST
DTSTART:20251102T060000
END:STANDARD
BEGIN:DAYLIGHT
TZOFFSETFROM:-0500
TZOFFSETTO:-0400
TZNAME:EDT
DTSTART:20260308T070000
END:DAYLIGHT
BEGIN:STANDARD
TZOFFSETFROM:-0400
TZOFFSETTO:-0500
TZNAME:EST
DTSTART:20261101T060000
END:STANDARD
END:VTIMEZONE
BEGIN:VEVENT
DTSTART;TZID=America/New_York:20250612T180000
DTEND;TZID=America/New_York:20250612T200000
DTSTAMP:20260423T063331
CREATED:20250522T143955Z
LAST-MODIFIED:20250604T150748Z
UID:15306-1749751200-1749758400@spmoh.com
SUMMARY:Happy Hour with the Historian - Florida: A History in Pictures
DESCRIPTION:Join us on Thursday\, June 12\, as historian Jeff Davies offers a stunning portrait of our one-of-a-kind state in Florida: A History in Pictures. \nThrough hundreds of stunning photographs\, from the stone fort at St. Augustine\, to the Everglades or “The Big Swamp” as it was called at the beginning of the 20th century to Bok Tower Gardens in Lake Wales\, the Fort Myers Beach arches and Jupiter Inlet Lighthouse\, it is all on display! Florida: A History in Pictures offers a window into the past where you can almost feel the warmth on your face and taste the oranges fresh from the grove. \nHappy Hour with the Historian is presented by Southern Roots Realty. Seating is limited\, so register today! \nPresented by Southern Roots Realty\, Happy Hour with the Historian is frequently sold out\, so please purchase tickets in advance. Admission without advanced purchase cannot be guaranteed.  \n\n\n\n\n\nMembers: $5 | Not-yet-members: $10\nCash bar provided.\nDoors open at 6PM. Program begins at 6:30PM.\nSeating is limited\, reserve your seats today! \n  \n  \nRegister Now\n \n  \n  \nNOTE: Seat assignments are not pre-assigned. Please arrive at 6PM if you require a special seating arrangement. \nPresented by:
URL:https://spmoh.com/event/happy-hour-with-the-historian-florida-a-history-in-pictures/
LOCATION:St. Petersburg Museum of History\, 335 2nd Ave NE\, St. Petersburg\, FL\, 33701\, United States
CATEGORIES:Happy Hour with the Historian
ATTACH;FMTTYPE=image/png:https://spmoh.com/wp-content/uploads/2025/05/Webbs-City.png
ORGANIZER;CN="Museum Services":MAILTO:info@spmoh.org
END:VEVENT
END:VCALENDAR