BEGIN:VCALENDAR
VERSION:2.0
PRODID:-//St. Petersburg Museum of History | St. Petersburg, Florida - ECPv6.15.17.1//NONSGML v1.0//EN
CALSCALE:GREGORIAN
METHOD:PUBLISH
X-WR-CALNAME:St. Petersburg Museum of History | St. Petersburg, Florida
X-ORIGINAL-URL:https://spmoh.com
X-WR-CALDESC:Events for St. Petersburg Museum of History | St. Petersburg, Florida
REFRESH-INTERVAL;VALUE=DURATION:PT1H
X-Robots-Tag:noindex
X-PUBLISHED-TTL:PT1H
BEGIN:VTIMEZONE
TZID:America/New_York
BEGIN:DAYLIGHT
TZOFFSETFROM:-0500
TZOFFSETTO:-0400
TZNAME:EDT
DTSTART:20220313T070000
END:DAYLIGHT
BEGIN:STANDARD
TZOFFSETFROM:-0400
TZOFFSETTO:-0500
TZNAME:EST
DTSTART:20221106T060000
END:STANDARD
BEGIN:DAYLIGHT
TZOFFSETFROM:-0500
TZOFFSETTO:-0400
TZNAME:EDT
DTSTART:20230312T070000
END:DAYLIGHT
BEGIN:STANDARD
TZOFFSETFROM:-0400
TZOFFSETTO:-0500
TZNAME:EST
DTSTART:20231105T060000
END:STANDARD
BEGIN:DAYLIGHT
TZOFFSETFROM:-0500
TZOFFSETTO:-0400
TZNAME:EDT
DTSTART:20240310T070000
END:DAYLIGHT
BEGIN:STANDARD
TZOFFSETFROM:-0400
TZOFFSETTO:-0500
TZNAME:EST
DTSTART:20241103T060000
END:STANDARD
END:VTIMEZONE
BEGIN:VEVENT
DTSTART;TZID=America/New_York:20230413T183000
DTEND;TZID=America/New_York:20230413T200000
DTSTAMP:20260423T204046
CREATED:20230410T171307Z
LAST-MODIFIED:20230410T171449Z
UID:12364-1681410600-1681416000@spmoh.com
SUMMARY:Happy Hour with the Historian - How the Beatles Rocked Florida
DESCRIPTION:Join us Thursday\, April 13 as Southern Roots Realty and the Museum of History present Happy Hour with the Historian featuring Bob Kealing and the story of how the Beatles rocked the Sunshine State! \nIn 1964\, Beatlemania flooded the United States – including Florida! The Beatles appeared live on the Ed Sullivan Show and embarked on their first tour of North America—and they spent more time in Florida than anywhere else. \nKealing’s new book Good Day Sunshine State – How the Beatles Rocked Florida\, dives into this momentous time and place\, exploring the Fab Four’s seismic influence on the people and culture of Florida. \nKealing is a four-time Emmy Award-winning journalist and one of the most popular Happy Hour with the Historian speakers. His previous discussions have included Elvis Ignited – The Rise of an Icon in Florida; Kerouac in Florida – Where the Road Ends and The Life of the Party – Brownie Wise the Tupperware Queen! \nDetails:\nMembers: $5 | Not-yet-members: $10\nCash bar provided.\nDoors open at 6pm. Program begins at 6:30pm.\nSeating is limited\, reserve your seats today! \nRegister Now\n\nNOTE: Seat assignments are not pre-assigned. Please arrive at 6PM if you require a special seating arrangement. \nPresented by:
URL:https://spmoh.com/event/happy-hour-with-the-historian-how-the-beatles-rocked-florida/
LOCATION:St. Petersburg Museum of History\, 335 2nd Ave NE\, St. Petersburg\, FL\, 33701\, United States
ORGANIZER;CN="Museum Services":MAILTO:info@spmoh.org
END:VEVENT
END:VCALENDAR