BEGIN:VCALENDAR
VERSION:2.0
PRODID:-//St. Petersburg Museum of History | St. Petersburg, Florida - ECPv6.15.17.1//NONSGML v1.0//EN
CALSCALE:GREGORIAN
METHOD:PUBLISH
X-WR-CALNAME:St. Petersburg Museum of History | St. Petersburg, Florida
X-ORIGINAL-URL:https://spmoh.com
X-WR-CALDESC:Events for St. Petersburg Museum of History | St. Petersburg, Florida
REFRESH-INTERVAL;VALUE=DURATION:PT1H
X-Robots-Tag:noindex
X-PUBLISHED-TTL:PT1H
BEGIN:VTIMEZONE
TZID:America/New_York
BEGIN:DAYLIGHT
TZOFFSETFROM:-0500
TZOFFSETTO:-0400
TZNAME:EDT
DTSTART:20220313T070000
END:DAYLIGHT
BEGIN:STANDARD
TZOFFSETFROM:-0400
TZOFFSETTO:-0500
TZNAME:EST
DTSTART:20221106T060000
END:STANDARD
BEGIN:DAYLIGHT
TZOFFSETFROM:-0500
TZOFFSETTO:-0400
TZNAME:EDT
DTSTART:20230312T070000
END:DAYLIGHT
BEGIN:STANDARD
TZOFFSETFROM:-0400
TZOFFSETTO:-0500
TZNAME:EST
DTSTART:20231105T060000
END:STANDARD
BEGIN:DAYLIGHT
TZOFFSETFROM:-0500
TZOFFSETTO:-0400
TZNAME:EDT
DTSTART:20240310T070000
END:DAYLIGHT
BEGIN:STANDARD
TZOFFSETFROM:-0400
TZOFFSETTO:-0500
TZNAME:EST
DTSTART:20241103T060000
END:STANDARD
END:VTIMEZONE
BEGIN:VEVENT
DTSTART;TZID=America/New_York:20230112T183000
DTEND;TZID=America/New_York:20230112T200000
DTSTAMP:20260423T155900
CREATED:20230106T191140Z
LAST-MODIFIED:20230106T194403Z
UID:12233-1673548200-1673553600@spmoh.com
SUMMARY:Happy Hour with the Historian - Jennifer Tyson
DESCRIPTION:Join us on Thursday\, January 12th and hear the story of Sunken Gardens’ golden years of kitschy fun\, majestic tropical foliage\, celebrity visits\, bathing beauties\, and exotic animals made possible by determination\, resilience\, and innovation. Experience how after three generations of Turner Family ownership and over 100 years\, Sunken Gardens continues to bring smiles of amazement to all who enter one of Florida’s original\, and last remaining major roadside tourist attractions. \nHappy Hour with the Historian is frequently sold out\, so reservations are required. Admission without a reservation cannot be guaranteed. Reservations close the day of the event. \nDetails:\nMembers: $5 | Not-yet-members: $10\nCash bar provided.\nDoors open at 6pm. Program begins at 6:30pm.\nSeating is limited\, reserve your seats today! \nNOTE: Seat assignments are not pre-assigned. Please arrive at 6PM if you require a special seating arrangement. \nRegister Now\n\n\nMEMBERS: To ensure that your member discount is applied\, please make sure you have put your member-only Promo Code in the “Promo code” box AND clicked the “APPLY” button. You will know your code has worked when you see a green acceptance box. Our membership and event registration systems are separate\, so that code is the only way you will receive your free member admission.  \nNeed help registering? Click here to review our easy 6-step registration guide! \nDidn’t receive the SPMOH Member discount code? Contact Elisa Pulgarin\, Membership Manager\, at Elisa@spmoh.org. Be sure to include your full name so we can confirm your membership is current. \nNot a member? Click here to join today and receive discounted admission to Happy Hour\, Museum events\, and MORE! \nIf you have any questions or concerns regarding your registration after consulting our easy 6-step registration guide\, contact Guest Relations at 727-894-1052 X200
URL:https://spmoh.com/event/happy-hour-with-the-historian-jennifer-tyson/
LOCATION:St. Petersburg Museum of History\, 335 2nd Ave NE\, St. Petersburg\, FL\, 33701\, United States
ORGANIZER;CN="Museum Services":MAILTO:info@spmoh.org
END:VEVENT
END:VCALENDAR