BEGIN:VCALENDAR
VERSION:2.0
PRODID:-//St. Petersburg Museum of History | St. Petersburg, Florida - ECPv6.15.17.1//NONSGML v1.0//EN
CALSCALE:GREGORIAN
METHOD:PUBLISH
X-WR-CALNAME:St. Petersburg Museum of History | St. Petersburg, Florida
X-ORIGINAL-URL:https://spmoh.com
X-WR-CALDESC:Events for St. Petersburg Museum of History | St. Petersburg, Florida
REFRESH-INTERVAL;VALUE=DURATION:PT1H
X-Robots-Tag:noindex
X-PUBLISHED-TTL:PT1H
BEGIN:VTIMEZONE
TZID:America/New_York
BEGIN:DAYLIGHT
TZOFFSETFROM:-0500
TZOFFSETTO:-0400
TZNAME:EDT
DTSTART:20210314T070000
END:DAYLIGHT
BEGIN:STANDARD
TZOFFSETFROM:-0400
TZOFFSETTO:-0500
TZNAME:EST
DTSTART:20211107T060000
END:STANDARD
BEGIN:DAYLIGHT
TZOFFSETFROM:-0500
TZOFFSETTO:-0400
TZNAME:EDT
DTSTART:20220313T070000
END:DAYLIGHT
BEGIN:STANDARD
TZOFFSETFROM:-0400
TZOFFSETTO:-0500
TZNAME:EST
DTSTART:20221106T060000
END:STANDARD
BEGIN:DAYLIGHT
TZOFFSETFROM:-0500
TZOFFSETTO:-0400
TZNAME:EDT
DTSTART:20230312T070000
END:DAYLIGHT
BEGIN:STANDARD
TZOFFSETFROM:-0400
TZOFFSETTO:-0500
TZNAME:EST
DTSTART:20231105T060000
END:STANDARD
END:VTIMEZONE
BEGIN:VEVENT
DTSTART;TZID=America/New_York:20220714T183000
DTEND;TZID=America/New_York:20220714T200000
DTSTAMP:20260423T130033
CREATED:20220506T173020Z
LAST-MODIFIED:20220701T154214Z
UID:11712-1657823400-1657828800@spmoh.com
SUMMARY:Happy Hour with the Historian: Joshua Ginsberg | Secrets of Tampa Bay
DESCRIPTION:Join us on Thursday\, July 14th as the Museum of History and UPC Insurance welcome Joshua Ginsberg and his presentation\, “Secrets of Tampa Bay.”\nJoin author Joshua Ginsberg as he explores Tampa\, St. Petersburg\, Clearwater and the surrounding areas in search of hidden history\, strange monuments\, museums\, oddities\, antiques and the very best Cuban sandwich. From gangsters to gators to ghost stories\, it’s sure to be a memorable experience.\n \nJoshua Ginsberg is a writer\, entrepreneur and curiosity seeker who\, in 2016\, decided with his wife to trade in the frigid winters of the Midwest for the year-round sunshine of Tampa Bay. He has had numerous published works of poetry\, fiction and non-fiction\, and has been a business proposal writer and professional resume writer for over ten years. He has also had a hand in launching multiple startups including the web-based art leasing business which he owned and operated in Chicago. He currently lives in Tampa’s Town and Country neighborhood with his wife\, Jen\, and their Shih Tzu\, Tinker Bell. \nPresented by UPC Insurance\, Happy Hour with the Historian is frequently sold out\, so reservations are required. Admission without a reservation cannot be guaranteed. Reservations close the day of the event.  \nMembers: FREE | Not-yet-members: $10 \nCash bar provided. \nDoors open at 6pm. Program begins at 6:30pm. \nSeating is limited\, reserve your seats today!
URL:https://spmoh.com/event/happy-hour-with-the-historian-joshua-ginsberg-secrets-of-tampa-bay/
LOCATION:St. Petersburg Museum of History\, 335 2nd Ave NE\, St. Petersburg\, FL\, 33701\, United States
CATEGORIES:Happy Hour with the Historian
ORGANIZER;CN="Museum Services":MAILTO:info@spmoh.org
END:VEVENT
END:VCALENDAR