BEGIN:VCALENDAR
VERSION:2.0
PRODID:-//St. Petersburg Museum of History | St. Petersburg, Florida - ECPv6.15.17.1//NONSGML v1.0//EN
CALSCALE:GREGORIAN
METHOD:PUBLISH
X-WR-CALNAME:St. Petersburg Museum of History | St. Petersburg, Florida
X-ORIGINAL-URL:https://spmoh.com
X-WR-CALDESC:Events for St. Petersburg Museum of History | St. Petersburg, Florida
REFRESH-INTERVAL;VALUE=DURATION:PT1H
X-Robots-Tag:noindex
X-PUBLISHED-TTL:PT1H
BEGIN:VTIMEZONE
TZID:America/New_York
BEGIN:DAYLIGHT
TZOFFSETFROM:-0500
TZOFFSETTO:-0400
TZNAME:EDT
DTSTART:20220313T070000
END:DAYLIGHT
BEGIN:STANDARD
TZOFFSETFROM:-0400
TZOFFSETTO:-0500
TZNAME:EST
DTSTART:20221106T060000
END:STANDARD
BEGIN:DAYLIGHT
TZOFFSETFROM:-0500
TZOFFSETTO:-0400
TZNAME:EDT
DTSTART:20230312T070000
END:DAYLIGHT
BEGIN:STANDARD
TZOFFSETFROM:-0400
TZOFFSETTO:-0500
TZNAME:EST
DTSTART:20231105T060000
END:STANDARD
BEGIN:DAYLIGHT
TZOFFSETFROM:-0500
TZOFFSETTO:-0400
TZNAME:EDT
DTSTART:20240310T070000
END:DAYLIGHT
BEGIN:STANDARD
TZOFFSETFROM:-0400
TZOFFSETTO:-0500
TZNAME:EST
DTSTART:20241103T060000
END:STANDARD
END:VTIMEZONE
BEGIN:VEVENT
DTSTART;TZID=America/New_York:20230914T180000
DTEND;TZID=America/New_York:20230914T200000
DTSTAMP:20260423T111014
CREATED:20230831T174942Z
LAST-MODIFIED:20230831T174942Z
UID:12830-1694714400-1694721600@spmoh.com
SUMMARY:Happy Hour with the Historian: Kendal Jackson - Weedon Island
DESCRIPTION:The St. Petersburg Museum of History and Southern Roots Realty invites you to join us on Sept. 14 for Happy Hour with the Historian! \nDr. Kendal Jackson will discuss recent archaeological investigations at several of Tampa Bay’s inshore bayous\, including Papy’s Bayou at Weedon Island. \nDrawing on excavations at shell-mound sites\, Dr. Jackson outlines a new history of environmental transformation extending back 30\,000 years. \nThe new work reveals that shell-mound construction by ancestral Indigenous peoples substantially influenced the trajectory of inshore estuary development. \nKendal Jackson\, Ph.D.\, is a postdoctoral researcher at the USF School of Geosciences. He works in both academic and applied settings\, studying historical and ancient environments and how they have been altered and managed by past human societies. \n  \n\n\n\nPresented by Southern Roots Realty\, Happy Hour with the Historian is frequently sold out\, so reservations are required. Admission without a reservation cannot be guaranteed. Reservations close the day of the event.\n\n\n\n\n\n\n\n\nMembers: $5 | Not-yet-members: $10\nCash bar provided.\nDoors open at 6pm. Program begins at 6:30pm.\nSeating is limited\, reserve your seats today! \nRegister Now\n\nNOTE: Seat assignments are not pre-assigned. Please arrive at 6PM if you require a special seating arrangement. \nPresented by:
URL:https://spmoh.com/event/happy-hour-with-the-historian-kendal-jackson-weedon-island/
LOCATION:St. Petersburg Museum of History\, 335 2nd Ave NE\, St. Petersburg\, FL\, 33701\, United States
CATEGORIES:Happy Hour with the Historian
ATTACH;FMTTYPE=image/jpeg:https://spmoh.com/wp-content/uploads/2023/08/99_environ_Weedon_Hi.jpg
ORGANIZER;CN="Museum Services":MAILTO:info@spmoh.org
END:VEVENT
END:VCALENDAR