BEGIN:VCALENDAR
VERSION:2.0
PRODID:-//St. Petersburg Museum of History | St. Petersburg, Florida - ECPv6.15.17.1//NONSGML v1.0//EN
CALSCALE:GREGORIAN
METHOD:PUBLISH
X-WR-CALNAME:St. Petersburg Museum of History | St. Petersburg, Florida
X-ORIGINAL-URL:https://spmoh.com
X-WR-CALDESC:Events for St. Petersburg Museum of History | St. Petersburg, Florida
REFRESH-INTERVAL;VALUE=DURATION:PT1H
X-Robots-Tag:noindex
X-PUBLISHED-TTL:PT1H
BEGIN:VTIMEZONE
TZID:America/New_York
BEGIN:DAYLIGHT
TZOFFSETFROM:-0500
TZOFFSETTO:-0400
TZNAME:EDT
DTSTART:20210314T070000
END:DAYLIGHT
BEGIN:STANDARD
TZOFFSETFROM:-0400
TZOFFSETTO:-0500
TZNAME:EST
DTSTART:20211107T060000
END:STANDARD
BEGIN:DAYLIGHT
TZOFFSETFROM:-0500
TZOFFSETTO:-0400
TZNAME:EDT
DTSTART:20220313T070000
END:DAYLIGHT
BEGIN:STANDARD
TZOFFSETFROM:-0400
TZOFFSETTO:-0500
TZNAME:EST
DTSTART:20221106T060000
END:STANDARD
BEGIN:DAYLIGHT
TZOFFSETFROM:-0500
TZOFFSETTO:-0400
TZNAME:EDT
DTSTART:20230312T070000
END:DAYLIGHT
BEGIN:STANDARD
TZOFFSETFROM:-0400
TZOFFSETTO:-0500
TZNAME:EST
DTSTART:20231105T060000
END:STANDARD
END:VTIMEZONE
BEGIN:VEVENT
DTSTART;TZID=America/New_York:20221208T183000
DTEND;TZID=America/New_York:20221208T200000
DTSTAMP:20260423T130053
CREATED:20220506T174159Z
LAST-MODIFIED:20221026T163446Z
UID:11725-1670524200-1670529600@spmoh.com
SUMMARY:Happy Hour with the Historian: Niles Laughner | The Vinoy: From a Wager to a Waterfront Jewel
DESCRIPTION:Join us on Thursday\, December 8th as the Museum of History and UPC Insurance welcome Niles Laughner and his presentation on “The Vinoy: From a Wager to a Waterfront Jewel.” \nNiles James Laughner is a native Floridian\, born in St. Petersburg in 1963 with family roots stretching to New Hampshire\, Pittsburgh and beyond.  He is the grandson of hotel builder and developer  Aymer Vinoy Laughner I\, and is a graduate of Pennsylvania’s Grove City College where he earned a  degree in History and Economics. An antique dealer since 1987\, he specializes in military antiques and historical Americana.  He is also a writer\, having had articles published in journals in the US and UK\, focusing on what the UK’s Military History Monthly magazine described as “the intersection of military and social history”. Additionally\, he was featured for several years on Pittsburgh’s Hidden Treasures\, a PBS roadshow event. He has authored two books\, one of which is a family history of the Vinoy Park Hotel. Consultant to several museums\, he also does appraisal work for institutions and estates. He and his partner Tara have turned their backs on the snowy north\, and reside in Great Pinellas Point\, only 2 miles from where he was born. \nRegistration opens to Museum Members via email 11/17 and not-yet-members 11/24. \nCheck back 11/24 for the registration link!\nPresented by UPC Insurance\, Happy Hour with the Historian is frequently sold out\, so reservations are required. Admission without a reservation cannot be guaranteed. Reservations close the day of the event.   \nMembers: FREE | Not-yet-members: $10 \nCash bar provided. \nDoors open at 6pm. Program begins at 6:30pm. \nSeating is limited\, reserve your seats today!
URL:https://spmoh.com/event/happy-hour-with-the-historian-niles-laughner-the-vinoy-from-a-wager-to-a-waterfront-jewel/
LOCATION:St. Petersburg Museum of History\, 335 2nd Ave NE\, St. Petersburg\, FL\, 33701\, United States
CATEGORIES:Happy Hour with the Historian
ORGANIZER;CN="Museum Services":MAILTO:info@spmoh.org
END:VEVENT
END:VCALENDAR