BEGIN:VCALENDAR
VERSION:2.0
PRODID:-//St. Petersburg Museum of History | St. Petersburg, Florida - ECPv6.15.17.1//NONSGML v1.0//EN
CALSCALE:GREGORIAN
METHOD:PUBLISH
X-WR-CALNAME:St. Petersburg Museum of History | St. Petersburg, Florida
X-ORIGINAL-URL:https://spmoh.com
X-WR-CALDESC:Events for St. Petersburg Museum of History | St. Petersburg, Florida
REFRESH-INTERVAL;VALUE=DURATION:PT1H
X-Robots-Tag:noindex
X-PUBLISHED-TTL:PT1H
BEGIN:VTIMEZONE
TZID:America/New_York
BEGIN:DAYLIGHT
TZOFFSETFROM:-0500
TZOFFSETTO:-0400
TZNAME:EDT
DTSTART:20240310T070000
END:DAYLIGHT
BEGIN:STANDARD
TZOFFSETFROM:-0400
TZOFFSETTO:-0500
TZNAME:EST
DTSTART:20241103T060000
END:STANDARD
BEGIN:DAYLIGHT
TZOFFSETFROM:-0500
TZOFFSETTO:-0400
TZNAME:EDT
DTSTART:20250309T070000
END:DAYLIGHT
BEGIN:STANDARD
TZOFFSETFROM:-0400
TZOFFSETTO:-0500
TZNAME:EST
DTSTART:20251102T060000
END:STANDARD
BEGIN:DAYLIGHT
TZOFFSETFROM:-0500
TZOFFSETTO:-0400
TZNAME:EDT
DTSTART:20260308T070000
END:DAYLIGHT
BEGIN:STANDARD
TZOFFSETFROM:-0400
TZOFFSETTO:-0500
TZNAME:EST
DTSTART:20261101T060000
END:STANDARD
END:VTIMEZONE
BEGIN:VEVENT
DTSTART;TZID=America/New_York:20251113T180000
DTEND;TZID=America/New_York:20251113T200000
DTSTAMP:20260423T063643
CREATED:20251105T221615Z
LAST-MODIFIED:20251105T221836Z
UID:15973-1763056800-1763064000@spmoh.com
SUMMARY:Happy Hour with the Historian - Record Man: The Story of Phil Gernhard
DESCRIPTION:Join us on Thursday\, November 13th for Happy Hour with the Historian featuring Bill DeYoung\, author of Record Man. Record Man is a biography of Phil Gernhard\, the most successful record producer to come from Florida. From offices and studios in the Tampa Bay area\, he launched the Royal Guardsmen\, Dion\, Lobo\, Jim Stafford\, and the Bellamy Brothers. \nPhil Gernhard is the most famous Floridian you’ve never heard of! \nBill DeYoung is a Senior Writer and Editor for the St. Pete Catalyst. His other books include Skyway: The True Story of Tampa Bay’s Signature Bridge and the Man Who Brought It Down\, and three volumes of Vintage St. Pete stories. \nRegister for this event
URL:https://spmoh.com/event/happy-hour-with-the-historian-record-man-the-story-of-phil-gernhard/
LOCATION:St. Petersburg Museum of History\, 335 2nd Ave NE\, St. Petersburg\, FL\, 33701\, United States
CATEGORIES:Happy Hour with the Historian
ATTACH;FMTTYPE=image/jpeg:https://spmoh.com/wp-content/uploads/2025/11/Record-Man.jpg
ORGANIZER;CN="Museum Services":MAILTO:info@spmoh.org
END:VEVENT
END:VCALENDAR