BEGIN:VCALENDAR
VERSION:2.0
PRODID:-//St. Petersburg Museum of History | St. Petersburg, Florida - ECPv6.15.17.1//NONSGML v1.0//EN
CALSCALE:GREGORIAN
METHOD:PUBLISH
X-WR-CALNAME:St. Petersburg Museum of History | St. Petersburg, Florida
X-ORIGINAL-URL:https://spmoh.com
X-WR-CALDESC:Events for St. Petersburg Museum of History | St. Petersburg, Florida
REFRESH-INTERVAL;VALUE=DURATION:PT1H
X-Robots-Tag:noindex
X-PUBLISHED-TTL:PT1H
BEGIN:VTIMEZONE
TZID:America/New_York
BEGIN:DAYLIGHT
TZOFFSETFROM:-0500
TZOFFSETTO:-0400
TZNAME:EDT
DTSTART:20210314T070000
END:DAYLIGHT
BEGIN:STANDARD
TZOFFSETFROM:-0400
TZOFFSETTO:-0500
TZNAME:EST
DTSTART:20211107T060000
END:STANDARD
BEGIN:DAYLIGHT
TZOFFSETFROM:-0500
TZOFFSETTO:-0400
TZNAME:EDT
DTSTART:20220313T070000
END:DAYLIGHT
BEGIN:STANDARD
TZOFFSETFROM:-0400
TZOFFSETTO:-0500
TZNAME:EST
DTSTART:20221106T060000
END:STANDARD
BEGIN:DAYLIGHT
TZOFFSETFROM:-0500
TZOFFSETTO:-0400
TZNAME:EDT
DTSTART:20230312T070000
END:DAYLIGHT
BEGIN:STANDARD
TZOFFSETFROM:-0400
TZOFFSETTO:-0500
TZNAME:EST
DTSTART:20231105T060000
END:STANDARD
END:VTIMEZONE
BEGIN:VEVENT
DTSTART;TZID=America/New_York:20221110T183000
DTEND;TZID=America/New_York:20221110T200000
DTSTAMP:20260423T130033
CREATED:20220506T174015Z
LAST-MODIFIED:20221027T200854Z
UID:11723-1668105000-1668110400@spmoh.com
SUMMARY:Happy Hour with the Historian: Rick Vaughn | Our Front Yard: 100 Years of Baseball History on Our Waterfront
DESCRIPTION:Join us on Thursday\, November 10th as the Museum of History and UPC Insurance welcome Rick Vaughn and his presentation on\, “Our Front Yard: 100 Years of Baseball History on Our Waterfront.”\nREGISTER HERE!\nRick Vaughn is a 30-year veteran in the sports communication field with the Baltimore Orioles\, Tampa Bay Rays and Washington Redskins. His recently released book\, “100 Years of Baseball on St. Petersburg’s Waterfront – How the Game Helped Shape a City\,” explores the historic partnership between the Sunshine City and America’s favorite pastime. \nPresented by UPC Insurance\, Happy Hour with the Historian is frequently sold out\, so reservations are required. Admission without a reservation cannot be guaranteed. Reservations close the day of the event.   \nMembers: FREE | Not-yet-members: $10 \nCash bar provided. \nDoors open at 6pm. Program begins at 6:30pm. \nSeating is limited\, reserve your seats today!
URL:https://spmoh.com/event/happy-hour-with-the-historian-rick-vaughn-our-front-yard-100-years-of-baseball-history-on-our-waterfront/
LOCATION:St. Petersburg Museum of History\, 335 2nd Ave NE\, St. Petersburg\, FL\, 33701\, United States
CATEGORIES:Happy Hour with the Historian
ORGANIZER;CN="Museum Services":MAILTO:info@spmoh.org
END:VEVENT
END:VCALENDAR