BEGIN:VCALENDAR
VERSION:2.0
PRODID:-//St. Petersburg Museum of History | St. Petersburg, Florida - ECPv6.15.17.1//NONSGML v1.0//EN
CALSCALE:GREGORIAN
METHOD:PUBLISH
X-WR-CALNAME:St. Petersburg Museum of History | St. Petersburg, Florida
X-ORIGINAL-URL:https://spmoh.com
X-WR-CALDESC:Events for St. Petersburg Museum of History | St. Petersburg, Florida
REFRESH-INTERVAL;VALUE=DURATION:PT1H
X-Robots-Tag:noindex
X-PUBLISHED-TTL:PT1H
BEGIN:VTIMEZONE
TZID:America/New_York
BEGIN:DAYLIGHT
TZOFFSETFROM:-0500
TZOFFSETTO:-0400
TZNAME:EDT
DTSTART:20220313T070000
END:DAYLIGHT
BEGIN:STANDARD
TZOFFSETFROM:-0400
TZOFFSETTO:-0500
TZNAME:EST
DTSTART:20221106T060000
END:STANDARD
BEGIN:DAYLIGHT
TZOFFSETFROM:-0500
TZOFFSETTO:-0400
TZNAME:EDT
DTSTART:20230312T070000
END:DAYLIGHT
BEGIN:STANDARD
TZOFFSETFROM:-0400
TZOFFSETTO:-0500
TZNAME:EST
DTSTART:20231105T060000
END:STANDARD
BEGIN:DAYLIGHT
TZOFFSETFROM:-0500
TZOFFSETTO:-0400
TZNAME:EDT
DTSTART:20240310T070000
END:DAYLIGHT
BEGIN:STANDARD
TZOFFSETFROM:-0400
TZOFFSETTO:-0500
TZNAME:EST
DTSTART:20241103T060000
END:STANDARD
END:VTIMEZONE
BEGIN:VEVENT
DTSTART;TZID=America/New_York:20230309T183000
DTEND;TZID=America/New_York:20230309T200000
DTSTAMP:20260423T205304
CREATED:20230228T101700Z
LAST-MODIFIED:20230306T195114Z
UID:12297-1678386600-1678392000@spmoh.com
SUMMARY:Happy Hour with the Historian - Spy Pilot featuring Francis Gary Powers\, Jr.
DESCRIPTION:Join us Thursday\, March 9 as Southern Roots Realty and the Museum of History present Happy Hour with the Historian featuring Francis Gary Powers\, Jr. and the story of America’s most famous spy pilot\, his father\, Francis Gary Powers\, Sr.! \nThe conversation will center around incident in 1960 when Power’s U-2 spy plane was shot down over the Soviet Union\, triggering an international incident during the height of the Cold War. \nGary Powers\, Jr. is the Founder and Chairman Emeritus of The Cold War Museum outside of Washington\, D.C.\, which he founded honor Cold War veterans and preserve Cold War history. Gary consulted for the Steven Spielberg Cold War thriller Bridge of Spies\, as well as lectures internationally and appears regularly on C-SPAN\, the History Channel\, Discovery and A&E. \nPresented by Southern Roots Realty\, Happy Hour with the Historian is frequently sold out\, so reservations are required. Admission without a reservation cannot be guaranteed. Reservations close the day of the event. \nDetails:\nMembers: $5 | Not-yet-members: $10\nCash bar provided.\nDoors open at 6pm. Program begins at 6:30pm.\nSeating is limited\, reserve your seats today! \nRegister Now\n\nNOTE: Seat assignments are not pre-assigned. Please arrive at 6PM if you require a special seating arrangement. \nPresented by:
URL:https://spmoh.com/event/happy-hour-with-the-historian-spy-pilot-featuring-francis-gary-powers-jr/
LOCATION:St. Petersburg Museum of History\, 335 2nd Ave NE\, St. Petersburg\, FL\, 33701\, United States
ORGANIZER;CN="Museum Services":MAILTO:info@spmoh.org
END:VEVENT
END:VCALENDAR