BEGIN:VCALENDAR
VERSION:2.0
PRODID:-//St. Petersburg Museum of History | St. Petersburg, Florida - ECPv6.15.17.1//NONSGML v1.0//EN
CALSCALE:GREGORIAN
METHOD:PUBLISH
X-WR-CALNAME:St. Petersburg Museum of History | St. Petersburg, Florida
X-ORIGINAL-URL:https://spmoh.com
X-WR-CALDESC:Events for St. Petersburg Museum of History | St. Petersburg, Florida
REFRESH-INTERVAL;VALUE=DURATION:PT1H
X-Robots-Tag:noindex
X-PUBLISHED-TTL:PT1H
BEGIN:VTIMEZONE
TZID:America/New_York
BEGIN:DAYLIGHT
TZOFFSETFROM:-0500
TZOFFSETTO:-0400
TZNAME:EDT
DTSTART:20230312T070000
END:DAYLIGHT
BEGIN:STANDARD
TZOFFSETFROM:-0400
TZOFFSETTO:-0500
TZNAME:EST
DTSTART:20231105T060000
END:STANDARD
BEGIN:DAYLIGHT
TZOFFSETFROM:-0500
TZOFFSETTO:-0400
TZNAME:EDT
DTSTART:20240310T070000
END:DAYLIGHT
BEGIN:STANDARD
TZOFFSETFROM:-0400
TZOFFSETTO:-0500
TZNAME:EST
DTSTART:20241103T060000
END:STANDARD
BEGIN:DAYLIGHT
TZOFFSETFROM:-0500
TZOFFSETTO:-0400
TZNAME:EDT
DTSTART:20250309T070000
END:DAYLIGHT
BEGIN:STANDARD
TZOFFSETFROM:-0400
TZOFFSETTO:-0500
TZNAME:EST
DTSTART:20251102T060000
END:STANDARD
END:VTIMEZONE
BEGIN:VEVENT
DTSTART;TZID=America/New_York:20240201T180000
DTEND;TZID=America/New_York:20240201T200000
DTSTAMP:20260423T094749
CREATED:20240125T154941Z
LAST-MODIFIED:20240128T172445Z
UID:13275-1706810400-1706817600@spmoh.com
SUMMARY:Special Edition Happy Hour with the Historian – Spy Pilot: Francis Gary Powers\,  the U-2 Incident and a Controversial Cold War Legacy
DESCRIPTION:Join us Thursday\, February 1 for a Special Edition Happy Hour with the Historian! The Museum of History and Southern Roots Realty welcomes Francis Gary Powers\, Jr. as he unveils the truth about America’s most famous spy pilot\, Francis Gary Powers\, Sr.\, and the U-2 incident in 1960 where his father was shot down over Russia and nearly ignited the Cold War! \nThe talk will center on his recent book\, Spy Pilot: Francis Gary Powers\, the U-2 Incident\, and a Controversial Cold War Legacy\, and set the record straight in regard to the inaccurate reports that surround the U-2 Incident and tarnished his father’s reputation. \nPowes’ presentation gives an overview of his search for the truth after his father’s death in 1977\, and how his research led to the USAF and CIA posthumously awarding Powers Sr. the POW Medal\, Director’s Medal\, and Silver Star in 2000 and 2012 respectively. \nGary Powers\, Jr. is the Founder and Chairman Emeritus of The Cold War Museum outside of Washington\, D.C.\, which he founded to honor Cold War veterans and preserve Cold War history. \nPresented by Southern Roots Realty\, Happy Hour with the Historian is frequently sold out\, so please purchase tickets in advance. Admission without advanced purchase cannot be guaranteed.  \n\n\n\n\n\n\n\nMembers: $5 | Not-yet-members: $10\nCash bar provided.\nDoors open at 6PM. Program begins at 6:30PM.\nSeating is limited\, reserve your seats today! \nRegister Now\n \nNOTE: Seat assignments are not pre-assigned. Please arrive at 6PM if you require a special seating arrangement. \nPresented by:
URL:https://spmoh.com/event/happy-hour-with-the-historian-spy-pilot-francis-gary-powers-the-u-2-incident-and-a-controversial-cold-war-legacy/
LOCATION:St. Petersburg Museum of History\, 335 2nd Ave NE\, St. Petersburg\, FL\, 33701\, United States
CATEGORIES:Happy Hour with the Historian
ATTACH;FMTTYPE=image/png:https://spmoh.com/wp-content/uploads/2024/01/image-2.png
ORGANIZER;CN="Museum Services":MAILTO:info@spmoh.org
END:VEVENT
END:VCALENDAR