BEGIN:VCALENDAR
VERSION:2.0
PRODID:-//St. Petersburg Museum of History | St. Petersburg, Florida - ECPv6.15.17.1//NONSGML v1.0//EN
CALSCALE:GREGORIAN
METHOD:PUBLISH
X-WR-CALNAME:St. Petersburg Museum of History | St. Petersburg, Florida
X-ORIGINAL-URL:https://spmoh.com
X-WR-CALDESC:Events for St. Petersburg Museum of History | St. Petersburg, Florida
REFRESH-INTERVAL;VALUE=DURATION:PT1H
X-Robots-Tag:noindex
X-PUBLISHED-TTL:PT1H
BEGIN:VTIMEZONE
TZID:America/New_York
BEGIN:DAYLIGHT
TZOFFSETFROM:-0500
TZOFFSETTO:-0400
TZNAME:EDT
DTSTART:20240310T070000
END:DAYLIGHT
BEGIN:STANDARD
TZOFFSETFROM:-0400
TZOFFSETTO:-0500
TZNAME:EST
DTSTART:20241103T060000
END:STANDARD
BEGIN:DAYLIGHT
TZOFFSETFROM:-0500
TZOFFSETTO:-0400
TZNAME:EDT
DTSTART:20250309T070000
END:DAYLIGHT
BEGIN:STANDARD
TZOFFSETFROM:-0400
TZOFFSETTO:-0500
TZNAME:EST
DTSTART:20251102T060000
END:STANDARD
BEGIN:DAYLIGHT
TZOFFSETFROM:-0500
TZOFFSETTO:-0400
TZNAME:EDT
DTSTART:20260308T070000
END:DAYLIGHT
BEGIN:STANDARD
TZOFFSETFROM:-0400
TZOFFSETTO:-0500
TZNAME:EST
DTSTART:20261101T060000
END:STANDARD
END:VTIMEZONE
BEGIN:VEVENT
DTSTART;TZID=America/New_York:20251211T180000
DTEND;TZID=America/New_York:20251211T200000
DTSTAMP:20260423T062735
CREATED:20251105T222123Z
LAST-MODIFIED:20251105T222123Z
UID:15978-1765476000-1765483200@spmoh.com
SUMMARY:Happy Hour with the Historian - The Vinoy: 100 Years of Splendor
DESCRIPTION:The Vinoy Resort and Golf Club turns 100 this year\, and the Museum will be honoring the grand hotel on December 11 with Happy Hour with the Historian featuring Niles J Laughner. \nNiles is the grandson of Aymer Vinoy Laughner\, builder of the Vinoy\, and fills the role of family historian. He has authored The Vinoy-A Family History\, a book recounting family stories of the hotel. \nFrom artifacts to private family photos and motion picture clips\, Niles will share the Laughner family’s enduring contributions to St. Petersburg\, highlighting an involvement that began more than 120 years ago. \nRegister for this event
URL:https://spmoh.com/event/happy-hour-with-the-historian-the-vinoy-100-years-of-splendor/
CATEGORIES:Happy Hour with the Historian
ATTACH;FMTTYPE=image/jpeg:https://spmoh.com/wp-content/uploads/2025/11/Vinoy.jpg
END:VEVENT
END:VCALENDAR