BEGIN:VCALENDAR
VERSION:2.0
PRODID:-//St. Petersburg Museum of History | St. Petersburg, Florida - ECPv6.15.17.1//NONSGML v1.0//EN
CALSCALE:GREGORIAN
METHOD:PUBLISH
X-WR-CALNAME:St. Petersburg Museum of History | St. Petersburg, Florida
X-ORIGINAL-URL:https://spmoh.com
X-WR-CALDESC:Events for St. Petersburg Museum of History | St. Petersburg, Florida
REFRESH-INTERVAL;VALUE=DURATION:PT1H
X-Robots-Tag:noindex
X-PUBLISHED-TTL:PT1H
BEGIN:VTIMEZONE
TZID:America/New_York
BEGIN:DAYLIGHT
TZOFFSETFROM:-0500
TZOFFSETTO:-0400
TZNAME:EDT
DTSTART:20220313T070000
END:DAYLIGHT
BEGIN:STANDARD
TZOFFSETFROM:-0400
TZOFFSETTO:-0500
TZNAME:EST
DTSTART:20221106T060000
END:STANDARD
BEGIN:DAYLIGHT
TZOFFSETFROM:-0500
TZOFFSETTO:-0400
TZNAME:EDT
DTSTART:20230312T070000
END:DAYLIGHT
BEGIN:STANDARD
TZOFFSETFROM:-0400
TZOFFSETTO:-0500
TZNAME:EST
DTSTART:20231105T060000
END:STANDARD
BEGIN:DAYLIGHT
TZOFFSETFROM:-0500
TZOFFSETTO:-0400
TZNAME:EDT
DTSTART:20240310T070000
END:DAYLIGHT
BEGIN:STANDARD
TZOFFSETFROM:-0400
TZOFFSETTO:-0500
TZNAME:EST
DTSTART:20241103T060000
END:STANDARD
END:VTIMEZONE
BEGIN:VEVENT
DTSTART;TZID=America/New_York:20231214T180000
DTEND;TZID=America/New_York:20231214T200000
DTSTAMP:20260423T093616
CREATED:20231121T144754Z
LAST-MODIFIED:20231121T145032Z
UID:13031-1702576800-1702584000@spmoh.com
SUMMARY:Happy Hour with the Historian: What in the world? How Walt Built Disney
DESCRIPTION:The St. Petersburg Museum of History and Southern Roots Realty invite you to our monthly lecture series\, Happy Hour with the Historian featuring Gary McKechnie. The deal that changed Florida forever. \nWhen Walt Disney realized cheap tourist traps were enveloping Disneyland\, he began a nationwide search for enough land to hold every dream he could imagine. What happened next would require a heightened degree of CIA-level secrecy for Disney’s undercover team\, who launched a misinformation campaign that included dummy corporations and secret transactions. However\, when a keen-eyed reporter cracked the code\, Disney was forced to show his hand. Audiences will be amazed to learn of not only subterfuge but also the monumental innovations and engineering feats required creating a whole new world. \nNative Floridian Gary McKechnie is a two-time National Geographic author\, author of America’s best-selling motorcycle guidebook\, and two-time winner of the Lowell Thomas Travel Journalism Award.  McKechnie is also a motivational storyteller\, a stand-up comedian\, and improv actor. He is also a guest speaker aboard the ships of Cunard\, Seabourn\, and the Silversea lines.  \n\n\n\nPresented by Southern Roots Realty\, Happy Hour with the Historian is frequently sold out\, so reservations are required. Admission without a reservation cannot be guaranteed. Reservations close the day of the event.\n\n\n\n\n\n\n\n\nMembers: $5 | Not-yet-members: $10\nCash bar provided.\nDoors open at 6pm. Program begins at 6:30pm.\nSeating is limited\, reserve your seats today! \nRegister Now\n \nNOTE: Seat assignments are not pre-assigned. Please arrive at 6PM if you require a special seating arrangement. \nPresented by:
URL:https://spmoh.com/event/happy-hour-with-the-historian-what-in-the-world-how-walt-built-disney/
LOCATION:St. Petersburg Museum of History\, 335 2nd Ave NE\, St. Petersburg\, FL\, 33701\, United States
CATEGORIES:Happy Hour with the Historian
ATTACH;FMTTYPE=image/png:https://spmoh.com/wp-content/uploads/2023/11/Screenshot-120-2.png
ORGANIZER;CN="Museum Services":MAILTO:info@spmoh.org
END:VEVENT
END:VCALENDAR