BEGIN:VCALENDAR
VERSION:2.0
PRODID:-//St. Petersburg Museum of History | St. Petersburg, Florida - ECPv6.15.17.1//NONSGML v1.0//EN
CALSCALE:GREGORIAN
METHOD:PUBLISH
X-WR-CALNAME:St. Petersburg Museum of History | St. Petersburg, Florida
X-ORIGINAL-URL:https://spmoh.com
X-WR-CALDESC:Events for St. Petersburg Museum of History | St. Petersburg, Florida
REFRESH-INTERVAL;VALUE=DURATION:PT1H
X-Robots-Tag:noindex
X-PUBLISHED-TTL:PT1H
BEGIN:VTIMEZONE
TZID:America/New_York
BEGIN:DAYLIGHT
TZOFFSETFROM:-0500
TZOFFSETTO:-0400
TZNAME:EDT
DTSTART:20220313T070000
END:DAYLIGHT
BEGIN:STANDARD
TZOFFSETFROM:-0400
TZOFFSETTO:-0500
TZNAME:EST
DTSTART:20221106T060000
END:STANDARD
BEGIN:DAYLIGHT
TZOFFSETFROM:-0500
TZOFFSETTO:-0400
TZNAME:EDT
DTSTART:20230312T070000
END:DAYLIGHT
BEGIN:STANDARD
TZOFFSETFROM:-0400
TZOFFSETTO:-0500
TZNAME:EST
DTSTART:20231105T060000
END:STANDARD
BEGIN:DAYLIGHT
TZOFFSETFROM:-0500
TZOFFSETTO:-0400
TZNAME:EDT
DTSTART:20240310T070000
END:DAYLIGHT
BEGIN:STANDARD
TZOFFSETFROM:-0400
TZOFFSETTO:-0500
TZNAME:EST
DTSTART:20241103T060000
END:STANDARD
END:VTIMEZONE
BEGIN:VEVENT
DTSTART;TZID=America/New_York:20231030T173000
DTEND;TZID=America/New_York:20231030T190000
DTSTAMP:20260423T110148
CREATED:20231026T150352Z
LAST-MODIFIED:20231026T150352Z
UID:12985-1698687000-1698692400@spmoh.com
SUMMARY:Haunted Boat Tour
DESCRIPTION:The St. Petersburg Museum of History and the Tampa Bay Watch Discovery Center on the St. Pete Pier invite you on a ghoulish boat tour of our haunted waterfront! \nJoin us Monday\, October 30 to discover the dark side of the Sunshine City from the water. From the long-ago visitor who frequents the Pier’s Comfort Station\, to the eerie tales of the Old Northeast and death holes of Lassing Park\, St. Pete’s waterfront is filled with unexplained stories that just won’t die. \nThe tour will depart from the Tampa Bay Watch Discovery Center Eco-Tour dock across from the Museum of History in the City Marina at 5:30pm\, and will travel along the waterfront from Snell Isle to Lassing Park. \nTickets are $40 for Museum Members and $45 for not-yet members. Students 17 & under are $40. Seating is limited to 40 passengers per tour. \n. \nCall the Museum’s Guest Services Desk at 727-894-1052\, ex. 200 with any registration questions. \n\n\nPurchase Tickets Now\n \n 
URL:https://spmoh.com/event/haunted-boat-tour/
LOCATION:Tampa Bay Watch Discovery Center Eco-Tour dock\, 400 2nd Ave NE Slip Q47\, St. Petersburg\, FL\, 33701\, United States
CATEGORIES:Boat Tour
ATTACH;FMTTYPE=image/jpeg:https://spmoh.com/wp-content/uploads/2023/10/Copy-of-HHH-October-12.jpg
ORGANIZER;CN="Museum Services":MAILTO:info@spmoh.org
END:VEVENT
END:VCALENDAR