BEGIN:VCALENDAR
VERSION:2.0
PRODID:-//St. Petersburg Museum of History | St. Petersburg, Florida - ECPv6.15.17.1//NONSGML v1.0//EN
CALSCALE:GREGORIAN
METHOD:PUBLISH
X-WR-CALNAME:St. Petersburg Museum of History | St. Petersburg, Florida
X-ORIGINAL-URL:https://spmoh.com
X-WR-CALDESC:Events for St. Petersburg Museum of History | St. Petersburg, Florida
REFRESH-INTERVAL;VALUE=DURATION:PT1H
X-Robots-Tag:noindex
X-PUBLISHED-TTL:PT1H
BEGIN:VTIMEZONE
TZID:America/New_York
BEGIN:DAYLIGHT
TZOFFSETFROM:-0500
TZOFFSETTO:-0400
TZNAME:EDT
DTSTART:20230312T070000
END:DAYLIGHT
BEGIN:STANDARD
TZOFFSETFROM:-0400
TZOFFSETTO:-0500
TZNAME:EST
DTSTART:20231105T060000
END:STANDARD
BEGIN:DAYLIGHT
TZOFFSETFROM:-0500
TZOFFSETTO:-0400
TZNAME:EDT
DTSTART:20240310T070000
END:DAYLIGHT
BEGIN:STANDARD
TZOFFSETFROM:-0400
TZOFFSETTO:-0500
TZNAME:EST
DTSTART:20241103T060000
END:STANDARD
BEGIN:DAYLIGHT
TZOFFSETFROM:-0500
TZOFFSETTO:-0400
TZNAME:EDT
DTSTART:20250309T070000
END:DAYLIGHT
BEGIN:STANDARD
TZOFFSETFROM:-0400
TZOFFSETTO:-0500
TZNAME:EST
DTSTART:20251102T060000
END:STANDARD
END:VTIMEZONE
BEGIN:VEVENT
DTSTART;TZID=America/New_York:20241030T173000
DTEND;TZID=America/New_York:20241030T193000
DTSTAMP:20260423T010746
CREATED:20240329T155004Z
LAST-MODIFIED:20241015T135945Z
UID:13406-1730309400-1730316600@spmoh.com
SUMMARY:Haunted Historic Boat Tour
DESCRIPTION:Join the St. Petersburg Museum of History and Tampa Bay Discovery on Wednesday\, October 30th for a Historic Haunted Boat Tour! \n  \nBe a part of the unique and spine-chilling journey into the eerie past of Tampa Bay. Combining history with paranormal intrigue\, this guided boat tour sets sail into the haunted waters surrounding the area. Visitors will learn about the region’s most notorious ghost stories\, shipwrecks\, and mysteries\, all while taking in the stunning views of Tampa Bay at night. \n  \nPerfect for history buffs\, ghost hunters\, and adventure seekers alike\, the Haunted Historic Boat Tour offers a thrilling and educational experience that uncovers the darker side of Tampa Bay’s history. Whether you’re a skeptic or a believer\, this eerie excursion is sure to leave you with goosebumps as you sail through time and into the unknown. \n  \nTickets are $40 for Museum Members and $45 for not-yet members. Seating is limited to 40 passengers per tour. \n  \nCall the Museum’s Guest Services Desk at 727-894-1052\, ex. 200 with any registration questions. \n\n\nPurchase Tickets Now\n \n 
URL:https://spmoh.com/event/historic-boat-tour-12/
LOCATION:Tampa Bay Watch Discovery Center Eco-Tour dock\, 400 2nd Ave NE Slip Q47\, St. Petersburg\, FL\, 33701\, United States
CATEGORIES:Boat Tour
ATTACH;FMTTYPE=image/jpeg:https://spmoh.com/wp-content/uploads/2024/10/Copy-of-Ghost-Trolley-Tour-Cover-Art-400-x-200-px.jpg
ORGANIZER;CN="Museum Services":MAILTO:info@spmoh.org
END:VEVENT
END:VCALENDAR