BEGIN:VCALENDAR
VERSION:2.0
PRODID:-//St. Petersburg Museum of History | St. Petersburg, Florida - ECPv6.15.17.1//NONSGML v1.0//EN
CALSCALE:GREGORIAN
METHOD:PUBLISH
X-WR-CALNAME:St. Petersburg Museum of History | St. Petersburg, Florida
X-ORIGINAL-URL:https://spmoh.com
X-WR-CALDESC:Events for St. Petersburg Museum of History | St. Petersburg, Florida
REFRESH-INTERVAL;VALUE=DURATION:PT1H
X-Robots-Tag:noindex
X-PUBLISHED-TTL:PT1H
BEGIN:VTIMEZONE
TZID:America/New_York
BEGIN:DAYLIGHT
TZOFFSETFROM:-0500
TZOFFSETTO:-0400
TZNAME:EDT
DTSTART:20230312T070000
END:DAYLIGHT
BEGIN:STANDARD
TZOFFSETFROM:-0400
TZOFFSETTO:-0500
TZNAME:EST
DTSTART:20231105T060000
END:STANDARD
BEGIN:DAYLIGHT
TZOFFSETFROM:-0500
TZOFFSETTO:-0400
TZNAME:EDT
DTSTART:20240310T070000
END:DAYLIGHT
BEGIN:STANDARD
TZOFFSETFROM:-0400
TZOFFSETTO:-0500
TZNAME:EST
DTSTART:20241103T060000
END:STANDARD
BEGIN:DAYLIGHT
TZOFFSETFROM:-0500
TZOFFSETTO:-0400
TZNAME:EDT
DTSTART:20250309T070000
END:DAYLIGHT
BEGIN:STANDARD
TZOFFSETFROM:-0400
TZOFFSETTO:-0500
TZNAME:EST
DTSTART:20251102T060000
END:STANDARD
END:VTIMEZONE
BEGIN:VEVENT
DTSTART;TZID=America/New_York:20241129T090000
DTEND;TZID=America/New_York:20241129T100000
DTSTAMP:20260423T110203
CREATED:20240418T143942Z
LAST-MODIFIED:20241104T164439Z
UID:13484-1732870800-1732874400@spmoh.com
SUMMARY:Black Friday Flow: Yoga at the St. Petersburg Museum of History
DESCRIPTION:Black Friday Flow: Yoga at the St. Petersburg Museum of History \n Ready to shake off that Thanksgiving stuffing and maybe a little family drama? Join the Museum of History and Crystal Kage from Beachtown yoga for a whimsical Black Friday Yoga class at the St. Petersburg Museum of History! With gorgeous water views as your backdrop\, this is the best way to kickstart your weekend—no shopping mall madness required!  \n \nFlow with us as we stretch\, breathe\, and laugh our way through the holiday chaos\, all while surrounded by history and good vibes. Whether you’re a yoga pro or just trying to find your zen after too much pie\, everyone’s welcome to this joyful gathering! \n \nSo grab your mat\, and bring your favorite people for all the post-feast feels! Your upside-down adventure awaits… \nLet’s make this Black Friday unforgettable!  \nTicket includes 1 hour of yoga + museum tickets \n \nParking is available in the Pier’s Dolphin lot adjacent to the Museum. Additional parking is available in the Sundial Parking Garage and on Bayshore and Beach Drives. Fees apply. \n\n\nPurchase Tickets Now\n \n 
URL:https://spmoh.com/event/historic-boat-tour-19/
LOCATION:St. Petersburg Museum of History\, 335 2nd Ave NE\, St. Petersburg\, FL\, 33701\, United States
CATEGORIES:Special Event
ATTACH;FMTTYPE=image/png:https://spmoh.com/wp-content/uploads/2024/04/Screenshot-165.png
ORGANIZER;CN="Museum Services":MAILTO:info@spmoh.org
END:VEVENT
END:VCALENDAR