BEGIN:VCALENDAR
VERSION:2.0
PRODID:-//St. Petersburg Museum of History | St. Petersburg, Florida - ECPv6.15.17.1//NONSGML v1.0//EN
CALSCALE:GREGORIAN
METHOD:PUBLISH
X-WR-CALNAME:St. Petersburg Museum of History | St. Petersburg, Florida
X-ORIGINAL-URL:https://spmoh.com
X-WR-CALDESC:Events for St. Petersburg Museum of History | St. Petersburg, Florida
REFRESH-INTERVAL;VALUE=DURATION:PT1H
X-Robots-Tag:noindex
X-PUBLISHED-TTL:PT1H
BEGIN:VTIMEZONE
TZID:America/New_York
BEGIN:DAYLIGHT
TZOFFSETFROM:-0500
TZOFFSETTO:-0400
TZNAME:EDT
DTSTART:20210314T070000
END:DAYLIGHT
BEGIN:STANDARD
TZOFFSETFROM:-0400
TZOFFSETTO:-0500
TZNAME:EST
DTSTART:20211107T060000
END:STANDARD
BEGIN:DAYLIGHT
TZOFFSETFROM:-0500
TZOFFSETTO:-0400
TZNAME:EDT
DTSTART:20220313T070000
END:DAYLIGHT
BEGIN:STANDARD
TZOFFSETFROM:-0400
TZOFFSETTO:-0500
TZNAME:EST
DTSTART:20221106T060000
END:STANDARD
BEGIN:DAYLIGHT
TZOFFSETFROM:-0500
TZOFFSETTO:-0400
TZNAME:EDT
DTSTART:20230312T070000
END:DAYLIGHT
BEGIN:STANDARD
TZOFFSETFROM:-0400
TZOFFSETTO:-0500
TZNAME:EST
DTSTART:20231105T060000
END:STANDARD
END:VTIMEZONE
BEGIN:VEVENT
DTSTART;TZID=America/New_York:20220618T090000
DTEND;TZID=America/New_York:20220618T110000
DTSTAMP:20260423T154235
CREATED:20220516T200405Z
LAST-MODIFIED:20220603T163659Z
UID:11806-1655542800-1655550000@spmoh.com
SUMMARY:June 18 Historic Trolley Tour
DESCRIPTION:Join us Saturday\, June 18th for a historic trolley tour of the Sunshine City.\nFrom Thrill Hill and Roser Park to Coffee Pot and Mirror Lake\, the Museum of History and Star Trolley take you on a historic trip through St. Pete’s past.\n\n\nPlease note that reservations are required and seating is limited on the trolley. There are only 18 seats available and parties are limited to 2 members. \n\nReservation opens to members one week early – Become a member today!\n\n\nPlease arrive 15 minutes before departure. There will be no refunds or exchanges for those missing the tour after the trolley departs.\n\nMembers: $30 | Not-yet-members: $35
URL:https://spmoh.com/event/june-18-historic-trolley-tour/
LOCATION:St. Petersburg Museum of History\, 335 2nd Ave NE\, St. Petersburg\, FL\, 33701\, United States
CATEGORIES:Trolley Tours
ATTACH;FMTTYPE=image/png:https://spmoh.com/wp-content/uploads/2022/05/Website-Event-Historic-St.-Pete-Trolley-Tour-1080-×-924-px-1.png
ORGANIZER;CN="Museum Services":MAILTO:info@spmoh.org
END:VEVENT
END:VCALENDAR