BEGIN:VCALENDAR
VERSION:2.0
PRODID:-//St. Petersburg Museum of History | St. Petersburg, Florida - ECPv6.15.17.1//NONSGML v1.0//EN
CALSCALE:GREGORIAN
METHOD:PUBLISH
X-WR-CALNAME:St. Petersburg Museum of History | St. Petersburg, Florida
X-ORIGINAL-URL:https://spmoh.com
X-WR-CALDESC:Events for St. Petersburg Museum of History | St. Petersburg, Florida
REFRESH-INTERVAL;VALUE=DURATION:PT1H
X-Robots-Tag:noindex
X-PUBLISHED-TTL:PT1H
BEGIN:VTIMEZONE
TZID:America/New_York
BEGIN:DAYLIGHT
TZOFFSETFROM:-0500
TZOFFSETTO:-0400
TZNAME:EDT
DTSTART:20220313T070000
END:DAYLIGHT
BEGIN:STANDARD
TZOFFSETFROM:-0400
TZOFFSETTO:-0500
TZNAME:EST
DTSTART:20221106T060000
END:STANDARD
BEGIN:DAYLIGHT
TZOFFSETFROM:-0500
TZOFFSETTO:-0400
TZNAME:EDT
DTSTART:20230312T070000
END:DAYLIGHT
BEGIN:STANDARD
TZOFFSETFROM:-0400
TZOFFSETTO:-0500
TZNAME:EST
DTSTART:20231105T060000
END:STANDARD
BEGIN:DAYLIGHT
TZOFFSETFROM:-0500
TZOFFSETTO:-0400
TZNAME:EDT
DTSTART:20240310T070000
END:DAYLIGHT
BEGIN:STANDARD
TZOFFSETFROM:-0400
TZOFFSETTO:-0500
TZNAME:EST
DTSTART:20241103T060000
END:STANDARD
END:VTIMEZONE
BEGIN:VEVENT
DTSTART;TZID=America/New_York:20231012T180000
DTEND;TZID=America/New_York:20231012T200000
DTSTAMP:20260423T092334
CREATED:20231004T140759Z
LAST-MODIFIED:20231004T141232Z
UID:12744-1697133600-1697140800@spmoh.com
SUMMARY:Happy Hour with the Historian: Mark Muncy - Eerie Florida
DESCRIPTION:The St. Petersburg Museum of History and Southern Roots Realty invites you to our monthly lecture series\, Happy Hour with the Historian featuring Mark Muncy. \n The Sunshine State is known for its miles of sandy white beaches\, warm sun\, and world-famous attractions\, but Florida is also home to hidden mysteries\, eerie legends\, unexplained phenomena\, and of course bizarre hauntings! \nAuthor Mark Muncy has crisscrossed Florida from Key West to the Emerald Coast\, hunting down stories of ghosts\, reports of paranormal activity\, and\, well\, anything eerie. His presentation will take you through haunted graveyards\, museums\, parks\, and battlefields. You’ll hear macabre stories of spectral pirates\, gangsters\, witches\, madmen\, and tales of bizarre creatures. \nMuncy is the creator of Hellview Cemetery\, a charity haunted house in central Florida that was so infamous it was banned by the City of St. Petersburg. An author of horror and science fiction\, he has spent over three decades collecting ghostly tales and reports of legendary beasts. He lives in St. Petersburg on the remains of an ancient midden. \n\n\n\n\nPresented by Southern Roots Realty\, Happy Hour with the Historian is frequently sold out\, so reservations are required. Admission without a reservation cannot be guaranteed. Reservations close the day of the event.\n\n\n\n\n\n\n\n\n\n\n\nMembers: $5 | Not-yet-members: $10\nCash bar provided.\nDoors open at 6pm. Program begins at 6:30pm.\nSeating is limited\, reserve your seats today! \nRegister Now\n\nNOTE: Seat assignments are not pre-assigned. Please arrive at 6PM if you require a special seating arrangement. \nPresented by:
URL:https://spmoh.com/event/mark-muncy-eerie-florida/
LOCATION:St. Petersburg Museum of History\, 335 2nd Ave NE\, St. Petersburg\, FL\, 33701\, United States
CATEGORIES:Happy Hour with the Historian
ATTACH;FMTTYPE=image/jpeg:https://spmoh.com/wp-content/uploads/2023/10/Mark-Muncy2.jpg
ORGANIZER;CN="Museum Services":MAILTO:info@spmoh.org
END:VEVENT
END:VCALENDAR