BEGIN:VCALENDAR
VERSION:2.0
PRODID:-//St. Petersburg Museum of History | St. Petersburg, Florida - ECPv6.15.17.1//NONSGML v1.0//EN
CALSCALE:GREGORIAN
METHOD:PUBLISH
X-WR-CALNAME:St. Petersburg Museum of History | St. Petersburg, Florida
X-ORIGINAL-URL:https://spmoh.com
X-WR-CALDESC:Events for St. Petersburg Museum of History | St. Petersburg, Florida
REFRESH-INTERVAL;VALUE=DURATION:PT1H
X-Robots-Tag:noindex
X-PUBLISHED-TTL:PT1H
BEGIN:VTIMEZONE
TZID:America/New_York
BEGIN:DAYLIGHT
TZOFFSETFROM:-0500
TZOFFSETTO:-0400
TZNAME:EDT
DTSTART:20220313T070000
END:DAYLIGHT
BEGIN:STANDARD
TZOFFSETFROM:-0400
TZOFFSETTO:-0500
TZNAME:EST
DTSTART:20221106T060000
END:STANDARD
BEGIN:DAYLIGHT
TZOFFSETFROM:-0500
TZOFFSETTO:-0400
TZNAME:EDT
DTSTART:20230312T070000
END:DAYLIGHT
BEGIN:STANDARD
TZOFFSETFROM:-0400
TZOFFSETTO:-0500
TZNAME:EST
DTSTART:20231105T060000
END:STANDARD
BEGIN:DAYLIGHT
TZOFFSETFROM:-0500
TZOFFSETTO:-0400
TZNAME:EDT
DTSTART:20240310T070000
END:DAYLIGHT
BEGIN:STANDARD
TZOFFSETFROM:-0400
TZOFFSETTO:-0500
TZNAME:EST
DTSTART:20241103T060000
END:STANDARD
END:VTIMEZONE
BEGIN:VEVENT
DTSTART;TZID=America/New_York:20231109T180000
DTEND;TZID=America/New_York:20231109T200000
DTSTAMP:20260423T111146
CREATED:20231102T133124Z
LAST-MODIFIED:20231102T133124Z
UID:12743-1699552800-1699560000@spmoh.com
SUMMARY:Happy Hour with the Historian: Memories of a Tuskegee Airmen Nurse
DESCRIPTION:The St. Petersburg Museum of History and Southern Roots Realty invite you to join us Nov. 9 for Happy Hour with the Historian! \nAuthor Pia Jordan will introduce and discuss her book\, Memories of a Tuskegee Airmen Nurse and Her Military Sisters. \nA scrapbook can tell much about a person’s life. Memories of a Tuskegee Airmen Nurse shares the World War II stories of when 28 women from the Army Nurse Corps staffed the hospital on the base where the Tuskegee Airmen were undergoing basic training. \nThese women were African American\, registered nurses\, and lieutenants in the U.S. Army Air Corps. \nPia’s mother was one of these Army officers\, and although her mother did not speak much of that time\, her Tuskegee Army Flying School scrapbook tells a much more detailed story. \nLike the famed pilots\, the nurses had to fight racial discrimination\, but also faced gender bias. \nA retired professor at the School of Global Journalism at Morgan State University\, Pia Jordan is the project director of the Tuskegee Army Nurses Project. She currently lives in St. Petersburg. \n\n\n\nPresented by Southern Roots Realty\, Happy Hour with the Historian is frequently sold out\, so reservations are required. Admission without a reservation cannot be guaranteed. Reservations close the day of the event.\n\n\n\n\n\n\n\n\nMembers: $5 | Not-yet-members: $10\nCash bar provided.\nDoors open at 6pm. Program begins at 6:30pm.\nSeating is limited\, reserve your seats today! \nRegister Now\n \nNOTE: Seat assignments are not pre-assigned. Please arrive at 6PM if you require a special seating arrangement. \nPresented by:
URL:https://spmoh.com/event/memories-of-a-tuskegee-airmen-nurse/
LOCATION:St. Petersburg Museum of History\, 335 2nd Ave NE\, St. Petersburg\, FL\, 33701\, United States
CATEGORIES:Happy Hour with the Historian
ATTACH;FMTTYPE=image/png:https://spmoh.com/wp-content/uploads/2023/07/Screenshot-84.png
ORGANIZER;CN="Museum Services":MAILTO:info@spmoh.org
END:VEVENT
END:VCALENDAR