BEGIN:VCALENDAR
VERSION:2.0
PRODID:-//St. Petersburg Museum of History | St. Petersburg, Florida - ECPv6.15.17.1//NONSGML v1.0//EN
CALSCALE:GREGORIAN
METHOD:PUBLISH
X-WR-CALNAME:St. Petersburg Museum of History | St. Petersburg, Florida
X-ORIGINAL-URL:https://spmoh.com
X-WR-CALDESC:Events for St. Petersburg Museum of History | St. Petersburg, Florida
REFRESH-INTERVAL;VALUE=DURATION:PT1H
X-Robots-Tag:noindex
X-PUBLISHED-TTL:PT1H
BEGIN:VTIMEZONE
TZID:America/New_York
BEGIN:DAYLIGHT
TZOFFSETFROM:-0500
TZOFFSETTO:-0400
TZNAME:EDT
DTSTART:20240310T070000
END:DAYLIGHT
BEGIN:STANDARD
TZOFFSETFROM:-0400
TZOFFSETTO:-0500
TZNAME:EST
DTSTART:20241103T060000
END:STANDARD
BEGIN:DAYLIGHT
TZOFFSETFROM:-0500
TZOFFSETTO:-0400
TZNAME:EDT
DTSTART:20250309T070000
END:DAYLIGHT
BEGIN:STANDARD
TZOFFSETFROM:-0400
TZOFFSETTO:-0500
TZNAME:EST
DTSTART:20251102T060000
END:STANDARD
BEGIN:DAYLIGHT
TZOFFSETFROM:-0500
TZOFFSETTO:-0400
TZNAME:EDT
DTSTART:20260308T070000
END:DAYLIGHT
BEGIN:STANDARD
TZOFFSETFROM:-0400
TZOFFSETTO:-0500
TZNAME:EST
DTSTART:20261101T060000
END:STANDARD
END:VTIMEZONE
BEGIN:VEVENT
DTSTART;TZID=America/New_York:20250424T183000
DTEND;TZID=America/New_York:20250424T200000
DTSTAMP:20260423T110652
CREATED:20250417T142927Z
LAST-MODIFIED:20250417T142927Z
UID:15201-1745519400-1745524800@spmoh.com
SUMMARY:Moments of Truth: An Exploration of Journalism's Past\, Present\, and Future
DESCRIPTION:The St. Petersburg Museum of History and Poynter Institute invite you to join us on Thursday\, April 24th\, for a special community conversation on Poynter’s new traveling exhibit “Moments of Truth: An Exploration of Journalism’s Past\, Present\, and Future.” \nThis traveling pop-up exhibit on display at the Museum of History traces the evolution of storytelling and journalism while highlighting its vital role in defending democracy. \nDon’t wait\, sign up now for this FREE EVENT and take part in an enlightening look at journalism’s past\, present\, and future. \nCall the Museum’s Guest Services Desk at 727-894-1052\, ex. 200 with any registration questions. \n\n\nPurchase Tickets Now\n \n 
URL:https://spmoh.com/event/moments-of-truth-an-exploration-of-journalisms-past-present-and-future/
LOCATION:St. Petersburg Museum of History\, 335 2nd Ave NE\, St. Petersburg\, FL\, 33701\, United States
CATEGORIES:Special Event
ATTACH;FMTTYPE=image/jpeg:https://spmoh.com/wp-content/uploads/2025/04/Museum-Email-Image-April-2025.jpg
ORGANIZER;CN="Museum Services":MAILTO:info@spmoh.org
END:VEVENT
END:VCALENDAR