BEGIN:VCALENDAR
VERSION:2.0
PRODID:-//St. Petersburg Museum of History | St. Petersburg, Florida - ECPv6.15.17.1//NONSGML v1.0//EN
CALSCALE:GREGORIAN
METHOD:PUBLISH
X-WR-CALNAME:St. Petersburg Museum of History | St. Petersburg, Florida
X-ORIGINAL-URL:https://spmoh.com
X-WR-CALDESC:Events for St. Petersburg Museum of History | St. Petersburg, Florida
REFRESH-INTERVAL;VALUE=DURATION:PT1H
X-Robots-Tag:noindex
X-PUBLISHED-TTL:PT1H
BEGIN:VTIMEZONE
TZID:America/New_York
BEGIN:DAYLIGHT
TZOFFSETFROM:-0500
TZOFFSETTO:-0400
TZNAME:EDT
DTSTART:20250309T070000
END:DAYLIGHT
BEGIN:STANDARD
TZOFFSETFROM:-0400
TZOFFSETTO:-0500
TZNAME:EST
DTSTART:20251102T060000
END:STANDARD
BEGIN:DAYLIGHT
TZOFFSETFROM:-0500
TZOFFSETTO:-0400
TZNAME:EDT
DTSTART:20260308T070000
END:DAYLIGHT
BEGIN:STANDARD
TZOFFSETFROM:-0400
TZOFFSETTO:-0500
TZNAME:EST
DTSTART:20261101T060000
END:STANDARD
BEGIN:DAYLIGHT
TZOFFSETFROM:-0500
TZOFFSETTO:-0400
TZNAME:EDT
DTSTART:20270314T070000
END:DAYLIGHT
BEGIN:STANDARD
TZOFFSETFROM:-0400
TZOFFSETTO:-0500
TZNAME:EST
DTSTART:20271107T060000
END:STANDARD
END:VTIMEZONE
BEGIN:VEVENT
DTSTART;TZID=America/New_York:20260221T090000
DTEND;TZID=America/New_York:20260221T110000
DTSTAMP:20260423T062324
CREATED:20260130T103422Z
LAST-MODIFIED:20260130T103422Z
UID:16132-1771664400-1771671600@spmoh.com
SUMMARY:Rum Runners\, Spaniards & Natives Tour of West St. Pete
DESCRIPTION:Join us on Saturday\, February 21st for an historic trolley tour of West St. Petersburg!  \nRum Runners\, Spaniards & Natives historic trolley tour travels to the Jungle Prada area\, sharing stories of our first residents\, the arrival of the Spanish\, and the colorful characters that made St. Petersburg famous during prohibition.  \nSeating is limited\, so reserve your spot today! \nRegister Now
URL:https://spmoh.com/event/rum-runners-spaniards-natives-tour-of-west-st-pete-18/
LOCATION:St. Petersburg Museum of History\, 335 2nd Ave NE\, St. Petersburg\, FL\, 33701\, United States
ATTACH;FMTTYPE=image/jpeg:https://spmoh.com/wp-content/uploads/2024/06/Rum-Runners-Spaniards-Natives-Historic-Trolley-Tour.jpg
ORGANIZER;CN="St. Petersburg Museum of History":MAILTO:info@spmoh.org
END:VEVENT
END:VCALENDAR