BEGIN:VCALENDAR
VERSION:2.0
PRODID:-//St. Petersburg Museum of History | St. Petersburg, Florida - ECPv6.15.17.1//NONSGML v1.0//EN
CALSCALE:GREGORIAN
METHOD:PUBLISH
X-WR-CALNAME:St. Petersburg Museum of History | St. Petersburg, Florida
X-ORIGINAL-URL:https://spmoh.com
X-WR-CALDESC:Events for St. Petersburg Museum of History | St. Petersburg, Florida
REFRESH-INTERVAL;VALUE=DURATION:PT1H
X-Robots-Tag:noindex
X-PUBLISHED-TTL:PT1H
BEGIN:VTIMEZONE
TZID:America/New_York
BEGIN:DAYLIGHT
TZOFFSETFROM:-0500
TZOFFSETTO:-0400
TZNAME:EDT
DTSTART:20210314T070000
END:DAYLIGHT
BEGIN:STANDARD
TZOFFSETFROM:-0400
TZOFFSETTO:-0500
TZNAME:EST
DTSTART:20211107T060000
END:STANDARD
BEGIN:DAYLIGHT
TZOFFSETFROM:-0500
TZOFFSETTO:-0400
TZNAME:EDT
DTSTART:20220313T070000
END:DAYLIGHT
BEGIN:STANDARD
TZOFFSETFROM:-0400
TZOFFSETTO:-0500
TZNAME:EST
DTSTART:20221106T060000
END:STANDARD
BEGIN:DAYLIGHT
TZOFFSETFROM:-0500
TZOFFSETTO:-0400
TZNAME:EDT
DTSTART:20230312T070000
END:DAYLIGHT
BEGIN:STANDARD
TZOFFSETFROM:-0400
TZOFFSETTO:-0500
TZNAME:EST
DTSTART:20231105T060000
END:STANDARD
END:VTIMEZONE
BEGIN:VEVENT
DTSTART;TZID=America/New_York:20220914T180000
DTEND;TZID=America/New_York:20220914T193000
DTSTAMP:20260423T142733
CREATED:20220816T163345Z
LAST-MODIFIED:20220909T162311Z
UID:12023-1663178400-1663183800@spmoh.com
SUMMARY:September 14 Summer Downtown Walking Tour
DESCRIPTION:Join us on Wednesday\, September 14 for our monthly Downtown Walking Tour of St. Pete!\nThe tour explores the cultural history of downtown while viewing historical landmarks. These 90-minute Summer tours depart from the Museum at 6PM. Admission is limited\, so reserve your spot today!\n\nReserve your spot now!\n\nReserve quick—there are only 20 spots available! Parties are limited to 2 guests.\n\nReservations are required. Admission without a reservation cannot be accepted. Reservations close the day before the event or when all 20 spots are filled.\n\nMember Reservation: $10 | Not-Yet-Member Reservation: $15\n\nPlease arrive 15 minutes before the tour departs.\nThere are no refunds or exchanges for those arriving after the tour departs.\nReservations are very limited\, reserve your spots today!
URL:https://spmoh.com/event/september-14-downtown-walking-tour/
LOCATION:St. Petersburg Museum of History\, 335 2nd Ave NE\, St. Petersburg\, FL\, 33701\, United States
CATEGORIES:Walking Tours
ATTACH;FMTTYPE=image/png:https://spmoh.com/wp-content/uploads/2022/05/SUMMER-Website-Event-Walking-Tour-2.png
ORGANIZER;CN="Museum Services":MAILTO:info@spmoh.org
END:VEVENT
END:VCALENDAR