BEGIN:VCALENDAR
VERSION:2.0
PRODID:-//St. Petersburg Museum of History | St. Petersburg, Florida - ECPv6.15.17.1//NONSGML v1.0//EN
CALSCALE:GREGORIAN
METHOD:PUBLISH
X-WR-CALNAME:St. Petersburg Museum of History | St. Petersburg, Florida
X-ORIGINAL-URL:https://spmoh.com
X-WR-CALDESC:Events for St. Petersburg Museum of History | St. Petersburg, Florida
REFRESH-INTERVAL;VALUE=DURATION:PT1H
X-Robots-Tag:noindex
X-PUBLISHED-TTL:PT1H
BEGIN:VTIMEZONE
TZID:America/New_York
BEGIN:DAYLIGHT
TZOFFSETFROM:-0500
TZOFFSETTO:-0400
TZNAME:EDT
DTSTART:20240310T070000
END:DAYLIGHT
BEGIN:STANDARD
TZOFFSETFROM:-0400
TZOFFSETTO:-0500
TZNAME:EST
DTSTART:20241103T060000
END:STANDARD
BEGIN:DAYLIGHT
TZOFFSETFROM:-0500
TZOFFSETTO:-0400
TZNAME:EDT
DTSTART:20250309T070000
END:DAYLIGHT
BEGIN:STANDARD
TZOFFSETFROM:-0400
TZOFFSETTO:-0500
TZNAME:EST
DTSTART:20251102T060000
END:STANDARD
BEGIN:DAYLIGHT
TZOFFSETFROM:-0500
TZOFFSETTO:-0400
TZNAME:EDT
DTSTART:20260308T070000
END:DAYLIGHT
BEGIN:STANDARD
TZOFFSETFROM:-0400
TZOFFSETTO:-0500
TZNAME:EST
DTSTART:20261101T060000
END:STANDARD
END:VTIMEZONE
BEGIN:VEVENT
DTSTART;TZID=America/New_York:20250925T180000
DTEND;TZID=America/New_York:20250925T200000
DTSTAMP:20260423T074738
CREATED:20250901T133821Z
LAST-MODIFIED:20250901T160928Z
UID:15556-1758823200-1758830400@spmoh.com
SUMMARY:Sunshine City Chorus concert!
DESCRIPTION:St. Petersburg’s own Sunshine City Chorus\, newly crowned Barbershop Chorus Champions for the State of Florida\, will share their 4-Part Harmony talents singing a variety of tunes from old favorites such as “Coney Island Baby”\, “Hello\, Mary Lou” and “Sentimental Journey” to more contemporary 4-Part arrangements from “The Lion King”\, “Toy Story” and others. The presentation incorporates song\, humor\, a little magic\, and audience participation! \nDoors and cash bar for the September 25 performance open at 6pm. The program begins at 6:30pm..  \n\n\n\n\nMembers: $10 | Not-yet-members: $15\nCash bar provided.\nDoors open at 6PM. Program begins at 6:30PM.\nSeating is limited\, reserve your seats today! \n  \n  \nRegister Now\n \n  \n  \nNOTE: Seat assignments are not pre-assigned. Please arrive at 6PM if you require a special seating arrangement.
URL:https://spmoh.com/event/sunshine-city-chorus-concert/
LOCATION:St. Petersburg Museum of History\, 335 2nd Ave NE\, St. Petersburg\, FL\, 33701\, United States
CATEGORIES:Special Event
ATTACH;FMTTYPE=image/jpeg:https://spmoh.com/wp-content/uploads/2025/09/Sunshine-City-Chorus-.jpg
ORGANIZER;CN="Museum Services":MAILTO:info@spmoh.org
END:VEVENT
END:VCALENDAR