BEGIN:VCALENDAR
VERSION:2.0
PRODID:-//St. Petersburg Museum of History | St. Petersburg, Florida - ECPv6.15.17.1//NONSGML v1.0//EN
CALSCALE:GREGORIAN
METHOD:PUBLISH
X-WR-CALNAME:St. Petersburg Museum of History | St. Petersburg, Florida
X-ORIGINAL-URL:https://spmoh.com
X-WR-CALDESC:Events for St. Petersburg Museum of History | St. Petersburg, Florida
REFRESH-INTERVAL;VALUE=DURATION:PT1H
X-Robots-Tag:noindex
X-PUBLISHED-TTL:PT1H
BEGIN:VTIMEZONE
TZID:America/New_York
BEGIN:DAYLIGHT
TZOFFSETFROM:-0500
TZOFFSETTO:-0400
TZNAME:EDT
DTSTART:20250309T070000
END:DAYLIGHT
BEGIN:STANDARD
TZOFFSETFROM:-0400
TZOFFSETTO:-0500
TZNAME:EST
DTSTART:20251102T060000
END:STANDARD
BEGIN:DAYLIGHT
TZOFFSETFROM:-0500
TZOFFSETTO:-0400
TZNAME:EDT
DTSTART:20260308T070000
END:DAYLIGHT
BEGIN:STANDARD
TZOFFSETFROM:-0400
TZOFFSETTO:-0500
TZNAME:EST
DTSTART:20261101T060000
END:STANDARD
BEGIN:DAYLIGHT
TZOFFSETFROM:-0500
TZOFFSETTO:-0400
TZNAME:EDT
DTSTART:20270314T070000
END:DAYLIGHT
BEGIN:STANDARD
TZOFFSETFROM:-0400
TZOFFSETTO:-0500
TZNAME:EST
DTSTART:20271107T060000
END:STANDARD
END:VTIMEZONE
BEGIN:VEVENT
DTSTART;TZID=America/New_York:20260422T180000
DTEND;TZID=America/New_York:20260422T200000
DTSTAMP:20260423T011051
CREATED:20260402T195008Z
LAST-MODIFIED:20260402T195008Z
UID:16483-1776880800-1776888000@spmoh.com
SUMMARY:Encore Viewing: Our City Our Airport – Albert Whitted Documentary
DESCRIPTION:Our City\, Our Airport explores the history and significance of Albert Whitted Airport from its founding in 1929 to its present role in aviation. Produced by Andrew Lee and Laura Landry in partnership with the Friends of Albert Whitted Airport\, this documentary celebrates the remarkable history of Albert Whitted Airport. \nFrom an early hub of Goodyear blimps and the birthplace of National Airlines\, to the home of Army Air Corps fighter training during WWII\, this small St. Petersburg airport has played a major role in the city’s growth.  \nSPMOH Members: $5.00  |  Not-yet-Members: $10.00 \n  \nRegister Now\n \n 
URL:https://spmoh.com/event/encore-viewing-our-city-our-airport-albert-whitted-documentary/
LOCATION:St. Petersburg Museum of History\, 335 2nd Ave NE\, St. Petersburg\, FL\, 33701\, United States
CATEGORIES:Special Event
ATTACH;FMTTYPE=image/png:https://spmoh.com/wp-content/uploads/2026/04/Our-City-Our-Airport-596x596-1.png
ORGANIZER;CN="St. Petersburg Museum of History":MAILTO:info@spmoh.org
END:VEVENT
END:VCALENDAR