BEGIN:VCALENDAR
VERSION:2.0
PRODID:-//St. Petersburg Museum of History | St. Petersburg, Florida - ECPv6.15.17.1//NONSGML v1.0//EN
CALSCALE:GREGORIAN
METHOD:PUBLISH
X-ORIGINAL-URL:https://spmoh.com
X-WR-CALDESC:Events for St. Petersburg Museum of History | St. Petersburg, Florida
REFRESH-INTERVAL;VALUE=DURATION:PT1H
X-Robots-Tag:noindex
X-PUBLISHED-TTL:PT1H
BEGIN:VTIMEZONE
TZID:America/New_York
BEGIN:DAYLIGHT
TZOFFSETFROM:-0500
TZOFFSETTO:-0400
TZNAME:EDT
DTSTART:20250309T070000
END:DAYLIGHT
BEGIN:STANDARD
TZOFFSETFROM:-0400
TZOFFSETTO:-0500
TZNAME:EST
DTSTART:20251102T060000
END:STANDARD
BEGIN:DAYLIGHT
TZOFFSETFROM:-0500
TZOFFSETTO:-0400
TZNAME:EDT
DTSTART:20260308T070000
END:DAYLIGHT
BEGIN:STANDARD
TZOFFSETFROM:-0400
TZOFFSETTO:-0500
TZNAME:EST
DTSTART:20261101T060000
END:STANDARD
BEGIN:DAYLIGHT
TZOFFSETFROM:-0500
TZOFFSETTO:-0400
TZNAME:EDT
DTSTART:20270314T070000
END:DAYLIGHT
BEGIN:STANDARD
TZOFFSETFROM:-0400
TZOFFSETTO:-0500
TZNAME:EST
DTSTART:20271107T060000
END:STANDARD
END:VTIMEZONE
BEGIN:VEVENT
DTSTART;TZID=America/New_York:20260514T180000
DTEND;TZID=America/New_York:20260514T200000
DTSTAMP:20260423T061559
CREATED:20260422T170349Z
LAST-MODIFIED:20260422T172554Z
UID:16671-1778781600-1778788800@spmoh.com
SUMMARY:Happy Hour with the Historian - Florida & Afro-Caribbean Peoples
DESCRIPTION:Florida and Afro-Caribbean peoples have shared historical ties dating back to Ponce de León’s arrival on Florida’s shores. This Happy Hour examines the history\, unique characteristics\, and settlement patterns of Afro-Caribbean peoples who settled in Florida from the Spanish colonization period to the present. \nThe discussion will cover some of the Spanish\, English\, and French-speaking Caribbean islands and the significant contributions those groups have made to Florida’s cultural\, economic\, political\, social\, and environmental development. \n  \nRegister Now
URL:https://spmoh.com/event/happy-hour-with-the-historian-florida-afro-caribbean-peoples/
LOCATION:St. Petersburg Museum of History\, 335 2nd Ave NE\, St. Petersburg\, FL\, 33701\, United States
CATEGORIES:Happy Hour with the Historian
ATTACH;FMTTYPE=image/jpeg:https://spmoh.com/wp-content/uploads/2026/04/Caribbean-Map-NoBorder-800x643-1.jpg
ORGANIZER;CN="St. Petersburg Museum of History":MAILTO:info@spmoh.org
END:VEVENT
END:VCALENDAR