BEGIN:VCALENDAR
VERSION:2.0
PRODID:-//St. Petersburg Museum of History | St. Petersburg, Florida - ECPv6.15.17.1//NONSGML v1.0//EN
CALSCALE:GREGORIAN
METHOD:PUBLISH
X-WR-CALNAME:St. Petersburg Museum of History | St. Petersburg, Florida
X-ORIGINAL-URL:https://spmoh.com
X-WR-CALDESC:Events for St. Petersburg Museum of History | St. Petersburg, Florida
REFRESH-INTERVAL;VALUE=DURATION:PT1H
X-Robots-Tag:noindex
X-PUBLISHED-TTL:PT1H
BEGIN:VTIMEZONE
TZID:America/New_York
BEGIN:DAYLIGHT
TZOFFSETFROM:-0500
TZOFFSETTO:-0400
TZNAME:EDT
DTSTART:20210314T070000
END:DAYLIGHT
BEGIN:STANDARD
TZOFFSETFROM:-0400
TZOFFSETTO:-0500
TZNAME:EST
DTSTART:20211107T060000
END:STANDARD
BEGIN:DAYLIGHT
TZOFFSETFROM:-0500
TZOFFSETTO:-0400
TZNAME:EDT
DTSTART:20220313T070000
END:DAYLIGHT
BEGIN:STANDARD
TZOFFSETFROM:-0400
TZOFFSETTO:-0500
TZNAME:EST
DTSTART:20221106T060000
END:STANDARD
BEGIN:DAYLIGHT
TZOFFSETFROM:-0500
TZOFFSETTO:-0400
TZNAME:EDT
DTSTART:20230312T070000
END:DAYLIGHT
BEGIN:STANDARD
TZOFFSETFROM:-0400
TZOFFSETTO:-0500
TZNAME:EST
DTSTART:20231105T060000
END:STANDARD
END:VTIMEZONE
BEGIN:VEVENT
DTSTART;TZID=America/New_York:20220609T183000
DTEND;TZID=America/New_York:20220609T200000
DTSTAMP:20260423T125700
CREATED:20220506T172212Z
LAST-MODIFIED:20220602T144200Z
UID:11702-1654799400-1654804800@spmoh.com
SUMMARY:Happy Hour with the Historian: Bill DeYoung | Vintage St. Pete II: Legends\, Locations\, Lifestyles
DESCRIPTION:Join us on Thursday\, June 9th as the Museum of History and UPC Insurance welcome Bill DeYoung and his presentation\, “Vintage St. Pete II: Legends\, Locations Lifestyles.” \n  \nPresented by UPC Insurance\, Happy Hour with the Historian is frequently sold out\, so reservations are required. Admission without a reservation cannot be guaranteed. Reservations close the day of the event.   \nMembers: FREE | Not-yet-members: $10 \nCash bar provided. \nDoors open at 6 pm. The program begins at 6:30 pm. \nSeating is limited\, reserve your seats today!
URL:https://spmoh.com/event/happy-hour-with-the-historian-bill-deyoung-vintage-st-pete-ii-legends-locations-lifestyles/
LOCATION:St. Petersburg Museum of History\, 335 2nd Ave NE\, St. Petersburg\, FL\, 33701\, United States
CATEGORIES:Happy Hour with the Historian
ORGANIZER;CN="Museum Services":MAILTO:info@spmoh.org
END:VEVENT
BEGIN:VEVENT
DTSTART;TZID=America/New_York:20220512T183000
DTEND;TZID=America/New_York:20220512T200000
DTSTAMP:20260423T125700
CREATED:20220506T084033Z
LAST-MODIFIED:20220507T231341Z
UID:11696-1652380200-1652385600@spmoh.com
SUMMARY:Happy Hour with the Historian: Dr. Gary Mormino\, Dreams in the New Century: Instant Cities\, Shattered Hopes\, and Florida’s Turning Point
DESCRIPTION:Join the St. Petersburg Museum of History on Thursday\, May 12 as the museum\, UPC Insurance and Florida Humanities welcomes Dr. Gary Mormino and his presentation\, “Dreams in the New Century: Instant Cities\, Shattered Hopes and Florida’s Turning Point\,” with a special book signing. \nGary Mormino is an author of a wide range of academic and popular books. Immigrants on the Hill (University of Illinois press\, 1986) won the Howard Marraro Prize as the outstanding book in Italian history. The Immigrant World of Ybor City (University of Illinois Press\, 1987) received the Theodore Saloutos Prize for the outstanding book in ethnic-immigration history. In addition\, two of his articles have received prizes for the best writing in Florida history. He has written for the St. Petersburg Times\, Orlando Sentinel\, and Miami Herald. \nAlmost two decades ago\, Mormino began to research a social history of modern Florida. Land of Sunshine\, State of Dreams: A Social History of Modern Florida was published in the spring of 2005 by the University Press of Florida. Readers have called it a seminal study in state history. In 2006\, the Florida Historical Society awarded the book the Charlton Tebeau Prize. Dr. Mormino received his Ph.D. from the University of North Carolina and has taught at USF since 1977. In 2003\,  Florida Humanities named him its first Humanist of the Year.
URL:https://spmoh.com/event/happy-hour-with-the-historian-dr-gary-mormino-dreams-in-the-new-century-instant-cities-shattered-hopes-and-floridas-turning-point/
LOCATION:St. Petersburg Museum of History\, 335 2nd Ave NE\, St. Petersburg\, FL\, 33701\, United States
CATEGORIES:Happy Hour with the Historian
ATTACH;FMTTYPE=image/jpeg:https://spmoh.com/wp-content/uploads/2022/05/Gary-Mormino.jpg
ORGANIZER;CN="Museum Services":MAILTO:info@spmoh.org
END:VEVENT
BEGIN:VEVENT
DTSTART;TZID=America/New_York:20220414T183000
DTEND;TZID=America/New_York:20220414T193000
DTSTAMP:20260423T125700
CREATED:20211228T212555Z
LAST-MODIFIED:20220411T155451Z
UID:11152-1649961000-1649964600@spmoh.com
SUMMARY:Happy Hour with the Historian: Kerry Kriseman\, Accidental First Lady
DESCRIPTION:Presented By\n\nHappy Hour with the  Historian:\nKerry Kriseman\nProgram: Accidental First Lady: On The Front Lines (and Behind-the-Scenes) of Local Politics \n\nDoors open at 6:00 pm | Program begins at 6:30 pm\nAdmission: $10 | Free for SPMOH Members (Not a member? Become one today!)\nCash bar provided\n\nAdvanced reservations are open to Museum Members 3 weeks prior to each event. Members will receive an email notification to register online when reservations open for each event. Reservations are open to the public 2 weeks prior to each event. \nAbout the Program:  \nKerry Kriseman is a St. Petersburg native and graduate of the University of South Florida with a B.A. in Mass Communications/ Broadcasting. Her professional career spans 30 years with a 10-year stint in between\, raising her two children\, volunteering in the community and serving on multiple non-profit boards.  \nKerry worked in print media for the St. Petersburg Times (now Tampa Bay Times) in various positions in the Newsroom and Marketing Department.  When her youngest child Samuel began Kindergarten in 2008\, Kerry joined Creative Clay as the public relations manager. The non-profit creates equality through art with programs for individuals with neuro-differences.  \nDespite its challenges\, Kerry has enjoyed being a political spouse to her husband throughout his 22-year political career. For the past 8 years\, she has enjoyed being an “accidental first lady” of St. Petersburg\, Florida. Historical dramas\, traveling\, scratch cooking\, drinking wine\, daily walks\, and long bike rides on the Pinellas Trail fill any free time. \nPlease note that seating is no longer pre-assigned\, so if you have specfic seating preferences\, you should arrive at 6PM in order to select it. We will have cards that you can write your name on to save your chosen seat while you chat and wait for wine.       \nPresented by UPC Insurance\, Happy Hour with the Historian is frequently sold out\, so reservations are required. Admission without a reservation cannot be guaranteed. Reservations close the day of the event.  
URL:https://spmoh.com/event/accidental-first-lady-on-the-front-lines/
LOCATION:St. Petersburg Museum of History\, 335 2nd Ave NE\, St. Petersburg\, FL\, 33701\, United States
CATEGORIES:Happy Hour with the Historian
ATTACH;FMTTYPE=image/jpeg:https://spmoh.com/wp-content/uploads/2021/12/KerryKriesman-AccidentalFirstLady.jpg
ORGANIZER;CN="Museum Services":MAILTO:info@spmoh.org
END:VEVENT
BEGIN:VEVENT
DTSTART;TZID=America/New_York:20220310T183000
DTEND;TZID=America/New_York:20220310T200000
DTSTAMP:20260423T125700
CREATED:20211228T160319Z
LAST-MODIFIED:20220303T222405Z
UID:11146-1646937000-1646942400@spmoh.com
SUMMARY:Happy Hour with the Historian: Craig Pittman
DESCRIPTION:Registration: http://events.constantcontact.com/register/event?llr=br7uyuyab&oeidk=a07ej20nmr60497096e \nProgram: Cat Tales: The Wild Weird Battle to Save the Florida Panther \n\nDoors open at 6:00 pm | Program begins at 6:30 pm\nAdmission: $10 | Free for SPMOH Members (Not a member? Become one today!)\nCash bar provided
URL:https://spmoh.com/event/happy-hour-with-the-historian-craig-pittman/
LOCATION:St. Petersburg Museum of History\, 335 2nd Ave NE\, St. Petersburg\, FL\, 33701\, United States
CATEGORIES:Happy Hour with the Historian
ATTACH;FMTTYPE=image/jpeg:https://spmoh.com/wp-content/uploads/2021/12/FloridaPanther-Cat-Tale.jpg
ORGANIZER;CN="Museum Services":MAILTO:info@spmoh.org
END:VEVENT
BEGIN:VEVENT
DTSTART;TZID=America/New_York:20220210T173000
DTEND;TZID=America/New_York:20220210T183000
DTSTAMP:20260423T125700
CREATED:20211226T153229Z
LAST-MODIFIED:20211228T225514Z
UID:11072-1644514200-1644517800@spmoh.com
SUMMARY:Happy Hour with the Historian: Eric Gray
DESCRIPTION:An Evening of Wine\, Words\, and Wisdom with Eric Gray\, Author. \nProgram: Bases to Bleachers – A Collection of Personal Baseball Stories \n\nDoors open at 6:00 pm | Program begins at 6:30 pm\nAdmission: $10 | Free for SPMOH Members (Not a member? Become one today!)\nCash bar provided. | Face masks are required for entry and must be worn at all times\, except while eating or drinking.\n\nAdvanced reservations are open to Museum Members two weeks prior to each event. Members will receive an email notification to register online when reservations open for each event.
URL:https://spmoh.com/event/happy-hour-with-the-historian-eric-gray/
LOCATION:St. Petersburg Museum of History\, 335 2nd Ave NE\, St. Petersburg\, FL\, 33701\, United States
CATEGORIES:Happy Hour with the Historian
ATTACH;FMTTYPE=image/jpeg:https://spmoh.com/wp-content/uploads/2021/12/ric-Grey-Bases-to-Bleachers-A-Collection-of-Personal-Baseball-Stories.jpg
ORGANIZER;CN="Museum Services":MAILTO:info@spmoh.org
END:VEVENT
BEGIN:VEVENT
DTSTART;TZID=America/New_York:20220113T173000
DTEND;TZID=America/New_York:20220113T183000
DTSTAMP:20260423T125700
CREATED:20211226T124920Z
LAST-MODIFIED:20211228T140226Z
UID:11064-1642095000-1642098600@spmoh.com
SUMMARY:Happy Hour with the Historian: Dr. Kathyrn Weedman Arthur
DESCRIPTION:An Evening of Wine\, Words\, and Wisdom with Dr. Kathyrn Weedman Arthur. \nProgram: Black Heritage Landscapes: St. Pete 1868-1930 \n\nDoors open at 6:00 pm | Program begins at 6:30 pm\nAdmission: $10 | Free for SPMOH Members (Not a member? Become one today!)\nCash bar provided. | Face masks are required for entry and must be worn at all times\, except while eating or drinking.\n\nAdvanced reservations are open to Museum Members two weeks prior to each event. Members will receive an email notification to register online when reservations open for each event.
URL:https://spmoh.com/event/happy-hour-with-the-historian-dr-kathyrn-weedman-arthur/
LOCATION:St. Petersburg Museum of History\, 335 2nd Ave NE\, St. Petersburg\, FL\, 33701\, United States
CATEGORIES:Happy Hour with the Historian
ATTACH;FMTTYPE=image/jpeg:https://spmoh.com/wp-content/uploads/2021/12/Dr.-Kathryn-Weedman-Arthur.jpg
ORGANIZER;CN="Museum Services":MAILTO:info@spmoh.org
END:VEVENT
END:VCALENDAR