BEGIN:VCALENDAR
VERSION:2.0
PRODID:-//St. Petersburg Museum of History | St. Petersburg, Florida - ECPv6.15.17.1//NONSGML v1.0//EN
CALSCALE:GREGORIAN
METHOD:PUBLISH
X-WR-CALNAME:St. Petersburg Museum of History | St. Petersburg, Florida
X-ORIGINAL-URL:https://spmoh.com
X-WR-CALDESC:Events for St. Petersburg Museum of History | St. Petersburg, Florida
REFRESH-INTERVAL;VALUE=DURATION:PT1H
X-Robots-Tag:noindex
X-PUBLISHED-TTL:PT1H
BEGIN:VTIMEZONE
TZID:America/New_York
BEGIN:DAYLIGHT
TZOFFSETFROM:-0500
TZOFFSETTO:-0400
TZNAME:EDT
DTSTART:20220313T070000
END:DAYLIGHT
BEGIN:STANDARD
TZOFFSETFROM:-0400
TZOFFSETTO:-0500
TZNAME:EST
DTSTART:20221106T060000
END:STANDARD
BEGIN:DAYLIGHT
TZOFFSETFROM:-0500
TZOFFSETTO:-0400
TZNAME:EDT
DTSTART:20230312T070000
END:DAYLIGHT
BEGIN:STANDARD
TZOFFSETFROM:-0400
TZOFFSETTO:-0500
TZNAME:EST
DTSTART:20231105T060000
END:STANDARD
BEGIN:DAYLIGHT
TZOFFSETFROM:-0500
TZOFFSETTO:-0400
TZNAME:EDT
DTSTART:20240310T070000
END:DAYLIGHT
BEGIN:STANDARD
TZOFFSETFROM:-0400
TZOFFSETTO:-0500
TZNAME:EST
DTSTART:20241103T060000
END:STANDARD
BEGIN:DAYLIGHT
TZOFFSETFROM:-0500
TZOFFSETTO:-0400
TZNAME:EDT
DTSTART:20250309T070000
END:DAYLIGHT
BEGIN:STANDARD
TZOFFSETFROM:-0400
TZOFFSETTO:-0500
TZNAME:EST
DTSTART:20251102T060000
END:STANDARD
BEGIN:DAYLIGHT
TZOFFSETFROM:-0500
TZOFFSETTO:-0400
TZNAME:EDT
DTSTART:20260308T070000
END:DAYLIGHT
BEGIN:STANDARD
TZOFFSETFROM:-0400
TZOFFSETTO:-0500
TZNAME:EST
DTSTART:20261101T060000
END:STANDARD
BEGIN:DAYLIGHT
TZOFFSETFROM:-0500
TZOFFSETTO:-0400
TZNAME:EDT
DTSTART:20270314T070000
END:DAYLIGHT
BEGIN:STANDARD
TZOFFSETFROM:-0400
TZOFFSETTO:-0500
TZNAME:EST
DTSTART:20271107T060000
END:STANDARD
END:VTIMEZONE
BEGIN:VEVENT
DTSTART;TZID=America/New_York:20260415T183000
DTEND;TZID=America/New_York:20260415T203000
DTSTAMP:20260423T043150
CREATED:20260331T143018Z
LAST-MODIFIED:20260331T143018Z
UID:16274-1776277800-1776285000@spmoh.com
SUMMARY:A Ghostly Haunted Trolley Tour
DESCRIPTION:Join us Wednesday\, April 15\, for a ghostly haunted trolley tour of St. Petersburg! Departing from the Museum of History\, experience the creepy side of the Sunshine City. Hosted by SPIRITS of St. Petersburg founder Dr. Brandy Stark\, the tour takes guests through lesser-known haunts of downtown and the vastly haunted neighborhoods of Roser Park and the Old Northeast. We promise you’ll have a spooktacular time! \nSeating is limited\, so reserve your spot today! \nRegister Now
URL:https://spmoh.com/event/a-ghostly-haunted-trolley-tour-28/
LOCATION:St. Petersburg Museum of History\, 335 2nd Ave NE\, St. Petersburg\, FL\, 33701\, United States
CATEGORIES:Haunted Trolley Tour,Trolley Tours
ATTACH;FMTTYPE=image/jpeg:https://spmoh.com/wp-content/uploads/2024/04/Ghost-Trolley-Tour-Cover-Art-.jpg
ORGANIZER;CN="St. Petersburg Museum of History":MAILTO:info@spmoh.org
END:VEVENT
BEGIN:VEVENT
DTSTART;TZID=America/New_York:20260318T183000
DTEND;TZID=America/New_York:20260318T203000
DTSTAMP:20260423T043150
CREATED:20260302T185830Z
LAST-MODIFIED:20260309T151838Z
UID:16275-1773858600-1773865800@spmoh.com
SUMMARY:Haunted Trolley Tour
DESCRIPTION:Join us Wednesday\, March 18th for a ghostly haunted trolley tour of St. Petersburg! \nDeparting from the Museum of History\, experience the creepy and dark side of the Sunshine City. Hosted by SPIRITS of St. Petersburg founder Dr. Brandy Stark\, the tour takes guests through lesser-known haunts of downtown and the vastly haunted neighborhoods of Roser Park and the Old Northeast. We promise you’ll have a spooktacular time! Seating is limited\, so reserve your spot today!
URL:https://spmoh.com/event/16275/
LOCATION:St. Petersburg Museum of History\, 335 2nd Ave NE\, St. Petersburg\, FL\, 33701\, United States
CATEGORIES:Haunted Trolley Tour
ATTACH;FMTTYPE=image/jpeg:https://spmoh.com/wp-content/uploads/2024/06/Haunted-walking-Tour.jpg
ORGANIZER;CN="St. Petersburg Museum of History":MAILTO:info@spmoh.org
END:VEVENT
BEGIN:VEVENT
DTSTART;TZID=America/New_York:20251029T183000
DTEND;TZID=America/New_York:20251029T203000
DTSTAMP:20260423T043150
CREATED:20250926T202714Z
LAST-MODIFIED:20250926T202714Z
UID:15642-1761762600-1761769800@spmoh.com
SUMMARY:A Ghostly Haunted Trolley Tour
DESCRIPTION:Join us on Wednesday\, October 29th for a ghostly haunted trolley tour of St. Petersburg! \nDeparting from the Museum of History\, experience the creepy and dark side of the Sunshine City. Hosted by SPIRITS of St. Petersburg founder Dr. Brandy Stark\, the tour takes guests through lesser-known haunts of downtown and the vastly haunted neighborhoods of Roser Park and the Old Northeast. We promise you’ll have a spooktacular time! \nReservations are required. Admission without a reservation cannot be accepted. Reservations close the day before the event or when all 28 seats are filled. \nDetails:\n\nMembers: $35 | Not-yet-members: $45\nPlease arrive 15 minutes before Trolley departure.\nThere are no refunds or exchanges for those arriving after the Trolley departs.\nTrolley Seating is extremely limited\, reserve your seats today!\n\nRegister Now
URL:https://spmoh.com/event/a-ghostly-haunted-trolley-tour-25/
LOCATION:St. Petersburg Museum of History\, 335 2nd Ave NE\, St. Petersburg\, FL\, 33701\, United States
CATEGORIES:Haunted Trolley Tour
ATTACH;FMTTYPE=image/jpeg:https://spmoh.com/wp-content/uploads/2025/01/Copy-of-White-Simple-Reminder-Quotes-Instagram-Post-Portrait-4.jpg
END:VEVENT
BEGIN:VEVENT
DTSTART;TZID=America/New_York:20251022T183000
DTEND;TZID=America/New_York:20251022T203000
DTSTAMP:20260423T043150
CREATED:20251014T143916Z
LAST-MODIFIED:20251014T144115Z
UID:15677-1761157800-1761165000@spmoh.com
SUMMARY:A Ghostly Haunted Trolley Tour
DESCRIPTION:Join us on Wednesday\, October 22nd for a ghostly haunted trolley tour of St. Petersburg! \nDeparting from the Museum of History\, experience the creepy and dark side of the Sunshine City. Hosted by SPIRITS of St. Petersburg founder Dr. Brandy Stark\, the tour takes guests through lesser-known haunts of downtown and the vastly haunted neighborhoods of Roser Park and the Old Northeast. We promise you’ll have a spooktacular time! \nReservations are required. Admission without a reservation cannot be accepted. Reservations close the day before the event or when all 28 seats are filled. \nDetails:\n\nMembers: $35 | Not-yet-members: $45\nPlease arrive 15 minutes before Trolley departure.\nThere are no refunds or exchanges for those arriving after the Trolley departs.\nTrolley Seating is extremely limited\, reserve your seats today!\n\nRegister Now
URL:https://spmoh.com/event/a-ghostly-haunted-trolley-tour-26/
LOCATION:St. Petersburg Museum of History\, 335 2nd Ave NE\, St. Petersburg\, FL\, 33701\, United States
CATEGORIES:Haunted Trolley Tour,Trolley Tours
ATTACH;FMTTYPE=image/jpeg:https://spmoh.com/wp-content/uploads/2025/01/Copy-of-White-Simple-Reminder-Quotes-Instagram-Post-Portrait-4.jpg
END:VEVENT
BEGIN:VEVENT
DTSTART;TZID=America/New_York:20251015T183000
DTEND;TZID=America/New_York:20251015T203000
DTSTAMP:20260423T043150
CREATED:20250926T201705Z
LAST-MODIFIED:20250926T202830Z
UID:15638-1760553000-1760560200@spmoh.com
SUMMARY:A Ghostly Haunted Trolley Tour
DESCRIPTION:Join us on Wednesday\, October 15th for a ghostly haunted trolley tour of St. Petersburg! \nDeparting from the Museum of History\, experience the creepy and dark side of the Sunshine City. Hosted by SPIRITS of St. Petersburg founder Dr. Brandy Stark\, the tour takes guests through lesser-known haunts of downtown and the vastly haunted neighborhoods of Roser Park and the Old Northeast. We promise you’ll have a spooktacular time! \nReservations are required. Admission without a reservation cannot be accepted. Reservations close the day before the event or when all 28 seats are filled. \nDetails:\n\nMembers: $35 | Not-yet-members: $45\nPlease arrive 15 minutes before Trolley departure.\nThere are no refunds or exchanges for those arriving after the Trolley departs.\nTrolley Seating is extremely limited\, reserve your seats today!\n\nRegister Now
URL:https://spmoh.com/event/a-ghostly-haunted-trolley-tour-23/
LOCATION:FL
CATEGORIES:Haunted Trolley Tour
ATTACH;FMTTYPE=image/jpeg:https://spmoh.com/wp-content/uploads/2025/01/Copy-of-White-Simple-Reminder-Quotes-Instagram-Post-Portrait-4.jpg
END:VEVENT
BEGIN:VEVENT
DTSTART;TZID=America/New_York:20251001T183000
DTEND;TZID=America/New_York:20251001T200000
DTSTAMP:20260423T043150
CREATED:20250926T190717Z
LAST-MODIFIED:20250926T202938Z
UID:15635-1759343400-1759348800@spmoh.com
SUMMARY:A Ghostly Haunted Trolley Tour
DESCRIPTION:Join us on Wednesday\, October 1st for a ghostly haunted trolley tour of St. Petersburg! \nDeparting from the Museum of History\, experience the creepy and dark side of the Sunshine City. Hosted by SPIRITS of St. Petersburg founder Dr. Brandy Stark\, the tour takes guests through lesser-known haunts of downtown and the vastly haunted neighborhoods of Roser Park and the Old Northeast. We promise you’ll have a spooktacular time! \nReservations are required. Admission without a reservation cannot be accepted. Reservations close the day before the event or when all 28 seats are filled. \nDetails:\n\nMembers: $35 | Not-yet-members: $45\nPlease arrive 15 minutes before Trolley departure.\nThere are no refunds or exchanges for those arriving after the Trolley departs.\nTrolley Seating is extremely limited\, reserve your seats today!\n\nRegister Now
URL:https://spmoh.com/event/a-ghostly-haunted-trolley-tour-22/
LOCATION:St. Petersburg Museum of History\, 335 2nd Ave NE\, St. Petersburg\, FL\, 33701\, United States
CATEGORIES:Haunted Trolley Tour
ATTACH;FMTTYPE=image/jpeg:https://spmoh.com/wp-content/uploads/2024/04/Ghost-Trolley-Tour-Cover-Art-.jpg
END:VEVENT
BEGIN:VEVENT
DTSTART;TZID=America/New_York:20250926T183000
DTEND;TZID=America/New_York:20250926T203000
DTSTAMP:20260423T043150
CREATED:20250926T202207Z
LAST-MODIFIED:20250926T202207Z
UID:15640-1758911400-1758918600@spmoh.com
SUMMARY:A Ghostly Haunted Trolley Tour
DESCRIPTION:Join us on Wednesday\, October 22nd for a ghostly haunted trolley tour of St. Petersburg! \nDeparting from the Museum of History\, experience the creepy and dark side of the Sunshine City. Hosted by SPIRITS of St. Petersburg founder Dr. Brandy Stark\, the tour takes guests through lesser-known haunts of downtown and the vastly haunted neighborhoods of Roser Park and the Old Northeast. We promise you’ll have a spooktacular time! \nReservations are required. Admission without a reservation cannot be accepted. Reservations close the day before the event or when all 28 seats are filled. \nDetails:\n\nMembers: $35 | Not-yet-members: $45\nPlease arrive 15 minutes before Trolley departure.\nThere are no refunds or exchanges for those arriving after the Trolley departs.\nTrolley Seating is extremely limited\, reserve your seats today!\n\nRegister Now
URL:https://spmoh.com/event/a-ghostly-haunted-trolley-tour-24/
LOCATION:St. Petersburg Museum of History\, 335 2nd Ave NE\, St. Petersburg\, FL\, 33701\, United States
CATEGORIES:Haunted Trolley Tour
ATTACH;FMTTYPE=image/jpeg:https://spmoh.com/wp-content/uploads/2025/01/Copy-of-White-Simple-Reminder-Quotes-Instagram-Post-Portrait-4.jpg
END:VEVENT
BEGIN:VEVENT
DTSTART;TZID=America/New_York:20241023T183000
DTEND;TZID=America/New_York:20241023T203000
DTSTAMP:20260423T043150
CREATED:20240423T144637Z
LAST-MODIFIED:20240423T144637Z
UID:13557-1729708200-1729715400@spmoh.com
SUMMARY:A Ghostly Haunted Trolley Tour
DESCRIPTION:Join us on Wednesday\, October 23rd for a ghostly haunted trolley tour of St. Petersburg! \nDeparting from the Museum of History\, experience the creepy and dark side of the Sunshine City. Hosted by SPIRITS of St. Petersburg founder Dr. Brandy Stark\, the tour takes you through lesser-known haunts of downtown and the vastly haunted neighborhoods of Roser Park and the Old Northeast. We promise you’ll have a spooktacular time! \nReservations are required. Admission without a reservation cannot be accepted. Reservations close the day before the event or when all 28 seats are filled. \nDetails:\n\nMembers: $35 | Not-yet-members: $45\nPlease arrive 15 minutes before Trolley departure.\nThere are no refunds or exchanges for those arriving after the Trolley departs.\nTrolley Seating is extremely limited\, reserve your seats today!\n\nRegister Now
URL:https://spmoh.com/event/a-ghostly-haunted-trolley-tour-9/
LOCATION:St. Petersburg Museum of History\, 335 2nd Ave NE\, St. Petersburg\, FL\, 33701\, United States
CATEGORIES:Haunted Trolley Tour
ATTACH;FMTTYPE=image/jpeg:https://spmoh.com/wp-content/uploads/2024/04/Ghost-Trolley-Tour-Cover-Art-.jpg
ORGANIZER;CN="Museum Services":MAILTO:info@spmoh.org
END:VEVENT
BEGIN:VEVENT
DTSTART;TZID=America/New_York:20241009T183000
DTEND;TZID=America/New_York:20241009T203000
DTSTAMP:20260423T043150
CREATED:20240423T145448Z
LAST-MODIFIED:20240423T145502Z
UID:13563-1728498600-1728505800@spmoh.com
SUMMARY:A Ghostly Haunted Trolley Tour
DESCRIPTION:Join us on Wednesday\, October 9th for a ghostly haunted trolley tour of St. Petersburg! \nDeparting from the Museum of History\, experience the creepy and dark side of the Sunshine City. Hosted by SPIRITS of St. Petersburg founder Dr. Brandy Stark\, the tour takes you through lesser-known haunts of downtown and the vastly haunted neighborhoods of Roser Park and the Old Northeast. We promise you’ll have a spooktacular time! \nReservations are required. Admission without a reservation cannot be accepted. Reservations close the day before the event or when all 28 seats are filled. \nDetails:\n\nMembers: $35 | Not-yet-members: $45\nPlease arrive 15 minutes before Trolley departure.\nThere are no refunds or exchanges for those arriving after the Trolley departs.\nTrolley Seating is extremely limited\, reserve your seats today!\n\nRegister Now
URL:https://spmoh.com/event/a-ghostly-haunted-trolley-tour-11/
LOCATION:St. Petersburg Museum of History\, 335 2nd Ave NE\, St. Petersburg\, FL\, 33701\, United States
CATEGORIES:Haunted Trolley Tour
ATTACH;FMTTYPE=image/jpeg:https://spmoh.com/wp-content/uploads/2024/04/Ghost-Trolley-Tour-Cover-Art-.jpg
ORGANIZER;CN="Museum Services":MAILTO:info@spmoh.org
END:VEVENT
BEGIN:VEVENT
DTSTART;TZID=America/New_York:20231228T183000
DTEND;TZID=America/New_York:20231228T203000
DTSTAMP:20260423T043150
CREATED:20231213T151624Z
LAST-MODIFIED:20231213T151718Z
UID:13160-1703788200-1703795400@spmoh.com
SUMMARY:Haunted Trolley Tour
DESCRIPTION:Join us if you dare on Thursday\, December 28th for a Spooktacular Haunted Trolley Tour of St. Petersburg! Led by Dr. Brandy Stark\, founder of SPIRITS of St. Petersburg\, the tour takes you to well-known\, as well as lesser-known haunted historical places to seek what lurks in the darkness! Dr. Stark and SPIRITS have completed over 400 ghostly investigations\, and have been featured on the Dead Files.  \nReservations are required. Admission without a reservation cannot be accepted. Reservations close the day before the event or when all 18 seats are filled. \n\nMembers: $35 | Not-yet-members: $40\nPlease arrive 15 minutes before Trolley departure.\nThere are no refunds or exchanges for those arriving after the Trolley departs.\nTrolley Seating is extremely limited\, reserve your seats today!\n\nRegister Now
URL:https://spmoh.com/event/haunted-trolley-tour-4/
LOCATION:St. Petersburg Museum of History\, 335 2nd Ave NE\, St. Petersburg\, FL\, 33701\, United States
CATEGORIES:Haunted Trolley Tour
ATTACH;FMTTYPE=image/jpeg:https://spmoh.com/wp-content/uploads/2023/09/Copy-of-HISTORIC-ST.-PETE-WALKING-TOUR-800-×-450-px.jpg
ORGANIZER;CN="Museum Services":MAILTO:info@spmoh.org
END:VEVENT
BEGIN:VEVENT
DTSTART;TZID=America/New_York:20231130T183000
DTEND;TZID=America/New_York:20231130T203000
DTSTAMP:20260423T043150
CREATED:20231127T205012Z
LAST-MODIFIED:20231127T205146Z
UID:13056-1701369000-1701376200@spmoh.com
SUMMARY:Haunted Trolley Tour
DESCRIPTION:Join us if you dare on Thursday\, November 30th for a Spooktacular Haunted Trolley Tour of St. Petersburg! Led by Dr. Brandy Stark\, founder of SPIRITS of St. Petersburg\, the tour takes you to well-known\, as well as lesser-known haunted historical places to seek what lurks in the darkness! Dr. Stark and SPIRITS have completed over 400 ghostly investigations\, and have been featured on the Dead Files.  \nReservations are required. Admission without a reservation cannot be accepted. Reservations close the day before the event or when all 16 seats are filled. \n\nMembers: $35 | Not-yet-members: $40\nPlease arrive 15 minutes before Trolley departure.\nThere are no refunds or exchanges for those arriving after the Trolley departs.\nTrolley Seating is extremely limited\, reserve your seats today!\n\nRegister Now
URL:https://spmoh.com/event/haunted-trolley-tour-3/
LOCATION:St. Petersburg Museum of History\, 335 2nd Ave NE\, St. Petersburg\, FL\, 33701\, United States
CATEGORIES:Haunted Trolley Tour
ATTACH;FMTTYPE=image/jpeg:https://spmoh.com/wp-content/uploads/2023/09/Copy-of-HISTORIC-ST.-PETE-WALKING-TOUR-800-×-450-px.jpg
ORGANIZER;CN="Museum Services":MAILTO:info@spmoh.org
END:VEVENT
BEGIN:VEVENT
DTSTART;TZID=America/New_York:20231026T183000
DTEND;TZID=America/New_York:20231026T203000
DTSTAMP:20260423T043150
CREATED:20230919T165238Z
LAST-MODIFIED:20230925T133128Z
UID:12921-1698345000-1698352200@spmoh.com
SUMMARY:Haunted Trolley Tour
DESCRIPTION:Join us if you dare on Thursday\, October 26 for a Spooktacular Haunted Trolley Tour of St. Petersburg! Led by Dr. Brandy Stark\, founder of SPIRITS of St. Petersburg\, the tour takes you to well-known\, as well as lesser-known haunted historical places to seek what lurks in the darkness! Dr. Stark and SPIRITS have completed over 400 ghostly investigations\, and have been featured on the Dead Files.  \n\nReservations are required. Admission without a reservation cannot be accepted. Reservations close the day before the event or when all 16 seats are filled. \n\n\n\nMembers: $35 | Not-yet-members: $40\nPlease arrive 15 minutes before Trolley departure.\nThere are no refunds or exchanges for those arriving after the Trolley departs.\nTrolley Seating is extremely limited\, reserve your seats today!\n\nRegister Now
URL:https://spmoh.com/event/haunted-trolley-tour/
LOCATION:St. Petersburg Museum of History\, 335 2nd Ave NE\, St. Petersburg\, FL\, 33701\, United States
CATEGORIES:Haunted Trolley Tour
ATTACH;FMTTYPE=image/jpeg:https://spmoh.com/wp-content/uploads/2023/09/Copy-of-HISTORIC-ST.-PETE-WALKING-TOUR-800-×-450-px.jpg
ORGANIZER;CN="Museum Services":MAILTO:info@spmoh.org
END:VEVENT
BEGIN:VEVENT
DTSTART;TZID=America/New_York:20231019T183000
DTEND;TZID=America/New_York:20231019T203000
DTSTAMP:20260423T043150
CREATED:20230919T165016Z
LAST-MODIFIED:20230925T133243Z
UID:12922-1697740200-1697747400@spmoh.com
SUMMARY:Haunted Trolley Tour
DESCRIPTION:Join us if you dare on Thursday\, October 19 for a Spooktacular Haunted Trolley Tour of St. Petersburg! Led by Dr. Brandy Stark\, founder of SPIRITS of St. Petersburg\, the tour takes you to well-known\, as well as lesser-known haunted historical places to seek what lurks in the darkness! Dr. Stark and SPIRITS have completed over 400 ghostly investigations\, and have been featured on the Dead Files.  \nReservations are required. Admission without a reservation cannot be accepted. Reservations close the day before the event or when all 16 seats are filled. \n\nMembers: $35 | Not-yet-members: $40\nPlease arrive 15 minutes before Trolley departure.\nThere are no refunds or exchanges for those arriving after the Trolley departs.\nTrolley Seating is extremely limited\, reserve your seats today!\n\nRegister Now
URL:https://spmoh.com/event/hunted-trolley-tour-4/
LOCATION:St. Petersburg Museum of History\, 335 2nd Ave NE\, St. Petersburg\, FL\, 33701\, United States
CATEGORIES:Haunted Trolley Tour
ATTACH;FMTTYPE=image/jpeg:https://spmoh.com/wp-content/uploads/2023/09/Copy-of-HISTORIC-ST.-PETE-WALKING-TOUR-800-×-450-px.jpg
ORGANIZER;CN="Museum Services":MAILTO:info@spmoh.org
END:VEVENT
BEGIN:VEVENT
DTSTART;TZID=America/New_York:20231012T183000
DTEND;TZID=America/New_York:20231012T203000
DTSTAMP:20260423T043150
CREATED:20230919T164707Z
LAST-MODIFIED:20230925T133321Z
UID:12919-1697135400-1697142600@spmoh.com
SUMMARY:Haunted Trolley Tour
DESCRIPTION:Join us if you dare on Thursday\, October 12 for a Spooktacular Haunted Trolley Tour of St. Petersburg! Led by Dr. Brandy Stark\, founder of SPIRITS of St. Petersburg\, the tour takes you to well-known\, as well as lesser-known haunted historical places to seek what lurks in the darkness! Dr. Stark and SPIRITS have completed over 400 ghostly investigations\, and have been featured on the Dead Files.  \nReservations are required. Admission without a reservation cannot be accepted. Reservations close the day before the event or when all 16 seats are filled. \n\nMembers: $35 | Not-yet-members: $40\nPlease arrive 15 minutes before Trolley departure.\nThere are no refunds or exchanges for those arriving after the Trolley departs.\nTrolley Seating is extremely limited\, reserve your seats today!\n\nRegister Now
URL:https://spmoh.com/event/hunted-trolley-tour-3/
LOCATION:St. Petersburg Museum of History\, 335 2nd Ave NE\, St. Petersburg\, FL\, 33701\, United States
CATEGORIES:Haunted Trolley Tour
ATTACH;FMTTYPE=image/jpeg:https://spmoh.com/wp-content/uploads/2023/09/Copy-of-HISTORIC-ST.-PETE-WALKING-TOUR-800-×-450-px.jpg
ORGANIZER;CN="Museum Services":MAILTO:info@spmoh.org
END:VEVENT
BEGIN:VEVENT
DTSTART;TZID=America/New_York:20231005T183000
DTEND;TZID=America/New_York:20231005T203000
DTSTAMP:20260423T043150
CREATED:20230919T164440Z
LAST-MODIFIED:20230925T133459Z
UID:12916-1696530600-1696537800@spmoh.com
SUMMARY:Haunted Trolley Tour
DESCRIPTION:Join us if you dare on Thursday\, October 5 for a Spooktacular Haunted Trolley Tour of St. Petersburg! Led by Dr. Brandy Stark\, founder of SPIRITS of St. Petersburg\, the tour takes you to well-known\, as well as lesser-known haunted historical places to seek what lurks in the darkness! Dr. Stark and SPIRITS have completed over 400 ghostly investigations\, and have been featured on the Dead Files.  \nReservations are required. Admission without a reservation cannot be accepted. Reservations close the day before the event or when all 16 seats are filled. \n\nMembers: $35 | Not-yet-members: $40\nPlease arrive 15 minutes before Trolley departure.\nThere are no refunds or exchanges for those arriving after the Trolley departs.\nTrolley Seating is extremely limited\, reserve your seats today!\n\nRegister Now
URL:https://spmoh.com/event/haunted-trolley-tour-2/
LOCATION:St. Petersburg Museum of History\, 335 2nd Ave NE\, St. Petersburg\, FL\, 33701\, United States
CATEGORIES:Haunted Trolley Tour
ATTACH;FMTTYPE=image/jpeg:https://spmoh.com/wp-content/uploads/2023/09/Copy-of-HISTORIC-ST.-PETE-WALKING-TOUR-800-×-450-px.jpg
ORGANIZER;CN="Museum Services":MAILTO:info@spmoh.org
END:VEVENT
BEGIN:VEVENT
DTSTART;TZID=America/New_York:20230928T183000
DTEND;TZID=America/New_York:20230928T203000
DTSTAMP:20260423T043150
CREATED:20230919T164022Z
LAST-MODIFIED:20230925T133409Z
UID:12910-1695925800-1695933000@spmoh.com
SUMMARY:Haunted Trolley Tour
DESCRIPTION:Join us if you dare on Thursday\, September 28 for a Spooktacular Haunted Trolley Tour of St. Petersburg! Led by Dr. Brandy Stark\, founder of SPIRITS of St. Petersburg\, the tour takes you to well-known\, as well as lesser-known haunted historical places to seek what lurks in the darkness! Dr. Stark and SPIRITS have completed over 400 ghostly investigations\, and have been featured on the Dead Files.  \nReservations are required. Admission without a reservation cannot be accepted. Reservations close the day before the event or when all 22 seats are filled. \n\nMembers: $35 | Not-yet-members: $40\nPlease arrive 15 minutes before Trolley departure.\nThere are no refunds or exchanges for those arriving after the Trolley departs.\nTrolley Seating is extremely limited\, reserve your seats today!\n\nRegister Now
URL:https://spmoh.com/event/hunted-trolley-tour/
LOCATION:St. Petersburg Museum of History\, 335 2nd Ave NE\, St. Petersburg\, FL\, 33701\, United States
CATEGORIES:Haunted Trolley Tour
ATTACH;FMTTYPE=image/jpeg:https://spmoh.com/wp-content/uploads/2023/09/Copy-of-HISTORIC-ST.-PETE-WALKING-TOUR-800-×-450-px.jpg
ORGANIZER;CN="Museum Services":MAILTO:info@spmoh.org
END:VEVENT
END:VCALENDAR