BEGIN:VCALENDAR
VERSION:2.0
PRODID:-//St. Petersburg Museum of History | St. Petersburg, Florida - ECPv6.15.17.1//NONSGML v1.0//EN
CALSCALE:GREGORIAN
METHOD:PUBLISH
X-WR-CALNAME:St. Petersburg Museum of History | St. Petersburg, Florida
X-ORIGINAL-URL:https://spmoh.com
X-WR-CALDESC:Events for St. Petersburg Museum of History | St. Petersburg, Florida
REFRESH-INTERVAL;VALUE=DURATION:PT1H
X-Robots-Tag:noindex
X-PUBLISHED-TTL:PT1H
BEGIN:VTIMEZONE
TZID:America/New_York
BEGIN:DAYLIGHT
TZOFFSETFROM:-0500
TZOFFSETTO:-0400
TZNAME:EDT
DTSTART:20250309T070000
END:DAYLIGHT
BEGIN:STANDARD
TZOFFSETFROM:-0400
TZOFFSETTO:-0500
TZNAME:EST
DTSTART:20251102T060000
END:STANDARD
BEGIN:DAYLIGHT
TZOFFSETFROM:-0500
TZOFFSETTO:-0400
TZNAME:EDT
DTSTART:20260308T070000
END:DAYLIGHT
BEGIN:STANDARD
TZOFFSETFROM:-0400
TZOFFSETTO:-0500
TZNAME:EST
DTSTART:20261101T060000
END:STANDARD
BEGIN:DAYLIGHT
TZOFFSETFROM:-0500
TZOFFSETTO:-0400
TZNAME:EDT
DTSTART:20270314T070000
END:DAYLIGHT
BEGIN:STANDARD
TZOFFSETFROM:-0400
TZOFFSETTO:-0500
TZNAME:EST
DTSTART:20271107T060000
END:STANDARD
END:VTIMEZONE
BEGIN:VEVENT
DTSTART;TZID=America/New_York:20260919T180000
DTEND;TZID=America/New_York:20260919T200000
DTSTAMP:20260423T134744
CREATED:20260402T161645Z
LAST-MODIFIED:20260402T165755Z
UID:16455-1789840800-1789848000@spmoh.com
SUMMARY:History in a Bottle – A Historical Whiskey Journey
DESCRIPTION:Greeted with a signature welcome whiskey cocktail to set the tone for a delightful evening\, guests will indulge in a curated selection of exquisite Whiskeys — each expertly paired with culinary small plates!\nHistory in a Bottle is sponsored by St. Petersburg Distillery\, and produced by Events by the Glass! Seating is limited\, please register in advance. \nSPMOH Members: $70  I  Not-yet-members: $90\nDiscounted Group and Corporate Sponsor tables are also available. \n \n \n  \n  \n  \n  \n  \nPurchase Tickets Now
URL:https://spmoh.com/event/history-in-a-bottle-a-historical-whiskey-journey/
LOCATION:St. Petersburg Museum of History\, 335 2nd Ave NE\, St. Petersburg\, FL\, 33701\, United States
CATEGORIES:History in a Bottle
ATTACH;FMTTYPE=image/png:https://spmoh.com/wp-content/uploads/2026/04/HistoryBottle-Whiskey-1200x600-1.png
ORGANIZER;CN="St. Petersburg Museum of History":MAILTO:info@spmoh.org
END:VEVENT
END:VCALENDAR