BEGIN:VCALENDAR
VERSION:2.0
PRODID:-//St. Petersburg Museum of History | St. Petersburg, Florida - ECPv6.15.17.1//NONSGML v1.0//EN
CALSCALE:GREGORIAN
METHOD:PUBLISH
X-WR-CALNAME:St. Petersburg Museum of History | St. Petersburg, Florida
X-ORIGINAL-URL:https://spmoh.com
X-WR-CALDESC:Events for St. Petersburg Museum of History | St. Petersburg, Florida
REFRESH-INTERVAL;VALUE=DURATION:PT1H
X-Robots-Tag:noindex
X-PUBLISHED-TTL:PT1H
BEGIN:VTIMEZONE
TZID:America/New_York
BEGIN:DAYLIGHT
TZOFFSETFROM:-0500
TZOFFSETTO:-0400
TZNAME:EDT
DTSTART:20230312T070000
END:DAYLIGHT
BEGIN:STANDARD
TZOFFSETFROM:-0400
TZOFFSETTO:-0500
TZNAME:EST
DTSTART:20231105T060000
END:STANDARD
BEGIN:DAYLIGHT
TZOFFSETFROM:-0500
TZOFFSETTO:-0400
TZNAME:EDT
DTSTART:20240310T070000
END:DAYLIGHT
BEGIN:STANDARD
TZOFFSETFROM:-0400
TZOFFSETTO:-0500
TZNAME:EST
DTSTART:20241103T060000
END:STANDARD
BEGIN:DAYLIGHT
TZOFFSETFROM:-0500
TZOFFSETTO:-0400
TZNAME:EDT
DTSTART:20250309T070000
END:DAYLIGHT
BEGIN:STANDARD
TZOFFSETFROM:-0400
TZOFFSETTO:-0500
TZNAME:EST
DTSTART:20251102T060000
END:STANDARD
BEGIN:DAYLIGHT
TZOFFSETFROM:-0500
TZOFFSETTO:-0400
TZNAME:EDT
DTSTART:20260308T070000
END:DAYLIGHT
BEGIN:STANDARD
TZOFFSETFROM:-0400
TZOFFSETTO:-0500
TZNAME:EST
DTSTART:20261101T060000
END:STANDARD
BEGIN:DAYLIGHT
TZOFFSETFROM:-0500
TZOFFSETTO:-0400
TZNAME:EDT
DTSTART:20270314T070000
END:DAYLIGHT
BEGIN:STANDARD
TZOFFSETFROM:-0400
TZOFFSETTO:-0500
TZNAME:EST
DTSTART:20271107T060000
END:STANDARD
END:VTIMEZONE
BEGIN:VEVENT
DTSTART;TZID=America/New_York:20260404T180000
DTEND;TZID=America/New_York:20260404T200000
DTSTAMP:20260423T074951
CREATED:20260306T162837Z
LAST-MODIFIED:20260402T165415Z
UID:16305-1775325600-1775332800@spmoh.com
SUMMARY:History in a Bottle – Rum & Prohibition
DESCRIPTION:Sample a variety of rums and rum drinks\, paired with curated gourmet small plates ~ Learn how Florida embraced the illegal rum business during Prohibition and never let it go!\nHistory in a Bottle is sponsored by St. Petersburg Distillery\, and produced by Events by the Glass! Seating is limited\, please register in advance. \nSPMOH Members: $70  I  Not-yet-members: $90\nDiscounted Group and Corporate Sponsor tables are also available. \n \n \n  \n  \n  \n  \n  \nPurchase Tickets Now
URL:https://spmoh.com/event/history-in-a-bottle-rum-prohibition/
LOCATION:St. Petersburg Museum of History\, 335 2nd Ave NE\, St. Petersburg\, FL\, 33701\, United States
CATEGORIES:History in a Bottle
ATTACH;FMTTYPE=image/png:https://spmoh.com/wp-content/uploads/2026/03/HistoryBottle-Rum-1200x800-1.png
ORGANIZER;CN="St. Petersburg Museum of History":MAILTO:info@spmoh.org
END:VEVENT
BEGIN:VEVENT
DTSTART;TZID=America/New_York:20251101T180000
DTEND;TZID=America/New_York:20251101T200000
DTSTAMP:20260423T074951
CREATED:20250620T192204Z
LAST-MODIFIED:20250924T153524Z
UID:15418-1762020000-1762027200@spmoh.com
SUMMARY:History in a Bottle- Uncorked: A Celebration of U.S. Wines!
DESCRIPTION:Join us Saturday\, November 1st\, for History in a Bottle -Uncorked: A Celebration of U.S. Wines! \nFrom humble beginnings to world-class wines\, does the West do it best? Guests get to indulge in a tasting of premier American wines\, with perfectly paired gourmet delights! \nPresented by St. Pete Distillery and Events by the Glass!\, History in a Bottle is a tasting and food pairing that goes beyond the traditional\, and shares unique stories of wine and its history! \n  \nReservations are required\, and seating is limited! \n  \nIndividual $90 | Table $525 | Corporate Table $750 \n\n\n\n\n\n\n\n\nRegister Now\n \n  \nPresented by:
URL:https://spmoh.com/event/history-in-a-bottle-uncorked-a-celebration-of-u-s-wines/
LOCATION:St. Petersburg Museum of History\, 335 2nd Ave NE\, St. Petersburg\, FL\, 33701\, United States
CATEGORIES:History in a Bottle
ATTACH;FMTTYPE=image/jpeg:https://spmoh.com/wp-content/uploads/2025/06/History-in-a-Bottle-Logo_Wine2.jpg
ORGANIZER;CN="Museum Services":MAILTO:info@spmoh.org
END:VEVENT
BEGIN:VEVENT
DTSTART;TZID=America/New_York:20250809T180000
DTEND;TZID=America/New_York:20250809T200000
DTSTAMP:20260423T074951
CREATED:20250521T155856Z
LAST-MODIFIED:20250708T144610Z
UID:15302-1754762400-1754769600@spmoh.com
SUMMARY:History in a Bottle: Aged & Distilled: A Historical Whiskey Journey
DESCRIPTION:Join us Saturday\, August 9th for History in a Bottle – Aged & Distilled: A Historical Whiskey Journey \nGreeted with a signature welcome Whiskey cocktail to set the tone for an unbelievable evening\, guests will indulge in a curated selection of exquisite Whiskeys — each expertly paired with culinary delights! \nPresented by St. Pete Distillery and Events by the Glass!\, History in a Bottle is a tasting and food pairing that goes beyond the traditional\, and shares unique stories of Whiskey and its history! \n  \nReservations are required\, and seating is limited! \n  \nIndividual $90 | Table $525 | Corporate Table $750 \n\n\n\n\n\n\n\n\nRegister Now\n \n  \nPresented by:
URL:https://spmoh.com/event/history-in-a-bottle-aged-distilled-a-historical-whiskey-journey/
LOCATION:St. Petersburg Museum of History\, 335 2nd Ave NE\, St. Petersburg\, FL\, 33701\, United States
CATEGORIES:History in a Bottle
ATTACH;FMTTYPE=image/jpeg:https://spmoh.com/wp-content/uploads/2025/05/History-in-a-Bottle-Logo_Whiskey-1.jpg
ORGANIZER;CN="Museum Services":MAILTO:info@spmoh.org
END:VEVENT
BEGIN:VEVENT
DTSTART;TZID=America/New_York:20250517T180000
DTEND;TZID=America/New_York:20250517T200000
DTSTAMP:20260423T074951
CREATED:20250318T151513Z
LAST-MODIFIED:20250319T172443Z
UID:15152-1747504800-1747512000@spmoh.com
SUMMARY:History in a Bottle: A Gin-Tastic Celebration - A Tasting of Botanicals and Gourmet Bites
DESCRIPTION:Join us Saturday\, May 17th for History in a Bottle – A Gin Tasting of Botanicals and Gourmet Bites! \n  \nGreeted with a signature welcome drink to set the tone for an unbelievable evening\, guests will indulge in a curated selection of exquisite gins — each expertly paired with culinary delights! \n  \nPresented by St. Pete Distillery and Events by the Glass!\, History in a Bottle is a tasting and food pairing that goes beyond the traditional\, and shares unique stories of gin and its history! \n  \nReservations are required\, and seating is limited! \n  \nIndividual $90 | Table $525 | Corporate Table $750 \n\n\n\n\n\n\n\n\nRegister Now\n \n  \nPresented by:
URL:https://spmoh.com/event/history-in-a-bottle-a-gin-tastic-celebration-a-tasting-of-botanicals-and-gourmet-bites/
LOCATION:St. Petersburg Museum of History\, 335 2nd Ave NE\, St. Petersburg\, FL\, 33701\, United States
CATEGORIES:History in a Bottle
ATTACH;FMTTYPE=image/jpeg:https://spmoh.com/wp-content/uploads/2025/03/Copy-of-Copy-of-Fire-Place-.jpg
ORGANIZER;CN="Museum Services":MAILTO:info@spmoh.org
END:VEVENT
BEGIN:VEVENT
DTSTART;TZID=America/New_York:20250208T180000
DTEND;TZID=America/New_York:20250208T200000
DTSTAMP:20260423T074951
CREATED:20250102T204344Z
LAST-MODIFIED:20250102T204514Z
UID:14882-1739037600-1739044800@spmoh.com
SUMMARY:History in a Bottle: Winter Vines & Valentine Wines!
DESCRIPTION:Join us on Saturday\, February 8th for History in a Bottle – Winter Vines & Valentine Wines. \nGreeted with a signature welcome drink to set the tone for an unbelievable evening\, guests will indulge in a curated selection of exquisite sparkling wines — each expertly paired with culinary delights! \nPresented by St. Pete Distillery and Events by the Glass\, History in a Bottle is a tasting and food pairing that goes beyond the traditional\, and shares the unique stories of the bubbles and bites! \nDon’t forget\, that seating is limited! \nReservations are required\, and seating is limited! \nIndividual $90 | Table $525 | Corporate Table $750 \n\n\n\n\n\n\n\n\nRegister Now\n \n  \nPresented by:
URL:https://spmoh.com/event/history-in-a-bottle-winter-vines-valentine-wines-2/
LOCATION:St. Petersburg Museum of History\, 335 2nd Ave NE\, St. Petersburg\, FL\, 33701\, United States
CATEGORIES:History in a Bottle
ATTACH;FMTTYPE=image/jpeg:https://spmoh.com/wp-content/uploads/2025/01/History-in-a-Bottle-Logo_ValentineWine.jpg
ORGANIZER;CN="Museum Services":MAILTO:info@spmoh.org
END:VEVENT
BEGIN:VEVENT
DTSTART;TZID=America/New_York:20241102T180000
DTEND;TZID=America/New_York:20241102T200000
DTSTAMP:20260423T074951
CREATED:20241012T163210Z
LAST-MODIFIED:20241012T163235Z
UID:14697-1730570400-1730577600@spmoh.com
SUMMARY:Uncorked - A Celebration of Wines and Holiday Traditions!
DESCRIPTION:Join us Saturday\, November 2 for History in a Bottle – Uncorked\, A Celebration of Wines and Holiday Traditions. Sample wines from around the world\, all paired with exquisite catering from Toasted Associates! Presented by St. Pete Distillery\, guests will be welcomed with a featured drink\, and then experience different wines from around the world that are specifically paired with small bites that highlight Holiday traditions from those countries \n. History in a Bottle is produced by Events by the Glass! \nReservations are required\, and seating is limited! \n\n\nMembers $65 | Not-Yet-Members $85 | Table for a group of six (6) $500 | Corporate Table for a group of six (6) $750 \n\n\n\n\nRegister Now\n \n  \nPresented by:
URL:https://spmoh.com/event/uncorked-a-celebration-of-wines-and-holiday-traditions/
LOCATION:St. Petersburg Museum of History\, 335 2nd Ave NE\, St. Petersburg\, FL\, 33701\, United States
CATEGORIES:History in a Bottle
ATTACH;FMTTYPE=image/jpeg:https://spmoh.com/wp-content/uploads/2024/10/Uncorked-2.jpg
ORGANIZER;CN="Museum Services":MAILTO:info@spmoh.org
END:VEVENT
BEGIN:VEVENT
DTSTART;TZID=America/New_York:20240810T180000
DTEND;TZID=America/New_York:20240810T200000
DTSTAMP:20260423T074951
CREATED:20240709T150520Z
LAST-MODIFIED:20240709T151329Z
UID:13754-1723312800-1723320000@spmoh.com
SUMMARY:History in a Bottle - A Taste of Tequila!
DESCRIPTION:Join us on Saturday\, August 10 for History in a Bottle – A Taste of Tequila! Sample a variety of tequilas and tequila drinks paired with exquisite catering from Lay Low Château. Derived from the blue agave plant\, the spirit is primarily distilled in the area surrounding the city of Tequila\, and the Jaliscan Highlands in the central western Mexican state of Jalisco. Tequila is recognized as a Mexican designation of origin product and makes up half of the spirits currently sold in the U.S. \nProduced by Events by the Glass!\, seating for History in a Bottle is limited! \nReservations are required\, and seating is limited! \n\n\nMembers $65 | Not-Yet-Members $90 | Table for a group of six (6) $500 | Corporate Table for a group of six (6) $750 \n\n\n\n\nRegister Now\n \n  \nPresented by:
URL:https://spmoh.com/event/history-in-a-bottle-a-taste-of-tequila/
LOCATION:St. Petersburg Museum of History\, 335 2nd Ave NE\, St. Petersburg\, FL\, 33701\, United States
CATEGORIES:History in a Bottle
ATTACH;FMTTYPE=image/jpeg:https://spmoh.com/wp-content/uploads/2024/07/Copy-of-Cover-Photo-History-in-a-Bottle_Bourbon-2160-x-1080-px.jpg
ORGANIZER;CN="Museum Services":MAILTO:info@spmoh.org
END:VEVENT
BEGIN:VEVENT
DTSTART;TZID=America/New_York:20240503T180000
DTEND;TZID=America/New_York:20240503T200000
DTSTAMP:20260423T074951
CREATED:20240329T150236Z
LAST-MODIFIED:20240404T141141Z
UID:13383-1714759200-1714766400@spmoh.com
SUMMARY:History in a Bottle - Bourbon in the Burg
DESCRIPTION:Join us Friday\, May 3 for History in a Bottle – Bourbon in the Burg! Sample a variety of bourbons and bourbon drinks paired with exquisite catering from The Lay Low Château Hospitality. Traditionally a southern drink\, learn how bourbon has become America’s favorite barrel-aged whiskey. Distilled since the 18th century\, it even received a nod from U.S. Congress in 1964 as a distinct American product! Seating is Limited! Produced by Events by the Glass! \nReservations are required\, and seating is limited! \n\n\nMembers $65 | Not-Yet-Members $75 | Table for a group of six (6) $420 \n\n\n\n\n\nRegister Now\n \n  \nPresented by:
URL:https://spmoh.com/event/history-in-a-bottle-bourbon-in-the-burg/
LOCATION:St. Petersburg Museum of History\, 335 2nd Ave NE\, St. Petersburg\, FL\, 33701\, United States
CATEGORIES:History in a Bottle
ATTACH;FMTTYPE=image/jpeg:https://spmoh.com/wp-content/uploads/2024/03/Cover-Photo-History-in-a-Bottle_Bourbon-2160-x-1080-px.jpg
ORGANIZER;CN="Museum Services":MAILTO:info@spmoh.org
END:VEVENT
END:VCALENDAR