BEGIN:VCALENDAR
VERSION:2.0
PRODID:-//St. Petersburg Museum of History | St. Petersburg, Florida - ECPv6.15.17.1//NONSGML v1.0//EN
CALSCALE:GREGORIAN
METHOD:PUBLISH
X-WR-CALNAME:St. Petersburg Museum of History | St. Petersburg, Florida
X-ORIGINAL-URL:https://spmoh.com
X-WR-CALDESC:Events for St. Petersburg Museum of History | St. Petersburg, Florida
REFRESH-INTERVAL;VALUE=DURATION:PT1H
X-Robots-Tag:noindex
X-PUBLISHED-TTL:PT1H
BEGIN:VTIMEZONE
TZID:America/New_York
BEGIN:DAYLIGHT
TZOFFSETFROM:-0500
TZOFFSETTO:-0400
TZNAME:EDT
DTSTART:20240310T070000
END:DAYLIGHT
BEGIN:STANDARD
TZOFFSETFROM:-0400
TZOFFSETTO:-0500
TZNAME:EST
DTSTART:20241103T060000
END:STANDARD
BEGIN:DAYLIGHT
TZOFFSETFROM:-0500
TZOFFSETTO:-0400
TZNAME:EDT
DTSTART:20250309T070000
END:DAYLIGHT
BEGIN:STANDARD
TZOFFSETFROM:-0400
TZOFFSETTO:-0500
TZNAME:EST
DTSTART:20251102T060000
END:STANDARD
BEGIN:DAYLIGHT
TZOFFSETFROM:-0500
TZOFFSETTO:-0400
TZNAME:EDT
DTSTART:20260308T070000
END:DAYLIGHT
BEGIN:STANDARD
TZOFFSETFROM:-0400
TZOFFSETTO:-0500
TZNAME:EST
DTSTART:20261101T060000
END:STANDARD
END:VTIMEZONE
BEGIN:VEVENT
DTSTART;TZID=America/New_York:20251129T173000
DTEND;TZID=America/New_York:20251129T200000
DTSTAMP:20260423T184759
CREATED:20251120T220153Z
LAST-MODIFIED:20251120T220535Z
UID:16002-1764437400-1764446400@spmoh.com
SUMMARY:Our City Our\, Airport - Albert Whitted Documentary Showing
DESCRIPTION:Our City\, Our Airport explores the history and significance of Albert Whitted Airport from its founding in 1929 to its present role in aviation. \nProduced by Andrew Lee and Laura Landry in partnership with the Friends of Albert Whitted Airport\, this documentary celebrates the remarkable history of Albert Whitted Airport. \nFrom an early hub of Goodyear blimps and the birthplace of National Airlines\, to the home of Army Air Corps fighter training during WWII\, this small St. Petersburg airport has played a major role in the city’s growth. \n$5 admission includes Drink Ticket! \nRegister
URL:https://spmoh.com/event/our-city-our-airport-albert-whitted-documentary-showing/
LOCATION:FL
CATEGORIES:Special Event
ATTACH;FMTTYPE=image/png:https://spmoh.com/wp-content/uploads/2025/11/image-4.png
END:VEVENT
END:VCALENDAR