BEGIN:VCALENDAR
VERSION:2.0
PRODID:-//St. Petersburg Museum of History | St. Petersburg, Florida - ECPv6.15.17.1//NONSGML v1.0//EN
CALSCALE:GREGORIAN
METHOD:PUBLISH
X-WR-CALNAME:St. Petersburg Museum of History | St. Petersburg, Florida
X-ORIGINAL-URL:https://spmoh.com
X-WR-CALDESC:Events for St. Petersburg Museum of History | St. Petersburg, Florida
REFRESH-INTERVAL;VALUE=DURATION:PT1H
X-Robots-Tag:noindex
X-PUBLISHED-TTL:PT1H
BEGIN:VTIMEZONE
TZID:America/New_York
BEGIN:DAYLIGHT
TZOFFSETFROM:-0500
TZOFFSETTO:-0400
TZNAME:EDT
DTSTART:20230312T070000
END:DAYLIGHT
BEGIN:STANDARD
TZOFFSETFROM:-0400
TZOFFSETTO:-0500
TZNAME:EST
DTSTART:20231105T060000
END:STANDARD
BEGIN:DAYLIGHT
TZOFFSETFROM:-0500
TZOFFSETTO:-0400
TZNAME:EDT
DTSTART:20240310T070000
END:DAYLIGHT
BEGIN:STANDARD
TZOFFSETFROM:-0400
TZOFFSETTO:-0500
TZNAME:EST
DTSTART:20241103T060000
END:STANDARD
BEGIN:DAYLIGHT
TZOFFSETFROM:-0500
TZOFFSETTO:-0400
TZNAME:EDT
DTSTART:20250309T070000
END:DAYLIGHT
BEGIN:STANDARD
TZOFFSETFROM:-0400
TZOFFSETTO:-0500
TZNAME:EST
DTSTART:20251102T060000
END:STANDARD
END:VTIMEZONE
BEGIN:VEVENT
DTSTART;TZID=America/New_York:20240706T090000
DTEND;TZID=America/New_York:20240706T110000
DTSTAMP:20260424T113610
CREATED:20240422T140213Z
LAST-MODIFIED:20240422T140213Z
UID:13519-1720256400-1720263600@spmoh.com
SUMMARY:Historic Downtown St. Pete Trolley Tour
DESCRIPTION:Join us on Saturday\, July 6th for our 2-hour Historic Trolley Tour of downtown St. Pete! From Thrill Hill and Roser Park to Coffee Pot and Mirror Lake\, the Museum of History and Star Trolley take you on a historic trip through the rich heritage of the Sunshine City! \n  \nSeating is limited\, so reserve your spot today! \nDetails:\n\nMembers: $35 | Not-yet-members: $45\nPlease arrive 15 minutes before Trolley departure.\nThere are no refunds or exchanges for those arriving after the Trolley departs.\nTrolley Seating is extremely limited\, reserve your seats today!\n\nRegister Now
URL:https://spmoh.com/event/historic-downtown-st-pete-trolley-tour-3/
LOCATION:St. Petersburg Museum of History\, 335 2nd Ave NE\, St. Petersburg\, FL\, 33701\, United States
CATEGORIES:Trolley Tours
ATTACH;FMTTYPE=image/jpeg:https://spmoh.com/wp-content/uploads/2024/04/PXL_20240330_165223023.MP2_-scaled.jpg
ORGANIZER;CN="Museum Services":MAILTO:info@spmoh.org
END:VEVENT
BEGIN:VEVENT
DTSTART;TZID=America/New_York:20240710T183000
DTEND;TZID=America/New_York:20240710T203000
DTSTAMP:20260424T113610
CREATED:20240422T142230Z
LAST-MODIFIED:20240422T142230Z
UID:13529-1720636200-1720643400@spmoh.com
SUMMARY:A Ghostly Haunted Trolley Tour
DESCRIPTION:Join us on Wednesday\, July 10th for a ghostly haunted trolley tour of St. Petersburg! Departing from the Museum of History\, experience the creepy and dark side of the Sunshine City. Hosted by SPIRITS of St. Petersburg founder Dr. Brandy Stark\, the tour takes you through lesser-known haunts of downtown and the vastly haunted neighborhoods of Roser Park and the Old Northeast. We promise you’ll have a spooktacular time! \nReservations are required. Admission without a reservation cannot be accepted. Reservations close the day before the event or when all 28 seats are filled. \nDetails:\n\nMembers: $35 | Not-yet-members: $45\nPlease arrive 15 minutes before Trolley departure.\nThere are no refunds or exchanges for those arriving after the Trolley departs.\nTrolley Seating is extremely limited\, reserve your seats today!\n\nRegister Now
URL:https://spmoh.com/event/a-ghostly-haunted-trolley-tour-4/
LOCATION:St. Petersburg Museum of History\, 335 2nd Ave NE\, St. Petersburg\, FL\, 33701\, United States
CATEGORIES:Trolley Tours
ATTACH;FMTTYPE=image/jpeg:https://spmoh.com/wp-content/uploads/2024/04/Ghost-Trolley-Tour-Cover-Art-.jpg
ORGANIZER;CN="Museum Services":MAILTO:info@spmoh.org
END:VEVENT
BEGIN:VEVENT
DTSTART;TZID=America/New_York:20240727T090000
DTEND;TZID=America/New_York:20240727T110000
DTSTAMP:20260424T113610
CREATED:20240422T140840Z
LAST-MODIFIED:20240422T140840Z
UID:13523-1722070800-1722078000@spmoh.com
SUMMARY:Rum Runners\, Spaniards & Natives Tour of West St. Pete
DESCRIPTION:Join us on Saturday\, July 27th for a historic trolley tour of West St. Petersburg! \nRum Runners\, Spaniards & Natives historic trolley tour travels to the Jungle Prada area\, sharing stories of our first residents\, the arrival of the Spanish\, and the colorful characters that made St. Petersburg famous during prohibition. \nDetails:\n\nMembers: $35 | Not-yet-members: $45\nPlease arrive 15 minutes before Trolley departure.\nThere are no refunds or exchanges for those arriving after the Trolley departs.\nTrolley Seating is extremely limited\, reserve your seats today!\n\nRegister Now
URL:https://spmoh.com/event/rum-runners-spaniards-natives-tour-of-west-st-pete-3/
LOCATION:St. Petersburg Museum of History\, 335 2nd Ave NE\, St. Petersburg\, FL\, 33701\, United States
CATEGORIES:Trolley Tours
ATTACH;FMTTYPE=image/jpeg:https://spmoh.com/wp-content/uploads/2024/04/gangplank-2.jpg
ORGANIZER;CN="Museum Services":MAILTO:info@spmoh.org
END:VEVENT
END:VCALENDAR