BEGIN:VCALENDAR
VERSION:2.0
PRODID:-//St. Petersburg Museum of History | St. Petersburg, Florida - ECPv6.15.17.1//NONSGML v1.0//EN
CALSCALE:GREGORIAN
METHOD:PUBLISH
X-WR-CALNAME:St. Petersburg Museum of History | St. Petersburg, Florida
X-ORIGINAL-URL:https://spmoh.com
X-WR-CALDESC:Events for St. Petersburg Museum of History | St. Petersburg, Florida
REFRESH-INTERVAL;VALUE=DURATION:PT1H
X-Robots-Tag:noindex
X-PUBLISHED-TTL:PT1H
BEGIN:VTIMEZONE
TZID:America/New_York
BEGIN:DAYLIGHT
TZOFFSETFROM:-0500
TZOFFSETTO:-0400
TZNAME:EDT
DTSTART:20230312T070000
END:DAYLIGHT
BEGIN:STANDARD
TZOFFSETFROM:-0400
TZOFFSETTO:-0500
TZNAME:EST
DTSTART:20231105T060000
END:STANDARD
BEGIN:DAYLIGHT
TZOFFSETFROM:-0500
TZOFFSETTO:-0400
TZNAME:EDT
DTSTART:20240310T070000
END:DAYLIGHT
BEGIN:STANDARD
TZOFFSETFROM:-0400
TZOFFSETTO:-0500
TZNAME:EST
DTSTART:20241103T060000
END:STANDARD
BEGIN:DAYLIGHT
TZOFFSETFROM:-0500
TZOFFSETTO:-0400
TZNAME:EDT
DTSTART:20250309T070000
END:DAYLIGHT
BEGIN:STANDARD
TZOFFSETFROM:-0400
TZOFFSETTO:-0500
TZNAME:EST
DTSTART:20251102T060000
END:STANDARD
END:VTIMEZONE
BEGIN:VEVENT
DTSTART;TZID=America/New_York:20241207T090000
DTEND;TZID=America/New_York:20241207T110000
DTSTAMP:20260424T025848
CREATED:20240423T143224Z
LAST-MODIFIED:20241206T173135Z
UID:13549-1733562000-1733569200@spmoh.com
SUMMARY:Historic Civil Rights Trolley Tour
DESCRIPTION:Join us Saturday\, December 7th for a historic 2-hour tour that explores the events and venues of the Civil Rights movement in St. Petersburg. From the South Mole Beach and Spa Pool to Lunch Counter sit-ins and an act of Civil disobedience at City Hall\, the Museum of History and Star Trolley takes you on a trip through the Civil Rights history of the Sunshine City. \nDetails:\n\nMembers: $35 | Not-yet-members: $45\nPlease arrive 15 minutes before Trolley departure.\nThere are no refunds or exchanges for those arriving after the Trolley departs.\nTrolley Seating is extremely limited\, reserve your seats today!\n\nRegister Now
URL:https://spmoh.com/event/historic-civil-rights-trolley-tour/
LOCATION:St. Petersburg Museum of History\, 335 2nd Ave NE\, St. Petersburg\, FL\, 33701\, United States
CATEGORIES:Trolley Tours
ATTACH;FMTTYPE=image/jpeg:https://spmoh.com/wp-content/uploads/2024/04/Stephens-arrest-for-web-1.jpg
ORGANIZER;CN="Museum Services":MAILTO:info@spmoh.org
END:VEVENT
BEGIN:VEVENT
DTSTART;TZID=America/New_York:20241211T183000
DTEND;TZID=America/New_York:20241211T203000
DTSTAMP:20260424T025848
CREATED:20240423T142916Z
LAST-MODIFIED:20240423T142916Z
UID:13547-1733941800-1733949000@spmoh.com
SUMMARY:A Ghostly Haunted Trolley Tour
DESCRIPTION:Join us on Wednesday\, December 11th for a ghostly haunted trolley tour of St. Petersburg! \nDeparting from the Museum of History\, experience the creepy and dark side of the Sunshine City. Hosted by SPIRITS of St. Petersburg founder Dr. Brandy Stark\, the tour takes you through lesser-known haunts of downtown and the vastly haunted neighborhoods of Roser Park and the Old Northeast. We promise you’ll have a spooktacular time! \nReservations are required. Admission without a reservation cannot be accepted. Reservations close the day before the event or when all 28 seats are filled. \nDetails:\n\nMembers: $35 | Not-yet-members: $45\nPlease arrive 15 minutes before Trolley departure.\nThere are no refunds or exchanges for those arriving after the Trolley departs.\nTrolley Seating is extremely limited\, reserve your seats today!\n\nRegister Now
URL:https://spmoh.com/event/a-ghostly-haunted-trolley-tour-8/
LOCATION:St. Petersburg Museum of History\, 335 2nd Ave NE\, St. Petersburg\, FL\, 33701\, United States
CATEGORIES:Trolley Tours
ATTACH;FMTTYPE=image/jpeg:https://spmoh.com/wp-content/uploads/2024/04/Ghost-Trolley-Tour-Cover-Art-.jpg
ORGANIZER;CN="Museum Services":MAILTO:info@spmoh.org
END:VEVENT
BEGIN:VEVENT
DTSTART;TZID=America/New_York:20241221T090000
DTEND;TZID=America/New_York:20241221T110000
DTSTAMP:20260424T025848
CREATED:20240423T142553Z
LAST-MODIFIED:20241206T173410Z
UID:13543-1734771600-1734778800@spmoh.com
SUMMARY:Historic Downtown St. Pete Trolley Tour
DESCRIPTION:Join us on Saturday\, December 21st for a 2-hour Historic Trolley Tour of downtown St. Pete! \nFrom Thrill Hill and Roser Park to Coffee Pot and Mirror Lake\, the Museum of History and Star Trolley take you on a historic trip through the rich heritage of the Sunshine City! \nDetails:\n\nMembers: $35 | Not-yet-members: $45\nPlease arrive 15 minutes before Trolley departure.\nThere are no refunds or exchanges for those arriving after the Trolley departs.\nTrolley Seating is extremely limited\, reserve your seats today!\n\nRegister Now
URL:https://spmoh.com/event/historic-downtown-st-pete-trolley-tour-6/
LOCATION:St. Petersburg Museum of History\, 335 2nd Ave NE\, St. Petersburg\, FL\, 33701\, United States
CATEGORIES:Trolley Tours
ATTACH;FMTTYPE=image/jpeg:https://spmoh.com/wp-content/uploads/2024/04/PXL_20240330_165223023.MP2_-scaled.jpg
ORGANIZER;CN="Museum Services":MAILTO:info@spmoh.org
END:VEVENT
END:VCALENDAR