BEGIN:VCALENDAR
VERSION:2.0
PRODID:-//St. Petersburg Museum of History | St. Petersburg, Florida - ECPv6.15.17.1//NONSGML v1.0//EN
CALSCALE:GREGORIAN
METHOD:PUBLISH
X-ORIGINAL-URL:https://spmoh.com
X-WR-CALDESC:Events for St. Petersburg Museum of History | St. Petersburg, Florida
REFRESH-INTERVAL;VALUE=DURATION:PT1H
X-Robots-Tag:noindex
X-PUBLISHED-TTL:PT1H
BEGIN:VTIMEZONE
TZID:America/New_York
BEGIN:DAYLIGHT
TZOFFSETFROM:-0500
TZOFFSETTO:-0400
TZNAME:EDT
DTSTART:20240310T070000
END:DAYLIGHT
BEGIN:STANDARD
TZOFFSETFROM:-0400
TZOFFSETTO:-0500
TZNAME:EST
DTSTART:20241103T060000
END:STANDARD
BEGIN:DAYLIGHT
TZOFFSETFROM:-0500
TZOFFSETTO:-0400
TZNAME:EDT
DTSTART:20250309T070000
END:DAYLIGHT
BEGIN:STANDARD
TZOFFSETFROM:-0400
TZOFFSETTO:-0500
TZNAME:EST
DTSTART:20251102T060000
END:STANDARD
BEGIN:DAYLIGHT
TZOFFSETFROM:-0500
TZOFFSETTO:-0400
TZNAME:EDT
DTSTART:20260308T070000
END:DAYLIGHT
BEGIN:STANDARD
TZOFFSETFROM:-0400
TZOFFSETTO:-0500
TZNAME:EST
DTSTART:20261101T060000
END:STANDARD
END:VTIMEZONE
BEGIN:VEVENT
DTSTART;TZID=America/New_York:20250607T090000
DTEND;TZID=America/New_York:20250607T110000
DTSTAMP:20260423T172616
CREATED:20250121T161715Z
LAST-MODIFIED:20250604T150024Z
UID:14938-1749286800-1749294000@spmoh.com
SUMMARY:Historic Downtown St. Pete Trolley Tour
DESCRIPTION:Join us on Saturday\, June 7th for a Historic Trolley Tour of St. Petersburg with the Museum of History and Star Trolley! \nFrom Thrill Hill and Roser Park to Coffee Pot and Mirror Lake\, the Museum of History and Star Trolley take you on a historic trip through St. Pete’s past. \nReservations are required. Admission without a reservation cannot be accepted. Reservations close the day before the event or when all 28 seats are filled. \nDetails:\n\nMembers: $35 | Not-yet-members: $45\nPlease arrive 15 minutes before Trolley departure.\nThere are no refunds or exchanges for those arriving after the Trolley departs.\nTrolley Seating is extremely limited\, reserve your seats today!\n\nRegister Now
URL:https://spmoh.com/event/historic-downtown-st-pete-trolley-tour-10/
LOCATION:St. Petersburg Museum of History\, 335 2nd Ave NE\, St. Petersburg\, FL\, 33701\, United States
CATEGORIES:Trolley Tours
ATTACH;FMTTYPE=image/jpeg:https://spmoh.com/wp-content/uploads/2025/01/Old-Central-Ave-2.jpg
ORGANIZER;CN="Museum Services":MAILTO:info@spmoh.org
END:VEVENT
BEGIN:VEVENT
DTSTART;TZID=America/New_York:20250611T183000
DTEND;TZID=America/New_York:20250611T203000
DTSTAMP:20260423T172616
CREATED:20250122T200838Z
LAST-MODIFIED:20250604T150441Z
UID:15001-1749666600-1749673800@spmoh.com
SUMMARY:A Ghostly Haunted Trolley Tour
DESCRIPTION:Join us on Wednesday\, June 11th for a ghostly haunted trolley tour of St. Petersburg! \nDeparting from the Museum of History\, experience the creepy and dark side of the Sunshine City. Hosted by SPIRITS of St. Petersburg founder Dr. Brandy Stark\, the tour takes guests through lesser-known haunts of downtown and the vastly haunted neighborhoods of Roser Park and the Old Northeast. We promise you’ll have a spooktacular time! \nReservations are required. Admission without a reservation cannot be accepted. Reservations close the day before the event or when all 28 seats are filled. \nDetails:\n\nMembers: $35 | Not-yet-members: $45\nPlease arrive 15 minutes before Trolley departure.\nThere are no refunds or exchanges for those arriving after the Trolley departs.\nTrolley Seating is extremely limited\, reserve your seats today!\n\nRegister Now
URL:https://spmoh.com/event/a-ghostly-haunted-trolley-tour-15/
LOCATION:St. Petersburg Museum of History\, 335 2nd Ave NE\, St. Petersburg\, FL\, 33701\, United States
CATEGORIES:Trolley Tours
ATTACH;FMTTYPE=image/jpeg:https://spmoh.com/wp-content/uploads/2025/01/Copy-of-White-Simple-Reminder-Quotes-Instagram-Post-Portrait-4.jpg
ORGANIZER;CN="Museum Services":MAILTO:info@spmoh.org
END:VEVENT
BEGIN:VEVENT
DTSTART;TZID=America/New_York:20250614T090000
DTEND;TZID=America/New_York:20250614T110000
DTSTAMP:20260423T172616
CREATED:20250129T181901Z
LAST-MODIFIED:20250604T151156Z
UID:15032-1749891600-1749898800@spmoh.com
SUMMARY:Historic Baseball Trolley Tour
DESCRIPTION:Join us on Saturday\, June 14th for a trolley tour through baseball history in St. Petersburg! \nCurated by the Society for American Baseball Researchers (SABR)\, the tour will travel through the history of America’s pastime in St. Pete. Explore the training fields and facilities from 1914 to 1960\, and learn about the teams\, players\, owners and unique history of the original Spring Training destination! \nReservations are required. Admission without a reservation cannot be accepted. Reservations close the day before the event or when all 28 seats are filled. \nDetails:\n\nMembers: $35 | Not-yet-members: $45\nPlease arrive 15 minutes before Trolley departure.\nThere are no refunds or exchanges for those arriving after the Trolley departs.\nTrolley Seating is extremely limited\, reserve your seats today!\n\nRegister Now
URL:https://spmoh.com/event/historic-baseball-trolley-tour-5/
LOCATION:St. Petersburg Museum of History\, 335 2nd Ave NE\, St. Petersburg\, FL\, 33701\, United States
CATEGORIES:Trolley Tours
ATTACH;FMTTYPE=image/jpeg:https://spmoh.com/wp-content/uploads/2025/01/Baseball-.jpg
ORGANIZER;CN="Museum Services":MAILTO:info@spmoh.org
END:VEVENT
BEGIN:VEVENT
DTSTART;TZID=America/New_York:20250621T090000
DTEND;TZID=America/New_York:20250621T110000
DTSTAMP:20260423T172616
CREATED:20250121T161953Z
LAST-MODIFIED:20250604T152021Z
UID:14940-1750496400-1750503600@spmoh.com
SUMMARY:Rum Runners\, Spaniards & Natives Tour of West St. Pete
DESCRIPTION:Join us on Saturday\, June 21st for a historic trolley tour of West St. Petersburg! \nRum Runners\, Spaniards & Natives historic trolley tour travels to the Jungle Prada area\, sharing stories of our first residents\, the arrival of the Spanish\, and the colorful characters that made St. Petersburg famous during prohibition. \nReservations are required. Admission without a reservation cannot be accepted. Reservations close the day before the event or when all 28 seats are filled. \nDetails:\n\nMembers: $35 | Not-yet-members: $45\nPlease arrive 15 minutes before Trolley departure.\nThere are no refunds or exchanges for those arriving after the Trolley departs.\nTrolley Seating is extremely limited\, reserve your seats today!\n\nRegister Now
URL:https://spmoh.com/event/rum-runners-spaniards-natives-tour-of-west-st-pete-11/
LOCATION:St. Petersburg Museum of History\, 335 2nd Ave NE\, St. Petersburg\, FL\, 33701\, United States
CATEGORIES:Trolley Tours
ATTACH;FMTTYPE=image/jpeg:https://spmoh.com/wp-content/uploads/2024/04/gangplank-2.jpg
ORGANIZER;CN="Museum Services":MAILTO:info@spmoh.org
END:VEVENT
BEGIN:VEVENT
DTSTART;TZID=America/New_York:20250628T090000
DTEND;TZID=America/New_York:20250628T110000
DTSTAMP:20260423T172616
CREATED:20250121T162101Z
LAST-MODIFIED:20250604T152446Z
UID:14942-1751101200-1751108400@spmoh.com
SUMMARY:Historic Civil Rights Trolley Tour
DESCRIPTION:Join us on Saturday\, June 28th for a historic 2-hour tour that explores the events and venues of the Civil Rights movement in St. Petersburg. From the South Mole Beach and Spa Pool to Lunch Counter sit-ins and an act of Civil disobedience at City Hall\, the Museum of History and Star Trolley takes you on a trip through the Civil Rights history of the Sunshine City. \n\nMembers: $35 | Not-yet-members: $45\nPlease arrive 15 minutes before Trolley departure.\nThere are no refunds or exchanges for those arriving after the Trolley departs.\nTrolley Seating is extremely limited\, reserve your seats today!\n\nRegister Now
URL:https://spmoh.com/event/historic-civil-rights-trolley-tour-9/
LOCATION:St. Petersburg Museum of History\, 335 2nd Ave NE\, St. Petersburg\, FL\, 33701\, United States
CATEGORIES:Trolley Tours
ATTACH;FMTTYPE=image/jpeg:https://spmoh.com/wp-content/uploads/2024/04/Stephens-arrest-for-web-1.jpg
ORGANIZER;CN="Museum Services":MAILTO:info@spmoh.org
END:VEVENT
END:VCALENDAR