BEGIN:VCALENDAR
VERSION:2.0
PRODID:-//St. Petersburg Museum of History | St. Petersburg, Florida - ECPv6.15.17.1//NONSGML v1.0//EN
CALSCALE:GREGORIAN
METHOD:PUBLISH
X-WR-CALNAME:St. Petersburg Museum of History | St. Petersburg, Florida
X-ORIGINAL-URL:https://spmoh.com
X-WR-CALDESC:Events for St. Petersburg Museum of History | St. Petersburg, Florida
REFRESH-INTERVAL;VALUE=DURATION:PT1H
X-Robots-Tag:noindex
X-PUBLISHED-TTL:PT1H
BEGIN:VTIMEZONE
TZID:America/New_York
BEGIN:DAYLIGHT
TZOFFSETFROM:-0500
TZOFFSETTO:-0400
TZNAME:EDT
DTSTART:20250309T070000
END:DAYLIGHT
BEGIN:STANDARD
TZOFFSETFROM:-0400
TZOFFSETTO:-0500
TZNAME:EST
DTSTART:20251102T060000
END:STANDARD
BEGIN:DAYLIGHT
TZOFFSETFROM:-0500
TZOFFSETTO:-0400
TZNAME:EDT
DTSTART:20260308T070000
END:DAYLIGHT
BEGIN:STANDARD
TZOFFSETFROM:-0400
TZOFFSETTO:-0500
TZNAME:EST
DTSTART:20261101T060000
END:STANDARD
BEGIN:DAYLIGHT
TZOFFSETFROM:-0500
TZOFFSETTO:-0400
TZNAME:EDT
DTSTART:20270314T070000
END:DAYLIGHT
BEGIN:STANDARD
TZOFFSETFROM:-0400
TZOFFSETTO:-0500
TZNAME:EST
DTSTART:20271107T060000
END:STANDARD
END:VTIMEZONE
BEGIN:VEVENT
DTSTART;TZID=America/New_York:20260520T183000
DTEND;TZID=America/New_York:20260520T203000
DTSTAMP:20260423T042022
CREATED:20260331T143946Z
LAST-MODIFIED:20260331T143946Z
UID:16407-1779301800-1779309000@spmoh.com
SUMMARY:A Ghostly Haunted Trolley Tour
DESCRIPTION:Join us Wednesday\, May 20\, for a ghostly haunted trolley tour of St. Petersburg! \nDeparting from the Museum of History\, experience the creepy side of the Sunshine City. Hosted by SPIRITS of St. Petersburg founder Dr. Brandy Stark\, the tour takes guests through lesser-known haunts of downtown and the vastly haunted neighborhoods of Roser Park and the Old Northeast. We promise you’ll have a spooktacular time! \nSeating is limited\, so reserve your spot today! \nRegister Now
URL:https://spmoh.com/event/a-ghostly-haunted-trolley-tour-29/
LOCATION:St. Petersburg Museum of History\, 335 2nd Ave NE\, St. Petersburg\, FL\, 33701\, United States
CATEGORIES:Haunted Trolley Tour,Trolley Tours
ATTACH;FMTTYPE=image/jpeg:https://spmoh.com/wp-content/uploads/2024/10/Haunted-walking-Tour.jpg
ORGANIZER;CN="St. Petersburg Museum of History":MAILTO:info@spmoh.org
END:VEVENT
END:VCALENDAR